From mboxrd@z Thu Jan 1 00:00:00 1970 Return-Path: Received: from mails.dpdk.org (mails.dpdk.org [217.70.189.124]) by inbox.dpdk.org (Postfix) with ESMTP id 23D514627E for ; Thu, 20 Feb 2025 16:54:18 +0100 (CET) Received: from mails.dpdk.org (localhost [127.0.0.1]) by mails.dpdk.org (Postfix) with ESMTP id 0C0AF40041; Thu, 20 Feb 2025 16:54:18 +0100 (CET) Received: from mail-io1-f97.google.com (mail-io1-f97.google.com [209.85.166.97]) by mails.dpdk.org (Postfix) with ESMTP id 736954003C for ; Thu, 20 Feb 2025 16:54:16 +0100 (CET) Received: by mail-io1-f97.google.com with SMTP id ca18e2360f4ac-855d6bdfe05so6037939f.2 for ; Thu, 20 Feb 2025 07:54:16 -0800 (PST) DKIM-Signature: v=1; a=rsa-sha256; c=relaxed/relaxed; d=iol.unh.edu; s=unh-iol; t=1740066855; x=1740671655; darn=dpdk.org; h=references:in-reply-to:cc:to:from:subject:message-id:date:from:to :cc:subject:date:message-id:reply-to; bh=2MbLcvZ5zSS9yjwB0zg9lk8QzA6d9SHAVW7gf7Y/ZYs=; b=Ew2KTMZ9N4UPkR5Ffo4H7csaq+hPbWlqH1TCx81H3+Ey+O3TSMNfIayavL3Va1Smsb 9Wa3JaquR6OdEfb46/NHv6MtWadp7UCpAVDiP7nAvecyM4sMSEnaNWc8QxDQz2GIZ7jO ocpYR+jJUi8rtPHgP72teDguIlgz6vplFmqS0= X-Google-DKIM-Signature: v=1; a=rsa-sha256; c=relaxed/relaxed; d=1e100.net; s=20230601; t=1740066855; x=1740671655; h=references:in-reply-to:cc:to:from:subject:message-id:date :x-gm-message-state:from:to:cc:subject:date:message-id:reply-to; bh=2MbLcvZ5zSS9yjwB0zg9lk8QzA6d9SHAVW7gf7Y/ZYs=; b=KoSeYHwVngxVTMVbbLF3FHnlymn0eCNdS1fq4EQrlhX6US8OtDw7OCUrkcizaMcwpX joxoCT6U+PkwGXGeVC6E+vtmIhXMIw58wzKLJC36rf+XE5KICMZ7upogWz/vXOJr30BY OK1d07dkkXl6txfeZ2zH8SdwICLmzvr5S1Jga7b9dcteEX3vDwyt/whZKUaBv7YFVUxg S83zyuz2vo+f5EH+5FItvuFEz27wiWciyu9K/I6tdYEOwnrgEufL6uclFMJbsvelES+K TxOtT3K2DFPUpnKteQL+eL8e8v3/VNVD0l0g8mGJ9C/9RWYtcl3OccFS3z0PGbgOLnlb 2bfQ== X-Gm-Message-State: AOJu0Yzs1GNikZ2x2scaaMgW2yHc/rygTwmi7O/uOkg5pRc4T3ehHOpl 9vVnXjFmvUXVVsL9YoNCyrKfKYRTR45/5hUPKRfEDM5j7FCG/tI8YzopPA7KnkSvG/CdyxXrred M3wwx7TIS8l1LQqiRA6Cs0x3djlJ4mWDcBJCcQeFf X-Gm-Gg: ASbGncsu7jexTtPUfHlfSAePjd/aLy5MSszT9sZcXd3cEj+I8Rzf6jSS3Tg17ZoJ5S/ S6aiKI2MJS7JYQzGv3AiQF9qRVL0wjpHgHmlX7MWW/9gAaMI/m09UzeJyUwXAIniWga9lbQZwOI zCDGNMK5k4rDQ0s3koYEd6K9HONfjdF/PhCkHYMduAXsPDmotPl/dH3mJh9g9F7sm9pHEvIfB4o yvKGmlmuMZBlGG6lZRb4cMg3aRvyw3NaHO8cLqzDpypboTMsRfe7PeXr0njX9hVbh4eL2CK9lBl gl2tVMlwfcid+vskeNQ0Nj7JX/Ndkg== X-Google-Smtp-Source: AGHT+IE3WgJ2V5wNBBXbmMsV8SDuUt4+U1c8/q1DASY0phFZC7cZF1ijt9Nf0feGLvW8kQ1rvxMcy9YqCJMX X-Received: by 2002:a05:6602:13d0:b0:855:c259:70e7 with SMTP id ca18e2360f4ac-855c25971bbmr525506139f.11.1740066855710; Thu, 20 Feb 2025 07:54:15 -0800 (PST) Received: from postal.iol.unh.edu (postal.iol.unh.edu. [132.177.123.84]) by smtp-relay.gmail.com with ESMTPS id 8926c6da1cb9f-4eeb00ab945sm365835173.11.2025.02.20.07.54.15 (version=TLS1_2 cipher=ECDHE-ECDSA-AES128-GCM-SHA256 bits=128/128); Thu, 20 Feb 2025 07:54:15 -0800 (PST) X-Relaying-Domain: iol.unh.edu Date: Thu, 20 Feb 2025 07:54:15 -0800 (PST) Message-ID: <67b75027.050a0220.144d83.288dSMTPIN_ADDED_MISSING@mx.google.com> Received: from [172.17.0.5] (unknown [172.18.0.217]) by postal.iol.unh.edu (Postfix) with ESMTP id 3A7E06052471; Thu, 20 Feb 2025 10:54:15 -0500 (EST) Subject: |SUCCESS| pw151667-151680 [PATCH] [v2,14/14] security: remove unnece From: dpdklab@iol.unh.edu To: Test Report Cc: dpdk-test-reports@iol.unh.edu In-Reply-To: <20250220023509.630569-15-stephen@networkplumber.org> References: <20250220023509.630569-15-stephen@networkplumber.org> Content-Type: text/plain X-BeenThere: test-report@dpdk.org X-Mailman-Version: 2.1.29 Precedence: list List-Id: automatic DPDK test reports List-Unsubscribe: , List-Archive: List-Post: List-Help: List-Subscribe: , Errors-To: test-report-bounces@dpdk.org Test-Label: iol-compile-arm64-testing Test-Status: SUCCESS http://dpdk.org/patch/151680 _Testing PASS_ Submitter: Stephen Hemminger Date: Thursday, February 20 2025 02:32:18 DPDK git baseline: Repo:dpdk Branch: master CommitID:fab31a03ba98e7457284df95dd9eef2223a4ccaa 151667-151680 --> testing pass Upstream job id: Generic-DPDK-Compile-Meson#363350 Test environment and result as below: +----------------------------------------+--------------------+ | Environment | dpdk_meson_compile | +========================================+====================+ | RHEL9 (ARM) | PASS | +----------------------------------------+--------------------+ | Ubuntu 20.04 ARM GCC Cross Compile | PASS | +----------------------------------------+--------------------+ | Fedora 40 (ARM) | PASS | +----------------------------------------+--------------------+ | Ubuntu 20.04 ARM SVE | PASS | +----------------------------------------+--------------------+ | Debian 12 with MUSDK | PASS | +----------------------------------------+--------------------+ | Fedora 40 (ARM Clang) | PASS | +----------------------------------------+--------------------+ | Fedora 41 (ARM Clang) | PASS | +----------------------------------------+--------------------+ | Fedora 41 (ARM) | PASS | +----------------------------------------+--------------------+ | Ubuntu 22.04 (ARM) | PASS | +----------------------------------------+--------------------+ | Ubuntu 20.04 (ARM) | PASS | +----------------------------------------+--------------------+ | CentOS Stream 9 (ARM) | PASS | +----------------------------------------+--------------------+ | Ubuntu 24.04 (ARM) | PASS | +----------------------------------------+--------------------+ | CentOS Stream 10 (ARM) | PASS | +----------------------------------------+--------------------+ | Debian 11 (Buster) (ARM) | PASS | +----------------------------------------+--------------------+ | Debian 12 (arm) | PASS | +----------------------------------------+--------------------+ | Ubuntu 20.04 ARM Clang Cross Compile | PASS | +----------------------------------------+--------------------+ | Ubuntu 20.04 aarch32 GCC Cross Compile | PASS | +----------------------------------------+--------------------+ RHEL9 (ARM) Kernel: Depends on container host Compiler: gcc 11.5.0 20240719 (Red Hat 11.5.0-2) Ubuntu 20.04 ARM GCC Cross Compile Kernel: Depends on container host Compiler: aarch64-linux-gnu-gcc (Ubuntu 9.4.0-1ubuntu1~20.04.2) 9.4.0 Fedora 40 (ARM) Kernel: Depends on container host Compiler: gcc 14.2.1 20240912 (Red Hat 14.2.1-3) Ubuntu 20.04 ARM SVE Kernel: Depends on container host Compiler: gcc (Ubuntu 10.5.0-1ubuntu1~20.04) 10.5.0 Debian 12 with MUSDK Kernel: Depends on container host Compiler: gcc (Debian 12.2.0-14) 12.2.0 Fedora 40 (ARM Clang) Kernel: Depends on container host Compiler: clang 18.1.8 (Fedora 18.1.8-1.fc40) Fedora 41 (ARM Clang) Kernel: Depends on container host Compiler: clang 19.1.5 (Fedora 19.1.5-1.fc41) Fedora 41 (ARM) Kernel: Depends on container host Compiler: gcc 14.2.1 20240912 (Red Hat 14.2.1-3) Ubuntu 22.04 (ARM) Kernel: Depends on container host Compiler: gcc (Ubuntu 11.4.0-1ubuntu1~22.04) 11.4.0 Ubuntu 20.04 (ARM) Kernel: Depends on container host Compiler: gcc (Ubuntu 9.4.0-1ubuntu1~20.04.2) 9.4.0 CentOS Stream 9 (ARM) Kernel: Depends on container host Compiler: gcc 11.5.0 20240719 (Red Hat 11.5.0-2) Ubuntu 24.04 (ARM) Kernel: Depends on container host Compiler: gcc (Ubuntu 13.3.0-6ubuntu2~24.04) 13.3.0 CentOS Stream 10 (ARM) Kernel: Depends on container host Compiler: gcc 14.2.1 20241104 (Red Hat 14.2.1-6) Debian 11 (Buster) (ARM) Kernel: Depends on container host Compiler: gcc (Debian 10.2.1-6) 10.2.1 20210110 Debian 12 (arm) Kernel: Depends on container host Compiler: gcc (Debian 12.2.0-14) 12.2.0 Ubuntu 20.04 ARM Clang Cross Compile Kernel: Depends on container host Compiler: clang 10.0.0-4ubuntu1 Ubuntu 20.04 aarch32 GCC Cross Compile Kernel: Depends on container host Compiler: gcc 9.4.0 To view detailed results, visit: https://lab.dpdk.org/results/dashboard/patchsets/32616/ UNH-IOL DPDK Community Lab To manage your email subscriptions, visit: https://lab.dpdk.org/results/dashboard/preferences/subscriptions/