From mboxrd@z Thu Jan 1 00:00:00 1970 Return-Path: Received: from mails.dpdk.org (mails.dpdk.org [217.70.189.124]) by inbox.dpdk.org (Postfix) with ESMTP id 1FCA346280 for ; Thu, 20 Feb 2025 17:27:25 +0100 (CET) Received: from mails.dpdk.org (localhost [127.0.0.1]) by mails.dpdk.org (Postfix) with ESMTP id EFD0440292; Thu, 20 Feb 2025 17:27:24 +0100 (CET) Received: from mail-il1-f226.google.com (mail-il1-f226.google.com [209.85.166.226]) by mails.dpdk.org (Postfix) with ESMTP id 896F640041 for ; Thu, 20 Feb 2025 17:27:23 +0100 (CET) Received: by mail-il1-f226.google.com with SMTP id e9e14a558f8ab-3d193fc345aso3888195ab.2 for ; Thu, 20 Feb 2025 08:27:23 -0800 (PST) DKIM-Signature: v=1; a=rsa-sha256; c=relaxed/relaxed; d=iol.unh.edu; s=unh-iol; t=1740068843; x=1740673643; darn=dpdk.org; h=references:in-reply-to:cc:to:from:subject:message-id:date:from:to :cc:subject:date:message-id:reply-to; bh=/05kpfZbJqMMz1myV4ccPpQl/y41ry7dTnykCEDdIhg=; b=MevdI1OpSzXUmqcn9r5bdsa8vocjCChtJGhfuerPyzBoGbeGu2yEeF7SJzRRuY0ugl wKdo/j9MMtAHi3m0QDB3JB6dUkLme4yq7aKewCfAAeWcfGo0UZdVUePdy7f7AdSvEELP GSo3u/p0P3Caf4t8xQ86o7kgc62VPBuoiNP1I= X-Google-DKIM-Signature: v=1; a=rsa-sha256; c=relaxed/relaxed; d=1e100.net; s=20230601; t=1740068843; x=1740673643; h=references:in-reply-to:cc:to:from:subject:message-id:date :x-gm-message-state:from:to:cc:subject:date:message-id:reply-to; bh=/05kpfZbJqMMz1myV4ccPpQl/y41ry7dTnykCEDdIhg=; b=dsMJFEQ5MpHv1PCKSM2TYwh2JSUQNKp8FsxCncZx5go7fgVI+HsQb0Tlgqn0eqCKIB znSh9ylej8C1ms4tZ7WXm+7vwyQ+x82yqQ6FRzQZBIqIFqJhxMQzD/DUNfHaPblvquzv NTpsTHxJYOP5xWb0bYVgXyQIbVeFPThrcABL5LMYF5Sq5XY8obxYKpI3gLX0QcPEjQKj vrUDsIrPybfkj2GjmS/gihQwr+2imXCCMkyDvmLu6weUiTz7Ts8Ti21neTKrXDPsuW1e 9BLg4w5OMCKrG2Byv1KhLhP61Lqw4WclT2dXboWciwKTAQTMrZ/jgpE6e1ds9mWirVs7 OhGw== X-Gm-Message-State: AOJu0Yy5ecZQkvM4fGciTFYFtBGYSoYDA00rMQjCko1iOGNkqQ08+IYd 0HCqMzA4XAfAJPhfyrDSbrKpcw1m4HFDZYwRCKSS5jPy9VQheT2y1IDPNgBMJQwEZ0a6D3ocgeQ bS4L4oNrrseHq7YLhfD69fkBQ8ZHr+c8DxxXl3NeX X-Gm-Gg: ASbGncvFL3Maj41WRI4UlNBhujS4kxmYhlNq6MuARYzuvP5QgOriVvAe1CCW3qcXt/u EFidbHuiQmOZvqfb+aLUfnpf6xEm1dHEqI5LrD0bWRTWfwchkVj8NryHCIXBcebRxyHjr75eety 3IZCQZdKtAaeKhtOv6EMtOTB5zDK+dEyMVe/M35v1f7YuID4QVbavyb+kfcMlRipd35gElogUAL /l6zxA27OfmRUit4uy80q5T1yKL0X3GVQwxHU7G2gSILND/8k9IYznWioD7wPEvDU93PAR8l8gG C5tJw5Der5XJ642diJ3rhkByJYGGRw== X-Google-Smtp-Source: AGHT+IHej65pigLOistareIFhArS2MixcrUSCqXWZkJneU2pTmDYWoizY127GkveskDzSvCiR5KzzBQzmesu X-Received: by 2002:a05:6e02:2405:b0:3cf:bb11:a3a7 with SMTP id e9e14a558f8ab-3d2b536e1damr81075745ab.17.1740068842782; Thu, 20 Feb 2025 08:27:22 -0800 (PST) Received: from postal.iol.unh.edu (postal.iol.unh.edu. [132.177.123.84]) by smtp-relay.gmail.com with ESMTPS id e9e14a558f8ab-3d18f9a8eb0sm9489725ab.8.2025.02.20.08.27.22 (version=TLS1_2 cipher=ECDHE-ECDSA-AES128-GCM-SHA256 bits=128/128); Thu, 20 Feb 2025 08:27:22 -0800 (PST) X-Relaying-Domain: iol.unh.edu Date: Thu, 20 Feb 2025 08:27:22 -0800 (PST) Message-ID: <67b757ea.050a0220.26c972.e06fSMTPIN_ADDED_MISSING@mx.google.com> Received: from [172.21.0.6] (unknown [172.18.0.240]) by postal.iol.unh.edu (Postfix) with ESMTP id 407856052471; Thu, 20 Feb 2025 11:27:22 -0500 (EST) Subject: |SUCCESS| pw151687-151689 [PATCH] [v2,3/3] fbarray: flatten the loop From: dpdklab@iol.unh.edu To: Test Report Cc: dpdk-test-reports@iol.unh.edu In-Reply-To: References: Content-Type: text/plain X-BeenThere: test-report@dpdk.org X-Mailman-Version: 2.1.29 Precedence: list List-Id: automatic DPDK test reports List-Unsubscribe: , List-Archive: List-Post: List-Help: List-Subscribe: , Errors-To: test-report-bounces@dpdk.org Test-Label: iol-unit-arm64-testing Test-Status: SUCCESS http://dpdk.org/patch/151689 _Testing PASS_ Submitter: Anatoly Burakov Date: Thursday, February 20 2025 13:16:40 DPDK git baseline: Repo:dpdk Branch: master CommitID:fab31a03ba98e7457284df95dd9eef2223a4ccaa 151687-151689 --> testing pass Upstream job id: Generic-Unit-Test-DPDK#316596 Test environment and result as below: +-----------------------------+----------------+---------------------------+--------------+------------------------------+ | Environment | dpdk_unit_test | cryptodev_sw_zuc_autotest | lpm_autotest | cryptodev_sw_snow3g_autotest | +=============================+================+===========================+==============+==============================+ | CentOS Stream 9 (ARM) | PASS | SKIPPED | SKIPPED | SKIPPED | +-----------------------------+----------------+---------------------------+--------------+------------------------------+ | 32-bit Ubuntu 22.04.4 (ARM) | PASS | SKIPPED | SKIPPED | SKIPPED | +-----------------------------+----------------+---------------------------+--------------+------------------------------+ | CentOS Stream 10 (ARM) | PASS | SKIPPED | SKIPPED | SKIPPED | +-----------------------------+----------------+---------------------------+--------------+------------------------------+ | Debian 11 (Buster) (ARM) | PASS | SKIPPED | SKIPPED | SKIPPED | +-----------------------------+----------------+---------------------------+--------------+------------------------------+ | Fedora 40 (ARM) | PASS | SKIPPED | SKIPPED | SKIPPED | +-----------------------------+----------------+---------------------------+--------------+------------------------------+ | Fedora 40 (ARM Clang) | PASS | SKIPPED | SKIPPED | SKIPPED | +-----------------------------+----------------+---------------------------+--------------+------------------------------+ | Debian 12 (arm) | PASS | PASS | SKIPPED | PASS | +-----------------------------+----------------+---------------------------+--------------+------------------------------+ | Ubuntu 20.04 (ARM) | PASS | SKIPPED | SKIPPED | SKIPPED | +-----------------------------+----------------+---------------------------+--------------+------------------------------+ | Ubuntu 24.04 (ARM) | PASS | SKIPPED | SKIPPED | SKIPPED | +-----------------------------+----------------+---------------------------+--------------+------------------------------+ | RHEL9 (ARM) | PASS | SKIPPED | SKIPPED | SKIPPED | +-----------------------------+----------------+---------------------------+--------------+------------------------------+ | Fedora 41 (ARM Clang) | PASS | SKIPPED | SKIPPED | SKIPPED | +-----------------------------+----------------+---------------------------+--------------+------------------------------+ | Ubuntu 22.04 (ARM) | PASS | SKIPPED | SKIPPED | SKIPPED | +-----------------------------+----------------+---------------------------+--------------+------------------------------+ | Fedora 41 (ARM) | PASS | SKIPPED | SKIPPED | SKIPPED | +-----------------------------+----------------+---------------------------+--------------+------------------------------+ | Ubuntu 20.04 ARM SVE | SKIPPED | SKIPPED | PASS | SKIPPED | +-----------------------------+----------------+---------------------------+--------------+------------------------------+ CentOS Stream 9 (ARM) Kernel: Depends on container host Compiler: gcc 11.5.0 20240719 (Red Hat 11.5.0-2) 32-bit Ubuntu 22.04.4 (ARM) Kernel: 5.15.83+ aarch64 Compiler: gcc (Ubuntu 11.4.0-1ubuntu1~22.04) 11.4.0 CentOS Stream 10 (ARM) Kernel: Depends on container host Compiler: gcc 14.2.1 20241104 (Red Hat 14.2.1-6) Debian 11 (Buster) (ARM) Kernel: Depends on container host Compiler: gcc (Debian 10.2.1-6) 10.2.1 20210110 Fedora 40 (ARM) Kernel: Depends on container host Compiler: gcc 14.2.1 20240912 (Red Hat 14.2.1-3) Fedora 40 (ARM Clang) Kernel: Depends on container host Compiler: clang 18.1.8 (Fedora 18.1.8-1.fc40) Debian 12 (arm) Kernel: Depends on container host Compiler: gcc (Debian 12.2.0-14) 12.2.0 Ubuntu 20.04 (ARM) Kernel: Depends on container host Compiler: gcc (Ubuntu 9.4.0-1ubuntu1~20.04.2) 9.4.0 Ubuntu 24.04 (ARM) Kernel: Depends on container host Compiler: gcc (Ubuntu 13.3.0-6ubuntu2~24.04) 13.3.0 RHEL9 (ARM) Kernel: Depends on container host Compiler: gcc 11.5.0 20240719 (Red Hat 11.5.0-2) Fedora 41 (ARM Clang) Kernel: Depends on container host Compiler: clang 19.1.5 (Fedora 19.1.5-1.fc41) Ubuntu 22.04 (ARM) Kernel: Depends on container host Compiler: gcc (Ubuntu 11.4.0-1ubuntu1~22.04) 11.4.0 Fedora 41 (ARM) Kernel: Depends on container host Compiler: gcc 14.2.1 20240912 (Red Hat 14.2.1-3) Ubuntu 20.04 ARM SVE Kernel: Depends on container host Compiler: gcc (Ubuntu 10.5.0-1ubuntu1~20.04) 10.5.0 To view detailed results, visit: https://lab.dpdk.org/results/dashboard/patchsets/32622/ UNH-IOL DPDK Community Lab To manage your email subscriptions, visit: https://lab.dpdk.org/results/dashboard/preferences/subscriptions/