From mboxrd@z Thu Jan 1 00:00:00 1970 Return-Path: Received: from mails.dpdk.org (mails.dpdk.org [217.70.189.124]) by inbox.dpdk.org (Postfix) with ESMTP id 194D846280 for ; Thu, 20 Feb 2025 17:37:25 +0100 (CET) Received: from mails.dpdk.org (localhost [127.0.0.1]) by mails.dpdk.org (Postfix) with ESMTP id E7B65402B2; Thu, 20 Feb 2025 17:37:24 +0100 (CET) Received: from mail-yw1-f228.google.com (mail-yw1-f228.google.com [209.85.128.228]) by mails.dpdk.org (Postfix) with ESMTP id D91DB40292 for ; Thu, 20 Feb 2025 17:37:23 +0100 (CET) Received: by mail-yw1-f228.google.com with SMTP id 00721157ae682-6ef60e500d7so10008037b3.0 for ; Thu, 20 Feb 2025 08:37:23 -0800 (PST) DKIM-Signature: v=1; a=rsa-sha256; c=relaxed/relaxed; d=iol.unh.edu; s=unh-iol; t=1740069443; x=1740674243; darn=dpdk.org; h=references:in-reply-to:cc:to:from:subject:message-id:date:from:to :cc:subject:date:message-id:reply-to; bh=o8Gub+WD/TmLUBi8CjejkpxbQJzK9bE1oSlVKKQYGhw=; b=gou0v+LpGW6G7ZW6h76nkWIyCXdtoAyoaqW6rs0U55rLZrcFeTAcxdqELTjYsmg5ke /GU+2H7cf6IIJxd97DvdaaJGOAWNPHkmStMsgxK2ibbMbcbdmvAArrpTEADgLhZl0iDQ Xufnx5cQhkL7hi3MHss0wWcEQpDg18mT9fDa8= X-Google-DKIM-Signature: v=1; a=rsa-sha256; c=relaxed/relaxed; d=1e100.net; s=20230601; t=1740069443; x=1740674243; h=references:in-reply-to:cc:to:from:subject:message-id:date :x-gm-message-state:from:to:cc:subject:date:message-id:reply-to; bh=o8Gub+WD/TmLUBi8CjejkpxbQJzK9bE1oSlVKKQYGhw=; b=Jhh05lu8Q3N7t3mSTAjJcGf7MmfOaZo1zRUvzJH5vMpXBQCyiLuX4swqFWb1hX9X2h rkVD9OPIy+YyagTgLK7h9gjLyj/UwaARCRJILAYgw9Bx6ZdwojuL/2u8uvfVhR4ZSNuf pc2+WHH5X6Zx/FJn5sy2b2sLH/ndsFEfQFAooSMFQdPIWhXszQQNGl/LFZYS+QWcn29+ qyz+LorHpJNKj4TBMSPC73bYkR13iy4IqjKqNu/eD7ReLcifkLCrgM7SYHGUls4wZi0/ t0BuCsFFaSFyCK3gzeVSpsyRHHk5f+BtEdA/TiObiGZ310xcprmqfQTvdivdq5Ssry5G UyQA== X-Gm-Message-State: AOJu0Yy17qXiBMcYWPvnT3yFQ1JpqLYql7a3zqTl58+n0+vh/ukApXnD 9TxoeP0SX7aH49XTR6U3mdnN5f/wnX7xBcwgE9uZOp3+znj7+JsHSaF+OXLWUTbXSpTy6ozB3RM MnPdsa8RuuRBKQ7GMqmIs9EQSYe6+LvWssIlHhdefJQzJaw58E7EFOWqe X-Gm-Gg: ASbGncvguzfCKmYAT6b50l+DuZGuElNdJMiloMrOItpd2ogbuFpjiHalWXeREhUcw+H wp8oFaaNqbzunQQaxUQ0bBo8iDNg8H51KRTu4NBh43bUzGp7mM9kpZeTks16dFAbIB3843XbihC CUEt67DkoEwJ5hrSRKf3IUJOxDNcjnLuICyVjnNNRnc7Yikrw/hzcWnMWdq/0T3wBQw2VEiW5KV 5dWLdF65C/VozXIVvJ2deiXBo9Nk5sY+yGLIowZRu5N0IN2YJ/w2NNEK2G7YeO3J7j82puTq329 iDX6bIoPLyi0SNrecUAgO+hymq8lIPQ86BM2BQYDyw== X-Google-Smtp-Source: AGHT+IEwpQfdE7R3dBkYw7XOgFvCihXNkfeMxN8Gh5B6WAFXoABu+wVws0Ce6VdP9AuugNXrEHhx4FZIeZRC X-Received: by 2002:a05:690c:19:b0:6f6:c937:2cf4 with SMTP id 00721157ae682-6fb5831bd8dmr189064427b3.23.1740069443233; Thu, 20 Feb 2025 08:37:23 -0800 (PST) Received: from postal.iol.unh.edu (postal.iol.unh.edu. [2606:4100:3880:1234::84]) by smtp-relay.gmail.com with ESMTPS id 00721157ae682-6fb35d4ec42sm4736087b3.20.2025.02.20.08.37.23 (version=TLS1_2 cipher=ECDHE-ECDSA-AES128-GCM-SHA256 bits=128/128); Thu, 20 Feb 2025 08:37:23 -0800 (PST) X-Relaying-Domain: iol.unh.edu Date: Thu, 20 Feb 2025 08:37:23 -0800 (PST) Message-ID: <67b75a43.050a0220.32b18e.7a77SMTPIN_ADDED_MISSING@mx.google.com> Received: from [172.17.0.3] (unknown [172.18.0.217]) by postal.iol.unh.edu (Postfix) with ESMTP id E65936052471; Thu, 20 Feb 2025 11:37:22 -0500 (EST) Subject: |SUCCESS| pw151687-151689 [PATCH] [v2,3/3] fbarray: flatten the loop From: dpdklab@iol.unh.edu To: Test Report Cc: dpdk-test-reports@iol.unh.edu In-Reply-To: References: Content-Type: text/plain X-BeenThere: test-report@dpdk.org X-Mailman-Version: 2.1.29 Precedence: list List-Id: automatic DPDK test reports List-Unsubscribe: , List-Archive: List-Post: List-Help: List-Subscribe: , Errors-To: test-report-bounces@dpdk.org Test-Label: iol-unit-amd64-testing Test-Status: SUCCESS http://dpdk.org/patch/151689 _Testing PASS_ Submitter: Anatoly Burakov Date: Thursday, February 20 2025 13:16:40 DPDK git baseline: Repo:dpdk Branch: master CommitID:fab31a03ba98e7457284df95dd9eef2223a4ccaa 151687-151689 --> testing pass Upstream job id: Generic-Unit-Test-DPDK#316599 Test environment and result as below: +-------------------+----------------+ | Environment | dpdk_unit_test | +===================+================+ | Debian Bullseye | PASS | +-------------------+----------------+ | CentOS Stream 9 | PASS | +-------------------+----------------+ | Fedora 41 (Clang) | PASS | +-------------------+----------------+ | Debian 12 | PASS | +-------------------+----------------+ | Fedora 40 (Clang) | PASS | +-------------------+----------------+ | Fedora 40 | PASS | +-------------------+----------------+ | CentOS Stream 10 | PASS | +-------------------+----------------+ | RHEL8 | PASS | +-------------------+----------------+ | Fedora 41 | PASS | +-------------------+----------------+ | Ubuntu 22.04 | PASS | +-------------------+----------------+ | Ubuntu 24.04 | PASS | +-------------------+----------------+ | RHEL9 | PASS | +-------------------+----------------+ | Ubuntu 20.04 | PASS | +-------------------+----------------+ Debian Bullseye Kernel: Depends on container host Compiler: gcc (Debian 10.2.1-6) 10.2.1 20210110 CentOS Stream 9 Kernel: Depends on container host Compiler: gcc 11.5.0 20240719 (Red Hat 11.5.0-2) Fedora 41 (Clang) Kernel: Depends on container host Compiler: clang 19.1.5 (Fedora 19.1.5-1.fc41) Debian 12 Kernel: Depends on container host Compiler: gcc (Debian 12.2.0-14) 12.2.0 Fedora 40 (Clang) Kernel: Depends on container host Compiler: clang 18.1.8 (Fedora 18.1.8-1.fc40) Fedora 40 Kernel: Depends on container host Compiler: gcc 14.2.1 20240912 (Red Hat 14.2.1-3) CentOS Stream 10 Kernel: Depends on container host Compiler: gcc 14.2.1 20241104 (Red Hat 14.2.1-6) RHEL8 Kernel: Depends on container host Compiler: gcc 8.5.0 20210514 (Red Hat 8.5.0-22) Fedora 41 Kernel: Depends on container host Compiler: gcc 14.2.1 20240912 (Red Hat 14.2.1-3) Ubuntu 22.04 Kernel: Depends on container host Compiler: gcc (Ubuntu 11.4.0-1ubuntu1~22.04) 11.4.0 Ubuntu 24.04 Kernel: Depends on container host Compiler: gcc (Ubuntu 13.3.0-6ubuntu2~24.04) 13.3.0 RHEL9 Kernel: Depends on container host Compiler: gcc 11.5.0 20240719 (Red Hat 11.5.0-2) Ubuntu 20.04 Kernel: Depends on container host Compiler: gcc (Ubuntu 9.4.0-1ubuntu1~20.04.2) 9.4.0 To view detailed results, visit: https://lab.dpdk.org/results/dashboard/patchsets/32622/ UNH-IOL DPDK Community Lab To manage your email subscriptions, visit: https://lab.dpdk.org/results/dashboard/preferences/subscriptions/