From mboxrd@z Thu Jan 1 00:00:00 1970 Return-Path: Received: from mails.dpdk.org (mails.dpdk.org [217.70.189.124]) by inbox.dpdk.org (Postfix) with ESMTP id C1A1F46281 for ; Thu, 20 Feb 2025 18:32:07 +0100 (CET) Received: from mails.dpdk.org (localhost [127.0.0.1]) by mails.dpdk.org (Postfix) with ESMTP id 98F4B402C3; Thu, 20 Feb 2025 18:32:07 +0100 (CET) Received: from mail-pl1-f228.google.com (mail-pl1-f228.google.com [209.85.214.228]) by mails.dpdk.org (Postfix) with ESMTP id 76956402B2 for ; Thu, 20 Feb 2025 18:32:06 +0100 (CET) Received: by mail-pl1-f228.google.com with SMTP id d9443c01a7336-221050f3f00so26133215ad.2 for ; Thu, 20 Feb 2025 09:32:06 -0800 (PST) DKIM-Signature: v=1; a=rsa-sha256; c=relaxed/relaxed; d=iol.unh.edu; s=unh-iol; t=1740072725; x=1740677525; darn=dpdk.org; h=references:in-reply-to:cc:to:from:subject:message-id:date:from:to :cc:subject:date:message-id:reply-to; bh=wTcGVpFlupXguy1qo9hWAmja/LoJPvw6ZBI3PdPu3Vk=; b=bTa76qy5t0L0B0pMwISKLVKS6XC6qwUiAqElqt5yDNXo1u9Qhf3kdy2+R6qbQPJPSM pTJUeaPUzvXlVVKDXu4/PS2J42vEg67nucx5zjj5JfKMa5smLHc9WEehDiiebFgt4v7e pjfMaOGhwLJvj8B20Rk6oSEMcDB98lrDjCbow= X-Google-DKIM-Signature: v=1; a=rsa-sha256; c=relaxed/relaxed; d=1e100.net; s=20230601; t=1740072725; x=1740677525; h=references:in-reply-to:cc:to:from:subject:message-id:date :x-gm-message-state:from:to:cc:subject:date:message-id:reply-to; bh=wTcGVpFlupXguy1qo9hWAmja/LoJPvw6ZBI3PdPu3Vk=; b=F0trjIGIO0rld6TJO2kSdA4HbABunDaKMEOzYO4dilg6L64y3v4ZrpDtRm50nB1Sjb 06Enam49D81GkQO2qY7qWeUzUS48pPR++Fi7CZVuN9VIQzf+zMpg3z0tNN5DfCNeWNYu fy4O1UxQgGCrH/F94xD9kLZ2zB4RjDPsBQK9gjZ0qoVc2JrB4wi7zUyjJMAzooWiHBSF 3/lqkNL8yF1wf2AycOI+PD7ll71YrtdQQy7RFre+VRrLBq4oAYxkrQCis5V+OMj+Uigq lU7HWqrGgk3aLYYdyNqw4SIF5RjzGG+9I0jVU6CY3IwVTum1Ca+dusJW/VoF3vHTyw72 8qhw== X-Gm-Message-State: AOJu0YxyZh+HEx6dovhwCrURe2NheyK/h5CVmtGJoTFt5QVOcdH51yRI kT5Gb/9wW08B0Q94fn771qS7wkJi1uE8DUeAPTbQxbxOTeafcAqD+MjEvKFCehcpdaxkuZ+CWWz Xb+UDIfIU2CMZ+kqDXZa4vGmmZOchJ6mYFZfqG73bDgDRbWNB0Mu9RfO7 X-Gm-Gg: ASbGnctsPwBQhl86cTNmCJRFVEHkFg5Ub/tFGjOsAKAh+znrYyU1r5Llw+n1VJ+Fkq3 m5p2rExpXW81qDXPp5foSSgNkd7CTHuCENWt2235jrIAexNW+WOZt/4ueztm9KaBGKjzZOqiYel RnciZPRd2+c2qEIg4xOxHvLDslt+kUAgkmWJdvUzas3/JgNgXQXWZ1wyTS71qvYJ4RE0odJ32JZ pmEIsk5V31+kr9xBW6YaEJvoXWlzN42mGeRLPVb3jpFOcA0FHrVHVbgJHs58pWYDOHeVps/l5yJ WL7/n4SUUdJuwiodI1Fl/2YQbX7tCczvGoVQ1EBRoQ== X-Google-Smtp-Source: AGHT+IHZly49Q3N/7+3Cby+zdVeXzjmfQztrijt2ajEJGi+UsKDZfmsv114kdr4iM28AUOb+mODIyPn55qba X-Received: by 2002:a17:902:d4cd:b0:215:9470:7e82 with SMTP id d9443c01a7336-2219ff30c0amr14195ad.4.1740072725323; Thu, 20 Feb 2025 09:32:05 -0800 (PST) Received: from postal.iol.unh.edu (postal.iol.unh.edu. [2606:4100:3880:1234::84]) by smtp-relay.gmail.com with ESMTPS id d9443c01a7336-220d53fa1bdsm7303745ad.81.2025.02.20.09.32.05 (version=TLS1_2 cipher=ECDHE-ECDSA-AES128-GCM-SHA256 bits=128/128); Thu, 20 Feb 2025 09:32:05 -0800 (PST) X-Relaying-Domain: iol.unh.edu Date: Thu, 20 Feb 2025 09:32:05 -0800 (PST) Message-ID: <67b76715.170a0220.359988.31f8SMTPIN_ADDED_MISSING@mx.google.com> Received: from [172.21.0.7] (unknown [172.18.0.240]) by postal.iol.unh.edu (Postfix) with ESMTP id 50ACB6052472; Thu, 20 Feb 2025 12:31:56 -0500 (EST) Subject: |SUCCESS| pw151684 [PATCH] bus: invoke TAILQ_REMOVE when bus cleanup From: dpdklab@iol.unh.edu To: Test Report Cc: dpdk-test-reports@iol.unh.edu In-Reply-To: <20250220080906.49705-1-fengchengwen@huawei.com> References: <20250220080906.49705-1-fengchengwen@huawei.com> Content-Type: text/plain X-BeenThere: test-report@dpdk.org X-Mailman-Version: 2.1.29 Precedence: list List-Id: automatic DPDK test reports List-Unsubscribe: , List-Archive: List-Post: List-Help: List-Subscribe: , Errors-To: test-report-bounces@dpdk.org Test-Label: iol-compile-amd64-testing Test-Status: SUCCESS http://dpdk.org/patch/151684 _Testing PASS_ Submitter: Chengwen Feng Date: Thursday, February 20 2025 08:09:06 DPDK git baseline: Repo:dpdk Branch: master CommitID:fab31a03ba98e7457284df95dd9eef2223a4ccaa 151684 --> testing pass Upstream job id: Windows-Compile-DPDK-Native#26794 Test environment and result as below: +---------------------+--------------------+-------------------+------------------+-------------------+-------------------------+----------------------+ | Environment | dpdk_meson_compile | dpdk_compile_spdk | dpdk_compile_ovs | dpdk_msvc_compile | dpdk_llvm_clang_compile | dpdk_mingw64_compile | +=====================+====================+===================+==================+===================+=========================+======================+ | CentOS Stream 9 | PASS | PASS | SKIPPED | SKIPPED | SKIPPED | SKIPPED | +---------------------+--------------------+-------------------+------------------+-------------------+-------------------------+----------------------+ | Debian Bullseye | PASS | PASS | SKIPPED | SKIPPED | SKIPPED | SKIPPED | +---------------------+--------------------+-------------------+------------------+-------------------+-------------------------+----------------------+ | CentOS Stream 10 | PASS | SKIPPED | SKIPPED | SKIPPED | SKIPPED | SKIPPED | +---------------------+--------------------+-------------------+------------------+-------------------+-------------------------+----------------------+ | Fedora 41 (Clang) | PASS | PASS | PASS | SKIPPED | SKIPPED | SKIPPED | +---------------------+--------------------+-------------------+------------------+-------------------+-------------------------+----------------------+ | Fedora 40 (Clang) | PASS | PASS | SKIPPED | SKIPPED | SKIPPED | SKIPPED | +---------------------+--------------------+-------------------+------------------+-------------------+-------------------------+----------------------+ | Debian 12 | PASS | PASS | SKIPPED | SKIPPED | SKIPPED | SKIPPED | +---------------------+--------------------+-------------------+------------------+-------------------+-------------------------+----------------------+ | Fedora 40 | PASS | PASS | SKIPPED | SKIPPED | SKIPPED | SKIPPED | +---------------------+--------------------+-------------------+------------------+-------------------+-------------------------+----------------------+ | openSUSE Leap 15 | PASS | SKIPPED | SKIPPED | SKIPPED | SKIPPED | SKIPPED | +---------------------+--------------------+-------------------+------------------+-------------------+-------------------------+----------------------+ | RHEL8 | PASS | SKIPPED | SKIPPED | SKIPPED | SKIPPED | SKIPPED | +---------------------+--------------------+-------------------+------------------+-------------------+-------------------------+----------------------+ | RHEL9 | PASS | SKIPPED | SKIPPED | SKIPPED | SKIPPED | SKIPPED | +---------------------+--------------------+-------------------+------------------+-------------------+-------------------------+----------------------+ | Fedora 41 | PASS | PASS | PASS | SKIPPED | SKIPPED | SKIPPED | +---------------------+--------------------+-------------------+------------------+-------------------+-------------------------+----------------------+ | Ubuntu 20.04 | PASS | SKIPPED | SKIPPED | SKIPPED | SKIPPED | SKIPPED | +---------------------+--------------------+-------------------+------------------+-------------------+-------------------------+----------------------+ | Ubuntu 22.04 | PASS | PASS | SKIPPED | SKIPPED | SKIPPED | SKIPPED | +---------------------+--------------------+-------------------+------------------+-------------------+-------------------------+----------------------+ | Ubuntu 24.04 | PASS | PASS | PASS | SKIPPED | SKIPPED | SKIPPED | +---------------------+--------------------+-------------------+------------------+-------------------+-------------------------+----------------------+ | Alpine | PASS | SKIPPED | SKIPPED | SKIPPED | SKIPPED | SKIPPED | +---------------------+--------------------+-------------------+------------------+-------------------+-------------------------+----------------------+ | FreeBSD 13.4 | PASS | SKIPPED | SKIPPED | SKIPPED | SKIPPED | SKIPPED | +---------------------+--------------------+-------------------+------------------+-------------------+-------------------------+----------------------+ | FreeBSD 14.2 | PASS | SKIPPED | SKIPPED | SKIPPED | SKIPPED | SKIPPED | +---------------------+--------------------+-------------------+------------------+-------------------+-------------------------+----------------------+ | Windows Server 2022 | SKIPPED | SKIPPED | SKIPPED | PASS | PASS | PASS | +---------------------+--------------------+-------------------+------------------+-------------------+-------------------------+----------------------+ CentOS Stream 9 Kernel: Depends on container host Compiler: gcc 11.5.0 20240719 (Red Hat 11.5.0-2) Debian Bullseye Kernel: Depends on container host Compiler: gcc (Debian 10.2.1-6) 10.2.1 20210110 CentOS Stream 10 Kernel: Depends on container host Compiler: gcc 14.2.1 20241104 (Red Hat 14.2.1-6) Fedora 41 (Clang) Kernel: Depends on container host Compiler: clang 19.1.5 (Fedora 19.1.5-1.fc41) Fedora 40 (Clang) Kernel: Depends on container host Compiler: clang 18.1.8 (Fedora 18.1.8-1.fc40) Debian 12 Kernel: Depends on container host Compiler: gcc (Debian 12.2.0-14) 12.2.0 Fedora 40 Kernel: Depends on container host Compiler: gcc 14.2.1 20240912 (Red Hat 14.2.1-3) openSUSE Leap 15 Kernel: Depends on container host Compiler: gcc (SUSE Linux) 7.5.0 RHEL8 Kernel: Depends on container host Compiler: gcc 8.5.0 20210514 (Red Hat 8.5.0-22) RHEL9 Kernel: Depends on container host Compiler: gcc 11.5.0 20240719 (Red Hat 11.5.0-2) Fedora 41 Kernel: Depends on container host Compiler: gcc 14.2.1 20240912 (Red Hat 14.2.1-3) Ubuntu 20.04 Kernel: Depends on container host Compiler: gcc (Ubuntu 9.4.0-1ubuntu1~20.04.2) 9.4.0 Ubuntu 22.04 Kernel: Depends on container host Compiler: gcc (Ubuntu 11.4.0-1ubuntu1~22.04) 11.4.0 Ubuntu 24.04 Kernel: Depends on container host Compiler: gcc (Ubuntu 13.3.0-6ubuntu2~24.04) 13.3.0 Alpine Kernel: Depends on container host Compiler: gcc (Alpine 14.2.0) 14.2.0 FreeBSD 13.4 Kernel: 13.4-RELEASE-p1 Compiler: clang 18.1.6 FreeBSD 14.2 Kernel: 14.2-RELEASE Compiler: clang 18.1.6 Windows Server 2022 Kernel: 10.0.20348.2031 Compiler: clang 15.0.7, gcc 14.1.0 (MinGW), and MSVC VS 19.39.33521 To view detailed results, visit: https://lab.dpdk.org/results/dashboard/patchsets/32619/ UNH-IOL DPDK Community Lab To manage your email subscriptions, visit: https://lab.dpdk.org/results/dashboard/preferences/subscriptions/