From mboxrd@z Thu Jan 1 00:00:00 1970 Return-Path: Received: from mails.dpdk.org (mails.dpdk.org [217.70.189.124]) by inbox.dpdk.org (Postfix) with ESMTP id 4C56546281 for ; Thu, 20 Feb 2025 18:36:29 +0100 (CET) Received: from mails.dpdk.org (localhost [127.0.0.1]) by mails.dpdk.org (Postfix) with ESMTP id 25799402C3; Thu, 20 Feb 2025 18:36:29 +0100 (CET) Received: from mail-oo1-f98.google.com (mail-oo1-f98.google.com [209.85.161.98]) by mails.dpdk.org (Postfix) with ESMTP id 39F45402B2 for ; Thu, 20 Feb 2025 18:36:27 +0100 (CET) Received: by mail-oo1-f98.google.com with SMTP id 006d021491bc7-5f89aa7a101so479355eaf.2 for ; Thu, 20 Feb 2025 09:36:27 -0800 (PST) DKIM-Signature: v=1; a=rsa-sha256; c=relaxed/relaxed; d=iol.unh.edu; s=unh-iol; t=1740072986; x=1740677786; darn=dpdk.org; h=references:in-reply-to:cc:to:from:subject:message-id:date:from:to :cc:subject:date:message-id:reply-to; bh=1LtwyomYUEPZdRIQJ6k384yk/H1OSxoH9tlRYj4vPW4=; b=adbTupTHlvYIAeahjDmN015Xm5aE8wrghmUbGdfGWoKpVbtZq2ae49nuQS0+DDOqsB ByImkfMFvUMLonPazw4NFD5SLmQD6ON2pruPydJGDJBpIcMJPde87u4jYhP10WdWYK2E 9MSK+Tx62gxx6WWUYSSk18MGx+1JlJ+PM+Kr8= X-Google-DKIM-Signature: v=1; a=rsa-sha256; c=relaxed/relaxed; d=1e100.net; s=20230601; t=1740072986; x=1740677786; h=references:in-reply-to:cc:to:from:subject:message-id:date :x-gm-message-state:from:to:cc:subject:date:message-id:reply-to; bh=1LtwyomYUEPZdRIQJ6k384yk/H1OSxoH9tlRYj4vPW4=; b=jYCEGElbO1A2L2xIgl0YZ1nkgvOm4GDCkdUzhYZ8ajO7mqhZmNwiDDWwLBDH1iOFRh IAWzFJRs68el9LdELFc1zaoANdPFf+x60yeQC4JPc51nF7szZMnTbA36FrCvkLw/lZ16 07p2ZfwhUYGYoZdnqFlJ/ZMxwDfBpx6kPFrjONAYx/zwFGw2CvsTJNF9+x+9cyvIMFRi tQKu8sytciwov1aE5tE3C4MWXeAue1MnsvUYJxL8y3DWki4fwLT1Wmkg0YcXkuzFdPoU h87z6S49rkNvri6taJNgpoyOOUPJXlE/DdRLrf30qwdHMSVoxCrGLfjxtYbyxlsg9DCK 5pQg== X-Gm-Message-State: AOJu0YyW4y0ktCakiqMnbHPH/AI2nXoOced2zOw2FHmQOSDAonxpyuNJ hlIryhd2yslWR3rA6lJQ0nOXw9a5B1zMpdgFHdT7NEGjiLdAJfZi57mvkSUGRuDgtHPZay4qYJ7 dM5vspI76IY2K8H2e9zMXu7ODya4BNOhP5BF3BI0RiM7zs0/agafHH6FM X-Gm-Gg: ASbGncusw8dHZEzk8EJccyB4TH8tfnRInuo003PTdDjhGKvb2+qIGuwxQCYsKZjTFAm i1mJI55junLWaHJza9/j+gz4zo8G6u9z9rhYvQyh0dFdUGfx4X/rOkl7qDPmTJxg/fb5wEkNa0H PSh+QE4XhR+VdXyIGWupFrwX5esg9PlGEaPNnwtPZPl6WIhqg4tE838Ih9mUAwEs6rgPiURA2zM sHQoUmf/iDOb09UEUxmhBM4d2dDAgAiBrtIGLTOwdk9gTDGQWWWKnGeQAgLZfgzNkSNKpcEamT/ xsOIs1fWRAuW1fZ8AoNdcZelFVYgrowr0KAje8KiQw== X-Google-Smtp-Source: AGHT+IEDIELSCjPlWuUJnXCUh5o0o5N6QUOh8a1BR0zEAzUAjbmCBrSWY52jFO4/A13B7tYinLDjURJ/zNzv X-Received: by 2002:a4a:e84c:0:b0:5fc:f9b4:7f4e with SMTP id 006d021491bc7-5fd19394de9mr235237eaf.0.1740072986515; Thu, 20 Feb 2025 09:36:26 -0800 (PST) Received: from postal.iol.unh.edu (postal.iol.unh.edu. [2606:4100:3880:1234::84]) by smtp-relay.gmail.com with ESMTPS id 006d021491bc7-5fce6d83c71sm296019eaf.7.2025.02.20.09.36.26 (version=TLS1_2 cipher=ECDHE-ECDSA-AES128-GCM-SHA256 bits=128/128); Thu, 20 Feb 2025 09:36:26 -0800 (PST) X-Relaying-Domain: iol.unh.edu Date: Thu, 20 Feb 2025 09:36:26 -0800 (PST) Message-ID: <67b7681a.050a0220.4615d.efa2SMTPIN_ADDED_MISSING@mx.google.com> Received: from [172.21.0.7] (unknown [172.18.0.240]) by postal.iol.unh.edu (Postfix) with ESMTP id 75CF26052471; Thu, 20 Feb 2025 12:36:23 -0500 (EST) Subject: |SUCCESS| pw151667-151680 [PATCH] [v2,14/14] security: remove unnece From: dpdklab@iol.unh.edu To: Test Report Cc: dpdk-test-reports@iol.unh.edu In-Reply-To: <20250220023509.630569-15-stephen@networkplumber.org> References: <20250220023509.630569-15-stephen@networkplumber.org> Content-Type: text/plain X-BeenThere: test-report@dpdk.org X-Mailman-Version: 2.1.29 Precedence: list List-Id: automatic DPDK test reports List-Unsubscribe: , List-Archive: List-Post: List-Help: List-Subscribe: , Errors-To: test-report-bounces@dpdk.org Test-Label: iol-sample-apps-testing Test-Status: SUCCESS http://dpdk.org/patch/151680 _Testing PASS_ Submitter: Stephen Hemminger Date: Thursday, February 20 2025 02:32:18 DPDK git baseline: Repo:dpdk Branch: master CommitID:fab31a03ba98e7457284df95dd9eef2223a4ccaa 151667-151680 --> testing pass Upstream job id: ACVP-FIPS-testing#8972 Test environment and result as below: +--------------------+----------------------+----------------------+ | Environment | compressdev_zlib_pmd | dpdk_fips_validation | +====================+======================+======================+ | Ubuntu 22.04 (ARM) | PASS | SKIPPED | +--------------------+----------------------+----------------------+ | Ubuntu 22.04 | PASS | SKIPPED | +--------------------+----------------------+----------------------+ | Ubuntu 20.04 | SKIPPED | PASS | +--------------------+----------------------+----------------------+ Ubuntu 22.04 (ARM) Kernel: 5.15.0-97-generic Compiler: gcc gcc (Ubuntu 11.4.0-1ubuntu1~22.04) 11.4.0 Ubuntu 22.04 Kernel: 5.15.0-100-generic Compiler: gcc gcc (Ubuntu 11.4.0-1ubuntu1~22.04) 11.4.0 Ubuntu 20.04 Kernel: Depends on container host Compiler: gcc (Ubuntu 9.4.0-1ubuntu1~20.04.2) 9.4.0 To view detailed results, visit: https://lab.dpdk.org/results/dashboard/patchsets/32616/ UNH-IOL DPDK Community Lab To manage your email subscriptions, visit: https://lab.dpdk.org/results/dashboard/preferences/subscriptions/