From mboxrd@z Thu Jan 1 00:00:00 1970 Return-Path: Received: from mails.dpdk.org (mails.dpdk.org [217.70.189.124]) by inbox.dpdk.org (Postfix) with ESMTP id 0072046283 for ; Thu, 20 Feb 2025 19:33:28 +0100 (CET) Received: from mails.dpdk.org (localhost [127.0.0.1]) by mails.dpdk.org (Postfix) with ESMTP id EFD57402DA; Thu, 20 Feb 2025 19:33:28 +0100 (CET) Received: from mail-pl1-f228.google.com (mail-pl1-f228.google.com [209.85.214.228]) by mails.dpdk.org (Postfix) with ESMTP id 83C4840263 for ; Thu, 20 Feb 2025 19:33:27 +0100 (CET) Received: by mail-pl1-f228.google.com with SMTP id d9443c01a7336-2210d92292eso36930775ad.1 for ; Thu, 20 Feb 2025 10:33:27 -0800 (PST) DKIM-Signature: v=1; a=rsa-sha256; c=relaxed/relaxed; d=iol.unh.edu; s=unh-iol; t=1740076406; x=1740681206; darn=dpdk.org; h=references:in-reply-to:cc:to:from:subject:message-id:date:from:to :cc:subject:date:message-id:reply-to; bh=0fQ8+E6S24L3xJct+tTKmbXSCHkbYKsQuV0aRWM7X1s=; b=hoiJqBTlLTrF0x4Wm1tjU8K03tHXEjcY8yEwkCrZYWj1bGSUZBBVZ0TfzUfGBoCaa3 NojZ1x7aKCBCyAwmViS9YlO9t/bxAfqZjSlPBlGDuFfV+8U1Z036q8GQc+g8XSbHMGYY mGyWVNFzNF2HG04favSuRUBsaVnJUFQYr+s9M= X-Google-DKIM-Signature: v=1; a=rsa-sha256; c=relaxed/relaxed; d=1e100.net; s=20230601; t=1740076406; x=1740681206; h=references:in-reply-to:cc:to:from:subject:message-id:date :x-gm-message-state:from:to:cc:subject:date:message-id:reply-to; bh=0fQ8+E6S24L3xJct+tTKmbXSCHkbYKsQuV0aRWM7X1s=; b=drgsXuQvJ25058DX7yiSBoA8VPK3ui/PaOk9wFs0S11yfboXe+6TLCxHJyV+Qif7EP CoF6K3BCDdmbmUmc0d1KjRphtY2W5rdzlu3ZqiVdg2Rf0dEYUpFFE+hhtnPnr4JeCW66 chk9GniyaN5Xxfkq6YhDodGPP65OGteVcp20FidawLEqJ9xik25U1fV1sttC/HmwAM4D mYjHX/56NLLCacPBZhk+YppsVXdEo00cdoog8slX8VJ1MbGzP326ZKyXuoglBk8vIje8 ju2xuYq/GzxJRA4YPo/u4MDxcPVGeB3U6/Oo/NjxrV5/E5uvtv+wI4nqTrg3P43h1rc2 xkzg== X-Gm-Message-State: AOJu0YxI2Gu4yT25uLa2R9/rsFeOQJUMagaNijXgCDBCoJ9p5eQb6s0H /JeB1lVNDjZmvsOl3jRfIpTjTL465KqS5CRbSoSu5qRJTbyIS0Wbbbcp2cBWynxujMms5oc36fv h2q4lUUuXQ1dBe/iEjMJ1nnC/5nKUisU3t76ewM+m X-Gm-Gg: ASbGncsTUoFf3YMxywvPO4eNrZN5hEy2boSKVJXUoq+bA9rh018XTk0Fcv9+EJ1QW1e hsaXtxFMWtkdBXelWIT+ybomEH1Ob65uMe8uLV9bzaL2NmY6j1hdqiXIVJ0C7OKD4N8b8MSjzbh JjMZOQqdqyylLz7PEO45p5mdLSEb39PPmEaqPIpMVUZWK2FFTIdRO2SiFKuLu3Rb/ZdfqgaHpTm PURPSn1ZE7O3ezrF2p7laKstT9gqOjkv1HOD5R+1jRN2N2IpSCU5JjZChktMvar8Jk2IReyHBP6 /xFv4+qUTTALpblh8Gyo7hexh5lRzw== X-Google-Smtp-Source: AGHT+IEVaBJCawyw0FgCAqMdrr6QoRhhkcD8GSFoe2uA8J6y0WgApWxWEQ9vIXWSeLmystu4kdQSiS595UVM X-Received: by 2002:a17:902:da8e:b0:212:63db:bb15 with SMTP id d9443c01a7336-2219ffc788cmr2716935ad.38.1740076406260; Thu, 20 Feb 2025 10:33:26 -0800 (PST) Received: from postal.iol.unh.edu (postal.iol.unh.edu. [132.177.123.84]) by smtp-relay.gmail.com with ESMTPS id d9443c01a7336-220d53fa22csm7647265ad.86.2025.02.20.10.33.26 (version=TLS1_2 cipher=ECDHE-ECDSA-AES128-GCM-SHA256 bits=128/128); Thu, 20 Feb 2025 10:33:26 -0800 (PST) X-Relaying-Domain: iol.unh.edu Date: Thu, 20 Feb 2025 10:33:26 -0800 (PST) Message-ID: <67b77576.170a0220.34c5ed.6486SMTPIN_ADDED_MISSING@mx.google.com> Received: from [172.17.0.5] (unknown [172.18.0.217]) by postal.iol.unh.edu (Postfix) with ESMTP id CF6416052471; Thu, 20 Feb 2025 13:33:22 -0500 (EST) Subject: |SUCCESS| pw151687-151689 [PATCH] [v2,3/3] fbarray: flatten the loop From: dpdklab@iol.unh.edu To: Test Report Cc: dpdk-test-reports@iol.unh.edu In-Reply-To: References: Content-Type: text/plain X-BeenThere: test-report@dpdk.org X-Mailman-Version: 2.1.29 Precedence: list List-Id: automatic DPDK test reports List-Unsubscribe: , List-Archive: List-Post: List-Help: List-Subscribe: , Errors-To: test-report-bounces@dpdk.org Test-Label: iol-compile-amd64-testing Test-Status: SUCCESS http://dpdk.org/patch/151689 _Testing PASS_ Submitter: Anatoly Burakov Date: Thursday, February 20 2025 13:16:40 DPDK git baseline: Repo:dpdk Branch: master CommitID:fab31a03ba98e7457284df95dd9eef2223a4ccaa 151687-151689 --> testing pass Upstream job id: Windows-Compile-DPDK-Native#26796 Test environment and result as below: +---------------------+--------------------+-------------------+------------------+-------------------+----------------------+ | Environment | dpdk_meson_compile | dpdk_compile_spdk | dpdk_compile_ovs | dpdk_msvc_compile | dpdk_mingw64_compile | +=====================+====================+===================+==================+===================+======================+ | CentOS Stream 9 | PASS | PASS | SKIPPED | SKIPPED | SKIPPED | +---------------------+--------------------+-------------------+------------------+-------------------+----------------------+ | CentOS Stream 10 | PASS | SKIPPED | SKIPPED | SKIPPED | SKIPPED | +---------------------+--------------------+-------------------+------------------+-------------------+----------------------+ | Debian Bullseye | PASS | PASS | SKIPPED | SKIPPED | SKIPPED | +---------------------+--------------------+-------------------+------------------+-------------------+----------------------+ | Debian 12 | PASS | PASS | SKIPPED | SKIPPED | SKIPPED | +---------------------+--------------------+-------------------+------------------+-------------------+----------------------+ | Fedora 40 | PASS | PASS | SKIPPED | SKIPPED | SKIPPED | +---------------------+--------------------+-------------------+------------------+-------------------+----------------------+ | Fedora 41 (Clang) | PASS | PASS | PASS | SKIPPED | SKIPPED | +---------------------+--------------------+-------------------+------------------+-------------------+----------------------+ | Fedora 40 (Clang) | PASS | PASS | SKIPPED | SKIPPED | SKIPPED | +---------------------+--------------------+-------------------+------------------+-------------------+----------------------+ | RHEL9 | PASS | SKIPPED | SKIPPED | SKIPPED | SKIPPED | +---------------------+--------------------+-------------------+------------------+-------------------+----------------------+ | openSUSE Leap 15 | PASS | SKIPPED | SKIPPED | SKIPPED | SKIPPED | +---------------------+--------------------+-------------------+------------------+-------------------+----------------------+ | RHEL8 | PASS | SKIPPED | SKIPPED | SKIPPED | SKIPPED | +---------------------+--------------------+-------------------+------------------+-------------------+----------------------+ | Fedora 41 | PASS | PASS | PASS | SKIPPED | SKIPPED | +---------------------+--------------------+-------------------+------------------+-------------------+----------------------+ | Ubuntu 20.04 | PASS | SKIPPED | SKIPPED | SKIPPED | SKIPPED | +---------------------+--------------------+-------------------+------------------+-------------------+----------------------+ | Ubuntu 22.04 | PASS | PASS | SKIPPED | SKIPPED | SKIPPED | +---------------------+--------------------+-------------------+------------------+-------------------+----------------------+ | Ubuntu 24.04 | PASS | PASS | PASS | SKIPPED | SKIPPED | +---------------------+--------------------+-------------------+------------------+-------------------+----------------------+ | Alpine | PASS | SKIPPED | SKIPPED | SKIPPED | SKIPPED | +---------------------+--------------------+-------------------+------------------+-------------------+----------------------+ | FreeBSD 13.4 | PASS | SKIPPED | SKIPPED | SKIPPED | SKIPPED | +---------------------+--------------------+-------------------+------------------+-------------------+----------------------+ | FreeBSD 14.2 | PASS | SKIPPED | SKIPPED | SKIPPED | SKIPPED | +---------------------+--------------------+-------------------+------------------+-------------------+----------------------+ | Windows Server 2022 | SKIPPED | SKIPPED | SKIPPED | PASS | PASS | +---------------------+--------------------+-------------------+------------------+-------------------+----------------------+ CentOS Stream 9 Kernel: Depends on container host Compiler: gcc 11.5.0 20240719 (Red Hat 11.5.0-2) CentOS Stream 10 Kernel: Depends on container host Compiler: gcc 14.2.1 20241104 (Red Hat 14.2.1-6) Debian Bullseye Kernel: Depends on container host Compiler: gcc (Debian 10.2.1-6) 10.2.1 20210110 Debian 12 Kernel: Depends on container host Compiler: gcc (Debian 12.2.0-14) 12.2.0 Fedora 40 Kernel: Depends on container host Compiler: gcc 14.2.1 20240912 (Red Hat 14.2.1-3) Fedora 41 (Clang) Kernel: Depends on container host Compiler: clang 19.1.5 (Fedora 19.1.5-1.fc41) Fedora 40 (Clang) Kernel: Depends on container host Compiler: clang 18.1.8 (Fedora 18.1.8-1.fc40) RHEL9 Kernel: Depends on container host Compiler: gcc 11.5.0 20240719 (Red Hat 11.5.0-2) openSUSE Leap 15 Kernel: Depends on container host Compiler: gcc (SUSE Linux) 7.5.0 RHEL8 Kernel: Depends on container host Compiler: gcc 8.5.0 20210514 (Red Hat 8.5.0-22) Fedora 41 Kernel: Depends on container host Compiler: gcc 14.2.1 20240912 (Red Hat 14.2.1-3) Ubuntu 20.04 Kernel: Depends on container host Compiler: gcc (Ubuntu 9.4.0-1ubuntu1~20.04.2) 9.4.0 Ubuntu 22.04 Kernel: Depends on container host Compiler: gcc (Ubuntu 11.4.0-1ubuntu1~22.04) 11.4.0 Ubuntu 24.04 Kernel: Depends on container host Compiler: gcc (Ubuntu 13.3.0-6ubuntu2~24.04) 13.3.0 Alpine Kernel: Depends on container host Compiler: gcc (Alpine 14.2.0) 14.2.0 FreeBSD 13.4 Kernel: 13.4-RELEASE-p1 Compiler: clang 18.1.6 FreeBSD 14.2 Kernel: 14.2-RELEASE Compiler: clang 18.1.6 Windows Server 2022 Kernel: 10.0.20348.2031 Compiler: clang 15.0.7, gcc 14.1.0 (MinGW), and MSVC VS 19.39.33521 To view detailed results, visit: https://lab.dpdk.org/results/dashboard/patchsets/32622/ UNH-IOL DPDK Community Lab To manage your email subscriptions, visit: https://lab.dpdk.org/results/dashboard/preferences/subscriptions/