From mboxrd@z Thu Jan 1 00:00:00 1970 Return-Path: Received: from mails.dpdk.org (mails.dpdk.org [217.70.189.124]) by inbox.dpdk.org (Postfix) with ESMTP id 04E4B46282 for ; Thu, 20 Feb 2025 20:37:52 +0100 (CET) Received: from mails.dpdk.org (localhost [127.0.0.1]) by mails.dpdk.org (Postfix) with ESMTP id D16884026D; Thu, 20 Feb 2025 20:37:52 +0100 (CET) Received: from mail-pl1-f226.google.com (mail-pl1-f226.google.com [209.85.214.226]) by mails.dpdk.org (Postfix) with ESMTP id 4A9B440263 for ; Thu, 20 Feb 2025 20:37:51 +0100 (CET) Received: by mail-pl1-f226.google.com with SMTP id d9443c01a7336-220d132f16dso21539035ad.0 for ; Thu, 20 Feb 2025 11:37:51 -0800 (PST) DKIM-Signature: v=1; a=rsa-sha256; c=relaxed/relaxed; d=iol.unh.edu; s=unh-iol; t=1740080270; x=1740685070; darn=dpdk.org; h=references:in-reply-to:cc:to:from:subject:message-id:date:from:to :cc:subject:date:message-id:reply-to; bh=q3VAPOPJ9y/xAHgNsO4DC1M3HO3Zre02rUg7UT3TUGc=; b=DOc6Gwt4DbrdHfRxSSTW94Q7jok73WP+w6sUC2ZCwJ1daZWAVncqYzETkiux86/caa z3Fb/AFQO1kvNZbl6Zlakw/wwgCuPdSmoT3XIsY813lierePTW0xsTzaLC/aYfoW2CUh IcmR9nakuUB16DUT6Ah++sJ6x70Ctc7eHQBio= X-Google-DKIM-Signature: v=1; a=rsa-sha256; c=relaxed/relaxed; d=1e100.net; s=20230601; t=1740080270; x=1740685070; h=references:in-reply-to:cc:to:from:subject:message-id:date :x-gm-message-state:from:to:cc:subject:date:message-id:reply-to; bh=q3VAPOPJ9y/xAHgNsO4DC1M3HO3Zre02rUg7UT3TUGc=; b=YLzGAUPtSv6lhnHwJ1P+WlUY603rlkQg1Bx8kDrod0nlHwVhEfJpr9ADSGDrjm0JBI boGguMaNqVG1R+yjbNBicO4gVXqvMFRGOJOVeqpepigMwvT6N7PsNR0g+2XnfAvkAuDJ iyxTDiOn8tmQ/iHoxqRJNYWMc0EgW01dHnvsEtJD2KU9dZlGDCczxU60P4tMMt9m3Oj9 NZTgw+wlE+69lKr7oi1FDOwiqT5ot6eGJuOT7UvBSgrsqBjvc7RSEaDYTp1ywbtdhDPJ CmXBjL+ovilXYnIxuxJhh8Kcl1AoZuEt3p3I+8bSVsQUwdH+tW4cWF50i0HPaijQqCF5 reQg== X-Gm-Message-State: AOJu0Yy52drssHFUBDaO5hSulgQlJ57+6lTUJy0u8Wot4nnFXHrPnMzj v6NItznrfC+CH7JA2JAaaUFBeB1hfhyYe2AHAA+FZR0N+sKIV77W5RIDopggemFDSQHkTPVG1OY YA/wyf4iPE3DRmo+KYnkN7E34ibRKdffI/pvPXBBM8nPNpF2x6E74mi2T X-Gm-Gg: ASbGncsUseA2pJdkv74sFA0+BFbdGeLzi6W9ZN51V44G0q0BN69cPWy4m7FPzhxyvjQ zkbsp5RnJJK+ajuMBfFId+HXX6B2qGQjV3W2jy2+B1+ylVOtnVsQL4K8AG8hf8zyREtyOu4oKh+ fTTCh2iFKnzdMR89AfRhEm6MysTVNR19lRRjvWxFD7PESOuOjaJ+/aPXY61Isv1l43cECPgxrZT JgeEqUhFkaT73WQuO3diMjv0okCKkxy+BRGxoKn32ysxz12GQEgyhcwkh1pjU5HlpzUyIAPmo1s gPXdRAya8tEaoyXNKbJfbvWJZ9jgn/vQ3I00FXb23A== X-Google-Smtp-Source: AGHT+IFXM0AeXkdccODXjfr0daAru+A0QidLOBi6UwVPva3SqpFV3+MLghgsP/V0uk49+cAjObcdC2BIn12n X-Received: by 2002:a17:902:d4cf:b0:21d:cd54:c7ef with SMTP id d9443c01a7336-2219ff31902mr5488565ad.9.1740080270228; Thu, 20 Feb 2025 11:37:50 -0800 (PST) Received: from postal.iol.unh.edu (postal.iol.unh.edu. [2606:4100:3880:1234::84]) by smtp-relay.gmail.com with ESMTPS id d9443c01a7336-2211b71363dsm4813765ad.49.2025.02.20.11.37.49 (version=TLS1_2 cipher=ECDHE-ECDSA-AES128-GCM-SHA256 bits=128/128); Thu, 20 Feb 2025 11:37:49 -0800 (PST) X-Relaying-Domain: iol.unh.edu Date: Thu, 20 Feb 2025 11:37:49 -0800 (PST) Message-ID: <67b7848d.170a0220.24a721.7acbSMTPIN_ADDED_MISSING@mx.google.com> Received: from [172.21.0.7] (unknown [172.18.0.240]) by postal.iol.unh.edu (Postfix) with ESMTP id 04F1E6052471; Thu, 20 Feb 2025 14:37:46 -0500 (EST) Subject: |SUCCESS| pw151691-151705 [PATCH] [v9,15/15] devtools/cocci: add scr From: dpdklab@iol.unh.edu To: Test Report Cc: dpdk-test-reports@iol.unh.edu In-Reply-To: <20250220164151.9606-16-stephen@networkplumber.org> References: <20250220164151.9606-16-stephen@networkplumber.org> Content-Type: text/plain X-BeenThere: test-report@dpdk.org X-Mailman-Version: 2.1.29 Precedence: list List-Id: automatic DPDK test reports List-Unsubscribe: , List-Archive: List-Post: List-Help: List-Subscribe: , Errors-To: test-report-bounces@dpdk.org Test-Label: iol-abi-testing Test-Status: SUCCESS http://dpdk.org/patch/151705 _Testing PASS_ Submitter: Stephen Hemminger Date: Thursday, February 20 2025 16:27:21 DPDK git baseline: Repo:dpdk Branch: master CommitID:fab31a03ba98e7457284df95dd9eef2223a4ccaa 151691-151705 --> testing pass Upstream job id: Generic-DPDK-Compile-ABI#116946 Test environment and result as below: +-------------------+----------+ | Environment | abi_test | +===================+==========+ | CentOS Stream 9 | PASS | +-------------------+----------+ | CentOS Stream 10 | PASS | +-------------------+----------+ | Debian 12 | PASS | +-------------------+----------+ | Fedora 41 | PASS | +-------------------+----------+ | Debian Bullseye | PASS | +-------------------+----------+ | Fedora 40 | PASS | +-------------------+----------+ | Fedora 40 (Clang) | PASS | +-------------------+----------+ | Fedora 41 (Clang) | PASS | +-------------------+----------+ | RHEL8 | PASS | +-------------------+----------+ | RHEL9 | PASS | +-------------------+----------+ | Ubuntu 22.04 | PASS | +-------------------+----------+ | openSUSE Leap 15 | PASS | +-------------------+----------+ | Ubuntu 24.04 | PASS | +-------------------+----------+ CentOS Stream 9 Kernel: Depends on container host Compiler: gcc 11.5.0 20240719 (Red Hat 11.5.0-2) CentOS Stream 10 Kernel: Depends on container host Compiler: gcc 14.2.1 20241104 (Red Hat 14.2.1-6) Debian 12 Kernel: Depends on container host Compiler: gcc (Debian 12.2.0-14) 12.2.0 Fedora 41 Kernel: Depends on container host Compiler: gcc 14.2.1 20240912 (Red Hat 14.2.1-3) Debian Bullseye Kernel: Depends on container host Compiler: gcc (Debian 10.2.1-6) 10.2.1 20210110 Fedora 40 Kernel: Depends on container host Compiler: gcc 14.2.1 20240912 (Red Hat 14.2.1-3) Fedora 40 (Clang) Kernel: Depends on container host Compiler: clang 18.1.8 (Fedora 18.1.8-1.fc40) Fedora 41 (Clang) Kernel: Depends on container host Compiler: clang 19.1.5 (Fedora 19.1.5-1.fc41) RHEL8 Kernel: Depends on container host Compiler: gcc 8.5.0 20210514 (Red Hat 8.5.0-22) RHEL9 Kernel: Depends on container host Compiler: gcc 11.5.0 20240719 (Red Hat 11.5.0-2) Ubuntu 22.04 Kernel: Depends on container host Compiler: gcc (Ubuntu 11.4.0-1ubuntu1~22.04) 11.4.0 openSUSE Leap 15 Kernel: Depends on container host Compiler: gcc (SUSE Linux) 7.5.0 Ubuntu 24.04 Kernel: Depends on container host Compiler: gcc (Ubuntu 13.3.0-6ubuntu2~24.04) 13.3.0 To view detailed results, visit: https://lab.dpdk.org/results/dashboard/patchsets/32624/ UNH-IOL DPDK Community Lab To manage your email subscriptions, visit: https://lab.dpdk.org/results/dashboard/preferences/subscriptions/