From mboxrd@z Thu Jan 1 00:00:00 1970 Return-Path: Received: from mails.dpdk.org (mails.dpdk.org [217.70.189.124]) by inbox.dpdk.org (Postfix) with ESMTP id D752146284 for ; Thu, 20 Feb 2025 22:18:56 +0100 (CET) Received: from mails.dpdk.org (localhost [127.0.0.1]) by mails.dpdk.org (Postfix) with ESMTP id B26954026D; Thu, 20 Feb 2025 22:18:56 +0100 (CET) Received: from mail-io1-f97.google.com (mail-io1-f97.google.com [209.85.166.97]) by mails.dpdk.org (Postfix) with ESMTP id E90CD40263 for ; Thu, 20 Feb 2025 22:18:55 +0100 (CET) Received: by mail-io1-f97.google.com with SMTP id ca18e2360f4ac-855c122b3e7so116590039f.2 for ; Thu, 20 Feb 2025 13:18:55 -0800 (PST) DKIM-Signature: v=1; a=rsa-sha256; c=relaxed/relaxed; d=iol.unh.edu; s=unh-iol; t=1740086335; x=1740691135; darn=dpdk.org; h=references:in-reply-to:cc:to:from:subject:message-id:date:from:to :cc:subject:date:message-id:reply-to; bh=0CWeXeeg0pmhYYI54o8ab8ZRbvNU+l232/Nk1WfvduM=; b=POkotrdOoJIU0prNoxLEXkqjX40fN/l/Is9YJtsGriDJ6yolobC3cHl4/qYSphpYJM wpdNjOjI/hnMDnJRsFSxLmq33O6aOYyCoxNK5Zz7OonP5gs81vTk3qhfmp9Z7Cn8FfQ1 YjWkZky6W5nx9B7kEc4TEhnItgRco1XlTzEFk= X-Google-DKIM-Signature: v=1; a=rsa-sha256; c=relaxed/relaxed; d=1e100.net; s=20230601; t=1740086335; x=1740691135; h=references:in-reply-to:cc:to:from:subject:message-id:date :x-gm-message-state:from:to:cc:subject:date:message-id:reply-to; bh=0CWeXeeg0pmhYYI54o8ab8ZRbvNU+l232/Nk1WfvduM=; b=YLEzPTf2sNN40ihYqPfAlAK06FNeZ6y3iZ6UHjMffPs+YBW9Yo/sl/MI0b1Y2Z6pSm ovPY4z99L36HNJlX5h7E+GQ8YtFXvdnkO7Hkd2Xkoa7scSIBHk9ZYjZldgkzDK3DXhch pqWqKVmE41nYrWHfZ52rR48jIIqF6Pm98OKUNJYnsA7raeUY7DKM3Vu5HawrYxY7JBJ1 PzhgGsYOph/dhbITVS+Z+Jms+R1cNvE/8xm9OaNgOU13vK6MD9Yl93PIuU8DzCvdqaxZ 0s6X0Ly7/gUjFEUIk6EYKPPDLTA/w9fR+zaijRWX5VgkEyELS+MoSiqjYvehLd/bbDzl eSYg== X-Gm-Message-State: AOJu0YyPmzKIEO6Z/9WieOGpJa0H7SlRnQoRa/KhfBk5K6Pp7dQccp0V B3i8squHOW6ZDlz5BjKkAaTcayNJlZmxAhreRwxHcgxbEgcii1ydxH1GxXCdLUb/Af+NM6ptDB0 iKPJnT5q0xyBONhWUS4jBsEd7CZcvanUkbdVb1VZg X-Gm-Gg: ASbGnctEsujDxaNAWwdJikKeyWq8ztjMGIUXpQr9+HUIp7lyALPSRVNlmSrr5zYEe3E uyoPY1/L5smobxJHj9Z8SMkzqBlaxSV0rYlvXqS6bpb3NuslSvmR9zZKrKASB5B5NFWY23cMQl1 qBGl+vEJW6A5lqWYdzsmJTiTZcFU4S5ALNLXdDv4FjCloOUW8g2uJVMAyuaW+ReexDuor32584u eYv0G5Ssr2MusvZrLMQ7XlvWVbgRr+Hu/KJ/Hr/WH3lU2zXvXbhyDUHkluKaiBykjGaFcIATniS z9mkNlV6F1LgJVyxntoFpfOQP3HAfw== X-Google-Smtp-Source: AGHT+IFqfn8GNdKm65XMID2XwHhmloiLoRCSW8gZirExpB/JVQjEPHEMweooRxKyF+J4fc16cSoIHwPOl0MB X-Received: by 2002:a05:6602:3d0:b0:855:c980:6eb4 with SMTP id ca18e2360f4ac-855dabd790cmr53726939f.1.1740086335260; Thu, 20 Feb 2025 13:18:55 -0800 (PST) Received: from postal.iol.unh.edu (postal.iol.unh.edu. [132.177.123.84]) by smtp-relay.gmail.com with ESMTPS id ca18e2360f4ac-8559420e8b6sm38984039f.1.2025.02.20.13.18.55 (version=TLS1_2 cipher=ECDHE-ECDSA-AES128-GCM-SHA256 bits=128/128); Thu, 20 Feb 2025 13:18:55 -0800 (PST) X-Relaying-Domain: iol.unh.edu Date: Thu, 20 Feb 2025 13:18:55 -0800 (PST) Message-ID: <67b79c3f.050a0220.29260f.30d3SMTPIN_ADDED_MISSING@mx.google.com> Received: from [172.21.0.6] (unknown [172.18.0.240]) by postal.iol.unh.edu (Postfix) with ESMTP id 0A15E6052471; Thu, 20 Feb 2025 16:18:46 -0500 (EST) Subject: |SUCCESS| pw151572-151573 [PATCH] [2/2] app/testpmd: use flags from From: dpdklab@iol.unh.edu To: Test Report Cc: dpdk-test-reports@iol.unh.edu In-Reply-To: <20250218103322.166461-3-gavinl@nvidia.com> References: <20250218103322.166461-3-gavinl@nvidia.com> Content-Type: text/plain X-BeenThere: test-report@dpdk.org X-Mailman-Version: 2.1.29 Precedence: list List-Id: automatic DPDK test reports List-Unsubscribe: , List-Archive: List-Post: List-Help: List-Subscribe: , Errors-To: test-report-bounces@dpdk.org Test-Label: iol-compile-amd64-testing Test-Status: SUCCESS http://dpdk.org/patch/151573 _Testing PASS_ Submitter: Minggang Li(Gavin) Date: Tuesday, February 18 2025 10:33:22 DPDK git baseline: Repo:dpdk Branch: master CommitID:968f7b6d7b6a7e60e6e551db430c4eecaccbbfd2 151572-151573 --> testing pass Upstream job id: Generic-DPDK-Compile-Meson#363515 Test environment and result as below: +-------------------+--------------------+-------------------+------------------+ | Environment | dpdk_meson_compile | dpdk_compile_spdk | dpdk_compile_ovs | +===================+====================+===================+==================+ | CentOS Stream 10 | PASS | SKIPPED | SKIPPED | +-------------------+--------------------+-------------------+------------------+ | Debian Bullseye | PASS | PASS | SKIPPED | +-------------------+--------------------+-------------------+------------------+ | Debian 12 | PASS | PASS | SKIPPED | +-------------------+--------------------+-------------------+------------------+ | Fedora 40 (Clang) | PASS | PASS | SKIPPED | +-------------------+--------------------+-------------------+------------------+ | Fedora 40 | PASS | PASS | SKIPPED | +-------------------+--------------------+-------------------+------------------+ | Fedora 41 | PASS | PASS | PASS | +-------------------+--------------------+-------------------+------------------+ | Fedora 41 (Clang) | PASS | PASS | PASS | +-------------------+--------------------+-------------------+------------------+ | RHEL8 | PASS | SKIPPED | SKIPPED | +-------------------+--------------------+-------------------+------------------+ | openSUSE Leap 15 | PASS | SKIPPED | SKIPPED | +-------------------+--------------------+-------------------+------------------+ | RHEL9 | PASS | SKIPPED | SKIPPED | +-------------------+--------------------+-------------------+------------------+ | Ubuntu 20.04 | PASS | SKIPPED | SKIPPED | +-------------------+--------------------+-------------------+------------------+ | Ubuntu 22.04 | PASS | PASS | SKIPPED | +-------------------+--------------------+-------------------+------------------+ | Ubuntu 24.04 | PASS | PASS | PASS | +-------------------+--------------------+-------------------+------------------+ | FreeBSD 13.4 | PASS | SKIPPED | SKIPPED | +-------------------+--------------------+-------------------+------------------+ | FreeBSD 14.2 | PASS | SKIPPED | SKIPPED | +-------------------+--------------------+-------------------+------------------+ CentOS Stream 10 Kernel: Depends on container host Compiler: gcc 14.2.1 20241104 (Red Hat 14.2.1-6) Debian Bullseye Kernel: Depends on container host Compiler: gcc (Debian 10.2.1-6) 10.2.1 20210110 Debian 12 Kernel: Depends on container host Compiler: gcc (Debian 12.2.0-14) 12.2.0 Fedora 40 (Clang) Kernel: Depends on container host Compiler: clang 18.1.8 (Fedora 18.1.8-1.fc40) Fedora 40 Kernel: Depends on container host Compiler: gcc 14.2.1 20240912 (Red Hat 14.2.1-3) Fedora 41 Kernel: Depends on container host Compiler: gcc 14.2.1 20240912 (Red Hat 14.2.1-3) Fedora 41 (Clang) Kernel: Depends on container host Compiler: clang 19.1.5 (Fedora 19.1.5-1.fc41) RHEL8 Kernel: Depends on container host Compiler: gcc 8.5.0 20210514 (Red Hat 8.5.0-22) openSUSE Leap 15 Kernel: Depends on container host Compiler: gcc (SUSE Linux) 7.5.0 RHEL9 Kernel: Depends on container host Compiler: gcc 11.5.0 20240719 (Red Hat 11.5.0-2) Ubuntu 20.04 Kernel: Depends on container host Compiler: gcc (Ubuntu 9.4.0-1ubuntu1~20.04.2) 9.4.0 Ubuntu 22.04 Kernel: Depends on container host Compiler: gcc (Ubuntu 11.4.0-1ubuntu1~22.04) 11.4.0 Ubuntu 24.04 Kernel: Depends on container host Compiler: gcc (Ubuntu 13.3.0-6ubuntu2~24.04) 13.3.0 FreeBSD 13.4 Kernel: 13.4-RELEASE-p1 Compiler: clang 18.1.6 FreeBSD 14.2 Kernel: 14.2-RELEASE Compiler: clang 18.1.6 To view detailed results, visit: https://lab.dpdk.org/results/dashboard/patchsets/32599/ UNH-IOL DPDK Community Lab To manage your email subscriptions, visit: https://lab.dpdk.org/results/dashboard/preferences/subscriptions/