From mboxrd@z Thu Jan 1 00:00:00 1970 Return-Path: Received: from mails.dpdk.org (mails.dpdk.org [217.70.189.124]) by inbox.dpdk.org (Postfix) with ESMTP id ADF5046284 for ; Thu, 20 Feb 2025 22:40:01 +0100 (CET) Received: from mails.dpdk.org (localhost [127.0.0.1]) by mails.dpdk.org (Postfix) with ESMTP id 97EE44026D; Thu, 20 Feb 2025 22:40:01 +0100 (CET) Received: from mail-il1-f227.google.com (mail-il1-f227.google.com [209.85.166.227]) by mails.dpdk.org (Postfix) with ESMTP id 679A140263 for ; Thu, 20 Feb 2025 22:40:00 +0100 (CET) Received: by mail-il1-f227.google.com with SMTP id e9e14a558f8ab-3d0465a8d34so11048795ab.0 for ; Thu, 20 Feb 2025 13:40:00 -0800 (PST) DKIM-Signature: v=1; a=rsa-sha256; c=relaxed/relaxed; d=iol.unh.edu; s=unh-iol; t=1740087600; x=1740692400; darn=dpdk.org; h=references:in-reply-to:cc:to:from:subject:message-id:date:from:to :cc:subject:date:message-id:reply-to; bh=sNMz+kWeHypYCf7p500kxCP1w4bq66Tx9WziPmm2XqY=; b=GY6cE7Sw1TXvFCDe8DE+tbB4QQ37gKg/E635Z7vOD6XLGb33mHA9Z9gxI8yecXWrdu bIBgoMiZbMM5Hex2H6Hqv5P+3Eb0PBMGGglEyv/76RHeOWZFN4AJV0TSOZOJ99qGcAXp 79PBFPhahVyv1jDjaJEmeqpJES45Z/h5ykF6Q= X-Google-DKIM-Signature: v=1; a=rsa-sha256; c=relaxed/relaxed; d=1e100.net; s=20230601; t=1740087600; x=1740692400; h=references:in-reply-to:cc:to:from:subject:message-id:date :x-gm-message-state:from:to:cc:subject:date:message-id:reply-to; bh=sNMz+kWeHypYCf7p500kxCP1w4bq66Tx9WziPmm2XqY=; b=JlIn6PY1uVm+A9GZr+vxRyQEG569+hpnHHUzp6H8x2HHi07fjYh45EoOHN4GP4hiqi LbJep+b97lVPytc0CdcXUIJGpMeAVGMThEBwFKcykAtxhB6zYVvlznQx6JoWP6Dg/ObZ hyQEpc4q9uqWhbKQIywmLsSAsaPP8s6I2s8qCVAeV7pu2z8KOUDjOzm5V17WtxGeW9eV BWMSEldb+OQt5tVoMo7YHcoDGlemznhf808QXBjDhH5T6srGXjqXTaVQMdq6Oef0B6zz zCTjFi8yoi0br3ko8aAktZ9chHATMM+FCY3wtJ0Oyl1Qj1q4vL3o2CJHgrYDHyjUTXRo 0JmQ== X-Gm-Message-State: AOJu0YyN7zOKDdio/0fbJSsRtvPZ4ugi7npj65vX+e3zO60C0v5YWj3+ ECbC8PnxbZCBlcnabBwPheg4siyy8I9V2izdZWsFLcDpiTnizaahg7uo7fZHlG1YjqAkPZu4Irz 3cb91tNz0q1l2bCcMax/F2qbKE4MKOHt3EwMweO+n X-Gm-Gg: ASbGncugpQ+mkYOc5Ue+LRc+kYUMh4pe/0WoUpA3Rndcq0K63PlIEITiNBCP/qLVYrS JXQWhphhzpVz+rdjs1VRL2GekmcjR80RbNdVkC0yxpbTxwdyBqSuWPr7P/INWIaWtDUKWRJ8LLY uo6nwdRaQ9Vb++e3bsnl44IRQ3rVUi/Jp9yPCQcRm8onbLfs1zW7MlbvlEcpsFh92AdEgKvDD/W VS8gJ/jhmjGEX17EYPtxHOBy/6XLGeSnu8hjFpexZYewhAk8qx35qW/FC63Z1fvlkDziNKM8M3p oWqihfX2YagnKL/g6xIEJX5pkY5lDg== X-Google-Smtp-Source: AGHT+IHRyzPhEBTdA9wyXxSSnF6PUOxJhTECotA9d1npRDtW1NJFx2ZQCI0jp0wh+HfjIyaOavG74Asg5WQ3 X-Received: by 2002:a05:6e02:160c:b0:3d1:9999:4f62 with SMTP id e9e14a558f8ab-3d2cae4a741mr6897295ab.2.1740087599774; Thu, 20 Feb 2025 13:39:59 -0800 (PST) Received: from postal.iol.unh.edu (postal.iol.unh.edu. [132.177.123.84]) by smtp-relay.gmail.com with ESMTPS id 8926c6da1cb9f-4eeae88f9f7sm428183173.68.2025.02.20.13.39.59 (version=TLS1_2 cipher=ECDHE-ECDSA-AES128-GCM-SHA256 bits=128/128); Thu, 20 Feb 2025 13:39:59 -0800 (PST) X-Relaying-Domain: iol.unh.edu Date: Thu, 20 Feb 2025 13:39:59 -0800 (PST) Message-ID: <67b7a12f.050a0220.28c6e9.57dbSMTPIN_ADDED_MISSING@mx.google.com> Received: from [172.21.0.5] (unknown [172.18.0.240]) by postal.iol.unh.edu (Postfix) with ESMTP id 45C506052471; Thu, 20 Feb 2025 16:39:51 -0500 (EST) Subject: |SUCCESS| pw151685 [PATCH] maintainers: update for Intel FPGA bus dr From: dpdklab@iol.unh.edu To: Test Report Cc: dpdk-test-reports@iol.unh.edu In-Reply-To: <20250220082857.2981-1-rosen.xu@intel.com> References: <20250220082857.2981-1-rosen.xu@intel.com> Content-Type: text/plain X-BeenThere: test-report@dpdk.org X-Mailman-Version: 2.1.29 Precedence: list List-Id: automatic DPDK test reports List-Unsubscribe: , List-Archive: List-Post: List-Help: List-Subscribe: , Errors-To: test-report-bounces@dpdk.org Test-Label: iol-compile-amd64-testing Test-Status: SUCCESS http://dpdk.org/patch/151685 _Testing PASS_ Submitter: Rosen Xu Date: Thursday, February 20 2025 08:28:57 DPDK git baseline: Repo:dpdk Branch: master CommitID:fab31a03ba98e7457284df95dd9eef2223a4ccaa 151685 --> testing pass Upstream job id: Windows-Compile-DPDK-VS#4985 Test environment and result as below: +---------------------+--------------------+-------------------+------------------+-------------------+ | Environment | dpdk_meson_compile | dpdk_compile_spdk | dpdk_compile_ovs | dpdk_msvc_compile | +=====================+====================+===================+==================+===================+ | CentOS Stream 9 | PASS | PASS | SKIPPED | SKIPPED | +---------------------+--------------------+-------------------+------------------+-------------------+ | CentOS Stream 10 | PASS | SKIPPED | SKIPPED | SKIPPED | +---------------------+--------------------+-------------------+------------------+-------------------+ | Debian Bullseye | PASS | PASS | SKIPPED | SKIPPED | +---------------------+--------------------+-------------------+------------------+-------------------+ | Fedora 40 (Clang) | PASS | PASS | SKIPPED | SKIPPED | +---------------------+--------------------+-------------------+------------------+-------------------+ | Debian 12 | PASS | PASS | SKIPPED | SKIPPED | +---------------------+--------------------+-------------------+------------------+-------------------+ | Fedora 40 | PASS | PASS | SKIPPED | SKIPPED | +---------------------+--------------------+-------------------+------------------+-------------------+ | Fedora 41 (Clang) | PASS | PASS | PASS | SKIPPED | +---------------------+--------------------+-------------------+------------------+-------------------+ | Fedora 41 | PASS | PASS | PASS | SKIPPED | +---------------------+--------------------+-------------------+------------------+-------------------+ | Ubuntu 20.04 | PASS | SKIPPED | SKIPPED | SKIPPED | +---------------------+--------------------+-------------------+------------------+-------------------+ | openSUSE Leap 15 | PASS | SKIPPED | SKIPPED | SKIPPED | +---------------------+--------------------+-------------------+------------------+-------------------+ | RHEL8 | PASS | SKIPPED | SKIPPED | SKIPPED | +---------------------+--------------------+-------------------+------------------+-------------------+ | RHEL9 | PASS | SKIPPED | SKIPPED | SKIPPED | +---------------------+--------------------+-------------------+------------------+-------------------+ | Ubuntu 22.04 | PASS | PASS | SKIPPED | SKIPPED | +---------------------+--------------------+-------------------+------------------+-------------------+ | Ubuntu 24.04 | PASS | PASS | PASS | SKIPPED | +---------------------+--------------------+-------------------+------------------+-------------------+ | Alpine | PASS | SKIPPED | SKIPPED | SKIPPED | +---------------------+--------------------+-------------------+------------------+-------------------+ | FreeBSD 13.4 | PASS | SKIPPED | SKIPPED | SKIPPED | +---------------------+--------------------+-------------------+------------------+-------------------+ | FreeBSD 14.2 | PASS | SKIPPED | SKIPPED | SKIPPED | +---------------------+--------------------+-------------------+------------------+-------------------+ | Windows Server 2022 | SKIPPED | SKIPPED | SKIPPED | PASS | +---------------------+--------------------+-------------------+------------------+-------------------+ CentOS Stream 9 Kernel: Depends on container host Compiler: gcc 11.5.0 20240719 (Red Hat 11.5.0-2) CentOS Stream 10 Kernel: Depends on container host Compiler: gcc 14.2.1 20241104 (Red Hat 14.2.1-6) Debian Bullseye Kernel: Depends on container host Compiler: gcc (Debian 10.2.1-6) 10.2.1 20210110 Fedora 40 (Clang) Kernel: Depends on container host Compiler: clang 18.1.8 (Fedora 18.1.8-1.fc40) Debian 12 Kernel: Depends on container host Compiler: gcc (Debian 12.2.0-14) 12.2.0 Fedora 40 Kernel: Depends on container host Compiler: gcc 14.2.1 20240912 (Red Hat 14.2.1-3) Fedora 41 (Clang) Kernel: Depends on container host Compiler: clang 19.1.5 (Fedora 19.1.5-1.fc41) Fedora 41 Kernel: Depends on container host Compiler: gcc 14.2.1 20240912 (Red Hat 14.2.1-3) Ubuntu 20.04 Kernel: Depends on container host Compiler: gcc (Ubuntu 9.4.0-1ubuntu1~20.04.2) 9.4.0 openSUSE Leap 15 Kernel: Depends on container host Compiler: gcc (SUSE Linux) 7.5.0 RHEL8 Kernel: Depends on container host Compiler: gcc 8.5.0 20210514 (Red Hat 8.5.0-22) RHEL9 Kernel: Depends on container host Compiler: gcc 11.5.0 20240719 (Red Hat 11.5.0-2) Ubuntu 22.04 Kernel: Depends on container host Compiler: gcc (Ubuntu 11.4.0-1ubuntu1~22.04) 11.4.0 Ubuntu 24.04 Kernel: Depends on container host Compiler: gcc (Ubuntu 13.3.0-6ubuntu2~24.04) 13.3.0 Alpine Kernel: Depends on container host Compiler: gcc (Alpine 14.2.0) 14.2.0 FreeBSD 13.4 Kernel: 13.4-RELEASE-p1 Compiler: clang 18.1.6 FreeBSD 14.2 Kernel: 14.2-RELEASE Compiler: clang 18.1.6 Windows Server 2022 Kernel: 10.0.20348.2031 Compiler: clang 15.0.7, gcc 14.1.0 (MinGW), and MSVC VS 19.39.33521 To view detailed results, visit: https://lab.dpdk.org/results/dashboard/patchsets/32620/ UNH-IOL DPDK Community Lab To manage your email subscriptions, visit: https://lab.dpdk.org/results/dashboard/preferences/subscriptions/