From mboxrd@z Thu Jan 1 00:00:00 1970 Return-Path: Received: from mails.dpdk.org (mails.dpdk.org [217.70.189.124]) by inbox.dpdk.org (Postfix) with ESMTP id 7161F46284 for ; Thu, 20 Feb 2025 22:46:08 +0100 (CET) Received: from mails.dpdk.org (localhost [127.0.0.1]) by mails.dpdk.org (Postfix) with ESMTP id 6B9784026D; Thu, 20 Feb 2025 22:46:08 +0100 (CET) Received: from mail-qv1-f100.google.com (mail-qv1-f100.google.com [209.85.219.100]) by mails.dpdk.org (Postfix) with ESMTP id 1D40C40263 for ; Thu, 20 Feb 2025 22:46:07 +0100 (CET) Received: by mail-qv1-f100.google.com with SMTP id 6a1803df08f44-6e66d4f3be2so18874776d6.3 for ; Thu, 20 Feb 2025 13:46:07 -0800 (PST) DKIM-Signature: v=1; a=rsa-sha256; c=relaxed/relaxed; d=iol.unh.edu; s=unh-iol; t=1740087966; x=1740692766; darn=dpdk.org; h=references:in-reply-to:cc:to:from:subject:message-id:date:from:to :cc:subject:date:message-id:reply-to; bh=RwNFP94quG+SymepHumMlcWnJlloEveSjtDNu12VGJc=; b=RhbHr4EDPGIDMh2DirGneV3Qhgw/foksScHRcv/YdTD1XpkSXCLP5LnhPuNgbvUg1I PBIiqae16siKUA10ySYCmf4fqSOauxJNKaYXvrpSBQae12xfgRroegqwMFn2cHksu6BE lc3jy6ZJ9AD4OHcvh2AHf0f2X4NvAqdMSy7dI= X-Google-DKIM-Signature: v=1; a=rsa-sha256; c=relaxed/relaxed; d=1e100.net; s=20230601; t=1740087966; x=1740692766; h=references:in-reply-to:cc:to:from:subject:message-id:date :x-gm-message-state:from:to:cc:subject:date:message-id:reply-to; bh=RwNFP94quG+SymepHumMlcWnJlloEveSjtDNu12VGJc=; b=FxkBh4hNCIw3Bmg+ZE1UEwTseAtWybIZrZNdtUq8pppdwlHtqZr58fg71ay9bQ7KfL 1FDwpaVKzaqZQtLnEOTkwBzxM963b/t1LniMxKdVSnQds8FRTYr2dzB4iYFdterHQAWy SLrbO/L2h9/4Ut2nbZ4nhaH3pSn3Tyjc5XKikk6TI/PeFwRHqIjQM2mYplHd92ad9pOD H3mlHRCPEC/dsbPMJbd1jLJ1aOu2VCf1323oq9pvfc3/UhEQ0PAscU1dGcAO4GWV27EO CElxn1ItpAL6HGvtXUT/PopyHvIeUeStet1FkZtk9JZZNsslHVYnzcGuqYcK6LzIB/k+ 8ahg== X-Gm-Message-State: AOJu0YxsXcFe8X0rk769ZCmIsS8uS3HtvYOOqCUCsR5Bb+ZnnkOSY8Kq Hau9wG6jkxeZw8RQOXU+4WJW2lST9cHOPe8rWN4MqsNRlSNngw9slEgp3twnx7ZL1NUQphjj6eC 1D7Kr8LcvgdQ7ueXxyC+ff/39mq/fqe2RoTTNNdCC5f/1kin2DWg3UoAP X-Gm-Gg: ASbGncu1CRzPJR31UqiQHLY/N/E9uFwdOEr6wsi4SeOm0q49Djw5OFe3l3IvzDPY6/j dWwxUV+39jAfbRB9nEITGfdMv6Gq2TZamjbjaGp4wM1hFGN1mVKjpPihcYF5kmlZ3FAqVpclWAm UnKQTgJ509VfbAOO6eKryUSCxHxsLKw//4C05I60hLt8QRWbOmDA2tiHfjTHOoJ6+z0BwQEolUh tBioLPxzkTFWMiByWLFbIFKUxLGjaLDmEKI6YGhIfsNzYA6zFWI/eCEF/aqqk+1IDMjvvCZHrBX lNldOW233aKvhoJiDGGINIhAVauoa87YaNIbHiNG9w== X-Google-Smtp-Source: AGHT+IH9yqr3cMWbYZHgIkp49wJy9rUnGssHOUHarht1FXAYhE3YtXN+zri3X6B96Wla1p8tfOCZUDqGEr6M X-Received: by 2002:a05:6214:212b:b0:6d8:821d:736e with SMTP id 6a1803df08f44-6e6ae9b9ec3mr13535546d6.36.1740087966483; Thu, 20 Feb 2025 13:46:06 -0800 (PST) Received: from postal.iol.unh.edu (postal.iol.unh.edu. [2606:4100:3880:1234::84]) by smtp-relay.gmail.com with ESMTPS id 6a1803df08f44-6e65d72c4adsm6719346d6.3.2025.02.20.13.46.06 (version=TLS1_2 cipher=ECDHE-ECDSA-AES128-GCM-SHA256 bits=128/128); Thu, 20 Feb 2025 13:46:06 -0800 (PST) X-Relaying-Domain: iol.unh.edu Date: Thu, 20 Feb 2025 13:46:06 -0800 (PST) Message-ID: <67b7a29e.d40a0220.2eb923.2a9eSMTPIN_ADDED_MISSING@mx.google.com> Received: from [172.21.0.5] (unknown [172.18.0.240]) by postal.iol.unh.edu (Postfix) with ESMTP id 1526B6052471; Thu, 20 Feb 2025 16:46:03 -0500 (EST) Subject: |SUCCESS| pw151681-151682 [PATCH] [2/2] app/testpmd: fix segment fau From: dpdklab@iol.unh.edu To: Test Report Cc: dpdk-test-reports@iol.unh.edu In-Reply-To: <20250220070651.42123-3-fengchengwen@huawei.com> References: <20250220070651.42123-3-fengchengwen@huawei.com> Content-Type: text/plain X-BeenThere: test-report@dpdk.org X-Mailman-Version: 2.1.29 Precedence: list List-Id: automatic DPDK test reports List-Unsubscribe: , List-Archive: List-Post: List-Help: List-Subscribe: , Errors-To: test-report-bounces@dpdk.org Test-Label: iol-compile-amd64-testing Test-Status: SUCCESS http://dpdk.org/patch/151682 _Testing PASS_ Submitter: Chengwen Feng Date: Thursday, February 20 2025 07:06:51 DPDK git baseline: Repo:dpdk Branch: master CommitID:2ada41444942b5b6562923c6250ec75c77842c2a 151681-151682 --> testing pass Upstream job id: Generic-VM-DPDK-Compile-Meson#33410 Test environment and result as below: +---------------------+--------------------+-------------------+------------------+-------------------+ | Environment | dpdk_meson_compile | dpdk_compile_spdk | dpdk_compile_ovs | dpdk_msvc_compile | +=====================+====================+===================+==================+===================+ | Debian Bullseye | PASS | PASS | SKIPPED | SKIPPED | +---------------------+--------------------+-------------------+------------------+-------------------+ | Fedora 40 | PASS | PASS | SKIPPED | SKIPPED | +---------------------+--------------------+-------------------+------------------+-------------------+ | Fedora 40 (Clang) | PASS | PASS | SKIPPED | SKIPPED | +---------------------+--------------------+-------------------+------------------+-------------------+ | Debian 12 | PASS | PASS | SKIPPED | SKIPPED | +---------------------+--------------------+-------------------+------------------+-------------------+ | Fedora 41 (Clang) | PASS | PASS | PASS | SKIPPED | +---------------------+--------------------+-------------------+------------------+-------------------+ | Fedora 41 | PASS | PASS | PASS | SKIPPED | +---------------------+--------------------+-------------------+------------------+-------------------+ | openSUSE Leap 15 | PASS | SKIPPED | SKIPPED | SKIPPED | +---------------------+--------------------+-------------------+------------------+-------------------+ | RHEL8 | PASS | SKIPPED | SKIPPED | SKIPPED | +---------------------+--------------------+-------------------+------------------+-------------------+ | RHEL9 | PASS | SKIPPED | SKIPPED | SKIPPED | +---------------------+--------------------+-------------------+------------------+-------------------+ | Ubuntu 20.04 | PASS | SKIPPED | SKIPPED | SKIPPED | +---------------------+--------------------+-------------------+------------------+-------------------+ | Ubuntu 24.04 | PASS | PASS | PASS | SKIPPED | +---------------------+--------------------+-------------------+------------------+-------------------+ | Ubuntu 22.04 | PASS | PASS | SKIPPED | SKIPPED | +---------------------+--------------------+-------------------+------------------+-------------------+ | Alpine | PASS | SKIPPED | SKIPPED | SKIPPED | +---------------------+--------------------+-------------------+------------------+-------------------+ | FreeBSD 13.4 | PASS | SKIPPED | SKIPPED | SKIPPED | +---------------------+--------------------+-------------------+------------------+-------------------+ | FreeBSD 14.2 | PASS | SKIPPED | SKIPPED | SKIPPED | +---------------------+--------------------+-------------------+------------------+-------------------+ | Windows Server 2022 | SKIPPED | SKIPPED | SKIPPED | PASS | +---------------------+--------------------+-------------------+------------------+-------------------+ Debian Bullseye Kernel: Depends on container host Compiler: gcc (Debian 10.2.1-6) 10.2.1 20210110 Fedora 40 Kernel: Depends on container host Compiler: gcc 14.2.1 20240912 (Red Hat 14.2.1-3) Fedora 40 (Clang) Kernel: Depends on container host Compiler: clang 18.1.8 (Fedora 18.1.8-1.fc40) Debian 12 Kernel: Depends on container host Compiler: gcc (Debian 12.2.0-14) 12.2.0 Fedora 41 (Clang) Kernel: Depends on container host Compiler: clang 19.1.5 (Fedora 19.1.5-1.fc41) Fedora 41 Kernel: Depends on container host Compiler: gcc 14.2.1 20240912 (Red Hat 14.2.1-3) openSUSE Leap 15 Kernel: Depends on container host Compiler: gcc (SUSE Linux) 7.5.0 RHEL8 Kernel: Depends on container host Compiler: gcc 8.5.0 20210514 (Red Hat 8.5.0-22) RHEL9 Kernel: Depends on container host Compiler: gcc 11.5.0 20240719 (Red Hat 11.5.0-2) Ubuntu 20.04 Kernel: Depends on container host Compiler: gcc (Ubuntu 9.4.0-1ubuntu1~20.04.2) 9.4.0 Ubuntu 24.04 Kernel: Depends on container host Compiler: gcc (Ubuntu 13.3.0-6ubuntu2~24.04) 13.3.0 Ubuntu 22.04 Kernel: Depends on container host Compiler: gcc (Ubuntu 11.4.0-1ubuntu1~22.04) 11.4.0 Alpine Kernel: Depends on container host Compiler: gcc (Alpine 14.2.0) 14.2.0 FreeBSD 13.4 Kernel: 13.4-RELEASE-p1 Compiler: clang 18.1.6 FreeBSD 14.2 Kernel: 14.2-RELEASE Compiler: clang 18.1.6 Windows Server 2022 Kernel: 10.0.20348.2031 Compiler: clang 15.0.7, gcc 14.1.0 (MinGW), and MSVC VS 19.39.33521 To view detailed results, visit: https://lab.dpdk.org/results/dashboard/patchsets/32617/ UNH-IOL DPDK Community Lab To manage your email subscriptions, visit: https://lab.dpdk.org/results/dashboard/preferences/subscriptions/