From mboxrd@z Thu Jan  1 00:00:00 1970
Return-Path: <test-report-bounces@dpdk.org>
Received: from mails.dpdk.org (mails.dpdk.org [217.70.189.124])
	by inbox.dpdk.org (Postfix) with ESMTP id 2113846284
	for <public@inbox.dpdk.org>; Thu, 20 Feb 2025 23:15:05 +0100 (CET)
Received: from mails.dpdk.org (localhost [127.0.0.1])
	by mails.dpdk.org (Postfix) with ESMTP id F3F364065B;
	Thu, 20 Feb 2025 23:15:04 +0100 (CET)
Received: from mail-il1-f226.google.com (mail-il1-f226.google.com
 [209.85.166.226])
 by mails.dpdk.org (Postfix) with ESMTP id AB9ED40609
 for <test-report@dpdk.org>; Thu, 20 Feb 2025 23:15:03 +0100 (CET)
Received: by mail-il1-f226.google.com with SMTP id
 e9e14a558f8ab-3d2b15760adso4720465ab.1
 for <test-report@dpdk.org>; Thu, 20 Feb 2025 14:15:03 -0800 (PST)
DKIM-Signature: v=1; a=rsa-sha256; c=relaxed/relaxed;
 d=iol.unh.edu; s=unh-iol; t=1740089703; x=1740694503; darn=dpdk.org;
 h=references:in-reply-to:cc:to:from:subject:message-id:date:from:to
 :cc:subject:date:message-id:reply-to;
 bh=cOm1ZmgY/I5hNMJijOPoycBQiZFeC7D0wunys1DO8so=;
 b=Xu+t7R+MNugaCHHkc3PIIiLZqMDGAvRqq5wzM/mkHRrnbgIanSVkUzcQcsPpGzK4IS
 tBntopoCEUVmcfMUvp9S96iMQelA0gbYSEaKWkEhJ4nPrjzapi4waDBCqJZAWv2pH7zk
 RXdeFo6jMc2Bb5dknJV3wF84HI0ql5uIaEEkM=
X-Google-DKIM-Signature: v=1; a=rsa-sha256; c=relaxed/relaxed;
 d=1e100.net; s=20230601; t=1740089703; x=1740694503;
 h=references:in-reply-to:cc:to:from:subject:message-id:date
 :x-gm-message-state:from:to:cc:subject:date:message-id:reply-to;
 bh=cOm1ZmgY/I5hNMJijOPoycBQiZFeC7D0wunys1DO8so=;
 b=bG0rcKeg+q86dG9cQRklG88PJ7pNAvFmx6AlWpCIvNx9Lpx6vI6HWOlasdV03Lkkhl
 +dzWTJ7YjGJM+uVlGO9Qr9SuqtThAmPgjYLQ7wmGnywFR5R2eNGZjhwaV7uUktiAFMGu
 95TM8lhE4NglbcnChmQ1t/2r6PQXiS5C/xxUZKpX87HuBANOhi7Sc60+HfFdKLYrrXu7
 meJVPxIcoGIUfl2kzF9GeVgC2ejPDKsCdJurQQQJpVS2viYZTS5lVPSVH4b2VBo2yGlj
 gc3OE9TK11xiXhat7J6KmrhkUElyfqnpXJjFlyc/xjp/dglP3NA+v7J4sGGslNNBqluj
 LjmA==
X-Gm-Message-State: AOJu0Yx9fNbL1gzJeZ1zy31zE6PgTZABqIiAArdIaSt2gLePLPJaSgsq
 KOLtJUViUotmH+RxPnWiEflLHwphF0ya0dvMaQIomBGP4BRFNzbTp0bdrYH/JPQQC3ZHUKBCzwx
 af/vwGNvH8YNNPyLyxynC+TVL0wEFuue3a1UNt/4vkItAwb4is5Ca4hPi
X-Gm-Gg: ASbGncvY0+gvJMFmFN3yuYR6jjmA9hIJZeWh0zvjQy4pdznriRu7pWfnwoIXAkKP3B7
 0Tr4+k6mV5zN4LrxHgCbPruRFG66Ert/aerYdgguB0I/ETdK6nNRzaBKNOxfhjZ0jfEqtqzGW9v
 3hFwCCzSAqFcKGG7+YzdEoHzxnlHoCl28V4NMx3bDh00MV+SeOtfrm2II+DQJxxPezRx1Vy+093
 wHl2sPRtM/Oxyj27B2SQRPUQmvRmOMqj4oBoV+XA0SwbUSiMgpWx9oshHrqTBi6o9nw+o4yDoqr
 g6KFANOIj9ztMZM7m5gITW57rX3bXGxCaW2Zc4k45w==
X-Google-Smtp-Source: AGHT+IHqxSBP62KIey8Rfo9xlxUQ8PiSTip0mBdzXmBGtaSEwWrwRxaTT5i+ygt6rvxthbA4hIuPGDvjfH6W
X-Received: by 2002:a05:6e02:3e04:b0:3d0:10a6:99be with SMTP id
 e9e14a558f8ab-3d2cb483a8amr5688265ab.12.1740089703023; 
 Thu, 20 Feb 2025 14:15:03 -0800 (PST)
Received: from postal.iol.unh.edu (postal.iol.unh.edu.
 [2606:4100:3880:1234::84]) by smtp-relay.gmail.com with ESMTPS id
 8926c6da1cb9f-4ee932a1102sm671543173.12.2025.02.20.14.15.02
 (version=TLS1_2 cipher=ECDHE-ECDSA-AES128-GCM-SHA256 bits=128/128);
 Thu, 20 Feb 2025 14:15:03 -0800 (PST)
X-Relaying-Domain: iol.unh.edu
Date: Thu, 20 Feb 2025 14:15:03 -0800 (PST)
Message-ID: <67b7a967.050a0220.b66f9.0e2aSMTPIN_ADDED_MISSING@mx.google.com>
Received: from [172.21.0.6] (unknown [172.18.0.240])
 by postal.iol.unh.edu (Postfix) with ESMTP id D71FC6052471;
 Thu, 20 Feb 2025 17:14:53 -0500 (EST)
Subject: |SUCCESS| pw151640-151647 [PATCH] [v7,8/8] devtools: add script to g
From: dpdklab@iol.unh.edu
To: Test Report <test-report@dpdk.org>
Cc: dpdk-test-reports@iol.unh.edu
In-Reply-To: <169e9b696f26a856ad59012590191c7ce799b175.1739962646.git.anatoly.burakov@intel.com>
References: <169e9b696f26a856ad59012590191c7ce799b175.1739962646.git.anatoly.burakov@intel.com>
Content-Type: text/plain
X-BeenThere: test-report@dpdk.org
X-Mailman-Version: 2.1.29
Precedence: list
List-Id: automatic DPDK test reports <test-report.dpdk.org>
List-Unsubscribe: <https://mails.dpdk.org/options/test-report>,
 <mailto:test-report-request@dpdk.org?subject=unsubscribe>
List-Archive: <http://mails.dpdk.org/archives/test-report/>
List-Post: <mailto:test-report@dpdk.org>
List-Help: <mailto:test-report-request@dpdk.org?subject=help>
List-Subscribe: <https://mails.dpdk.org/listinfo/test-report>,
 <mailto:test-report-request@dpdk.org?subject=subscribe>
Errors-To: test-report-bounces@dpdk.org

Test-Label: iol-compile-amd64-testing
Test-Status: SUCCESS
http://dpdk.org/patch/151647

_Testing PASS_

Submitter: Anatoly Burakov <anatoly.burakov@intel.com>
Date: Wednesday, February 19 2025 10:57:54 
DPDK git baseline: Repo:dpdk
  Branch: master
  CommitID:fd233ad17e5ffa42d50f1625165a7fce3f1cbc5f

151640-151647 --> testing pass

Upstream job id: Generic-DPDK-Compile-Meson#363520

Test environment and result as below:

+-------------------+--------------------+-------------------+------------------+
|    Environment    | dpdk_meson_compile | dpdk_compile_spdk | dpdk_compile_ovs |
+===================+====================+===================+==================+
| CentOS Stream 9   | PASS               | PASS              | SKIPPED          |
+-------------------+--------------------+-------------------+------------------+
| CentOS Stream 10  | PASS               | SKIPPED           | SKIPPED          |
+-------------------+--------------------+-------------------+------------------+
| Debian Bullseye   | PASS               | PASS              | SKIPPED          |
+-------------------+--------------------+-------------------+------------------+
| Fedora 40 (Clang) | PASS               | PASS              | SKIPPED          |
+-------------------+--------------------+-------------------+------------------+
| Fedora 40         | PASS               | PASS              | SKIPPED          |
+-------------------+--------------------+-------------------+------------------+
| Fedora 41 (Clang) | PASS               | PASS              | PASS             |
+-------------------+--------------------+-------------------+------------------+
| Fedora 41         | PASS               | PASS              | PASS             |
+-------------------+--------------------+-------------------+------------------+
| openSUSE Leap 15  | PASS               | SKIPPED           | SKIPPED          |
+-------------------+--------------------+-------------------+------------------+
| RHEL8             | PASS               | SKIPPED           | SKIPPED          |
+-------------------+--------------------+-------------------+------------------+
| RHEL9             | PASS               | SKIPPED           | SKIPPED          |
+-------------------+--------------------+-------------------+------------------+
| Ubuntu 20.04      | PASS               | SKIPPED           | SKIPPED          |
+-------------------+--------------------+-------------------+------------------+
| Ubuntu 22.04      | PASS               | PASS              | SKIPPED          |
+-------------------+--------------------+-------------------+------------------+
| Ubuntu 24.04      | PASS               | PASS              | PASS             |
+-------------------+--------------------+-------------------+------------------+
| Alpine            | PASS               | SKIPPED           | SKIPPED          |
+-------------------+--------------------+-------------------+------------------+
| FreeBSD 13.4      | PASS               | SKIPPED           | SKIPPED          |
+-------------------+--------------------+-------------------+------------------+
| FreeBSD 14.2      | PASS               | SKIPPED           | SKIPPED          |
+-------------------+--------------------+-------------------+------------------+
| Debian 12         | PASS               | PASS              | SKIPPED          |
+-------------------+--------------------+-------------------+------------------+


CentOS Stream 9
	Kernel: Depends on container host
	Compiler: gcc 11.5.0 20240719 (Red Hat 11.5.0-2)

CentOS Stream 10
	Kernel: Depends on container host
	Compiler: gcc 14.2.1 20241104 (Red Hat 14.2.1-6)

Debian Bullseye
	Kernel: Depends on container host
	Compiler: gcc (Debian 10.2.1-6) 10.2.1 20210110

Fedora 40 (Clang)
	Kernel: Depends on container host
	Compiler: clang 18.1.8 (Fedora 18.1.8-1.fc40)

Fedora 40
	Kernel: Depends on container host
	Compiler: gcc 14.2.1 20240912 (Red Hat 14.2.1-3)

Fedora 41 (Clang)
	Kernel: Depends on container host
	Compiler: clang 19.1.5 (Fedora 19.1.5-1.fc41)

Fedora 41
	Kernel: Depends on container host
	Compiler: gcc 14.2.1 20240912 (Red Hat 14.2.1-3)

openSUSE Leap 15
	Kernel: Depends on container host
	Compiler: gcc (SUSE Linux) 7.5.0

RHEL8
	Kernel: Depends on container host
	Compiler: gcc 8.5.0 20210514 (Red Hat 8.5.0-22)

RHEL9
	Kernel: Depends on container host
	Compiler: gcc 11.5.0 20240719 (Red Hat 11.5.0-2)

Ubuntu 20.04
	Kernel: Depends on container host
	Compiler: gcc (Ubuntu 9.4.0-1ubuntu1~20.04.2) 9.4.0

Ubuntu 22.04
	Kernel: Depends on container host
	Compiler: gcc (Ubuntu 11.4.0-1ubuntu1~22.04) 11.4.0

Ubuntu 24.04
	Kernel: Depends on container host
	Compiler: gcc (Ubuntu 13.3.0-6ubuntu2~24.04) 13.3.0

Alpine
	Kernel: Depends on container host
	Compiler: gcc (Alpine 14.2.0) 14.2.0

FreeBSD 13.4
	Kernel: 13.4-RELEASE-p1
	Compiler: clang 18.1.6

FreeBSD 14.2
	Kernel: 14.2-RELEASE
	Compiler: clang 18.1.6

Debian 12
	Kernel: Depends on container host
	Compiler: gcc (Debian 12.2.0-14) 12.2.0

To view detailed results, visit:
https://lab.dpdk.org/results/dashboard/patchsets/32610/

UNH-IOL DPDK Community Lab

To manage your email subscriptions, visit: 
https://lab.dpdk.org/results/dashboard/preferences/subscriptions/