From mboxrd@z Thu Jan 1 00:00:00 1970 Return-Path: Received: from mails.dpdk.org (mails.dpdk.org [217.70.189.124]) by inbox.dpdk.org (Postfix) with ESMTP id C1AD24627C for ; Fri, 21 Feb 2025 00:40:38 +0100 (CET) Received: from mails.dpdk.org (localhost [127.0.0.1]) by mails.dpdk.org (Postfix) with ESMTP id BBCA2402A8; Fri, 21 Feb 2025 00:40:38 +0100 (CET) Received: from mail-il1-f226.google.com (mail-il1-f226.google.com [209.85.166.226]) by mails.dpdk.org (Postfix) with ESMTP id E9B084026D for ; Fri, 21 Feb 2025 00:40:37 +0100 (CET) Received: by mail-il1-f226.google.com with SMTP id e9e14a558f8ab-3d2b3811513so7294695ab.1 for ; Thu, 20 Feb 2025 15:40:37 -0800 (PST) DKIM-Signature: v=1; a=rsa-sha256; c=relaxed/relaxed; d=iol.unh.edu; s=unh-iol; t=1740094837; x=1740699637; darn=dpdk.org; h=references:in-reply-to:cc:to:from:subject:message-id:date:from:to :cc:subject:date:message-id:reply-to; bh=eheO5UVuqtiCeK5JKxUEef9x+ur0L7SlNub8wXNYQ7k=; b=bsdm2Gjwn1ginGSXVKFffW9KGzXc7yrAu77P/+CJ1LfUGJq/ZT/qasqZ+PQDD1I3Vw /KAZLk81ZSk/bykMlO+cQApz5GfN3Bffp21tBeEOcY6MOhga40b5NUcNrR3YZYYOtutG FBXzdqH5TzUsVG1BAifSTcFjx06TBNV5EIklM= X-Google-DKIM-Signature: v=1; a=rsa-sha256; c=relaxed/relaxed; d=1e100.net; s=20230601; t=1740094837; x=1740699637; h=references:in-reply-to:cc:to:from:subject:message-id:date :x-gm-message-state:from:to:cc:subject:date:message-id:reply-to; bh=eheO5UVuqtiCeK5JKxUEef9x+ur0L7SlNub8wXNYQ7k=; b=o0KOOq2QrodKy21S7eThERnnHxC1ZVvak0jrlv2NGShd1qkWfdFi1HU31gz74CqK/x nD+FWr/LrUgAntoY1C79mktmBTdWJtq+n/NIZsfSx0XSIWK6FtVkekIZW6jnJYn7Jb5P BJZbWptQRhaacJsJVZGATuP8BtfA/hHagh71NM9n/DEOz34qF4RxRTgoB2tbn+aQ+f7v IRHsE+cFwlMKyHEeOQOdC9v/BSUz0m4h0MvjrOai5vCWJLZdYPBP5sGRCbq8XVHLM2sH njWgRu54wl4QsN5BoXVDNUC8x+BAur70OYtCG8uENptXZHffhPAeZHWGbwdES/o849CP qJnQ== X-Gm-Message-State: AOJu0YxCL7zh9jwcS9BxhgMfmGE3du5KQeNA5v7qVDSxetpS9FIgUp09 QUpDRjnGE+yMbVePlnKyMYee2eLPBd4Ry/i5rLGlroGed0k0XflUcabyRKeoKcNc62hZIDT1LCO /HZ3GUAGWub5yJa3ERB7UQeYZA2tO8aXzGNQ7ScerDqfkUW1rGl0Fx6n7 X-Gm-Gg: ASbGncsf6iwrcG2cWbYiwVh3c6u8J3LHCH8ZQaz5AMc5qDtKSN6zhE134Btr/jGNIql 11tCDMr1T5AEFyQJGVi2Qymn9naXnoNOjlMy5WsOBjoOQARosiLSQOP9FI6+YMPj4zncrbsNjuG X7wVgBK82lvGrXOuoRm/AZq+fmfnxRVr864C6MqX5CUXMy3g2/T5eKNJq4A8bfGP8PfyIDF9/aF FLKLjxdX8wZzk61tjwMKtcM0gGRJOqBugMP+WpI7PpaLMypLU4Vzh91ebTja6lh2q8s88N93Uam sxmskru3QmK44ggaeBvoFcxn/6GugaSPGdbCVs09Yg== X-Google-Smtp-Source: AGHT+IFz1xqmETRmTPMWi80kozWQ6Sn4mnj80J96rsnCCpLvS/fYpIj1kxSkvaV9nwB+p3gdOuU+tLRG+OcV X-Received: by 2002:a05:6e02:1945:b0:3cf:c7bc:4523 with SMTP id e9e14a558f8ab-3d2cad31ac7mr8479585ab.6.1740094837304; Thu, 20 Feb 2025 15:40:37 -0800 (PST) Received: from postal.iol.unh.edu (postal.iol.unh.edu. [2606:4100:3880:1234::84]) by smtp-relay.gmail.com with ESMTPS id e9e14a558f8ab-3d291c5a265sm6767105ab.24.2025.02.20.15.40.37 (version=TLS1_2 cipher=ECDHE-ECDSA-AES128-GCM-SHA256 bits=128/128); Thu, 20 Feb 2025 15:40:37 -0800 (PST) X-Relaying-Domain: iol.unh.edu Date: Thu, 20 Feb 2025 15:40:37 -0800 (PST) Message-ID: <67b7bd75.050a0220.247840.1e95SMTPIN_ADDED_MISSING@mx.google.com> Received: from [172.17.0.4] (unknown [172.18.0.217]) by postal.iol.unh.edu (Postfix) with ESMTP id D9C346052472; Thu, 20 Feb 2025 18:40:33 -0500 (EST) Subject: |SUCCESS| pw151690 [PATCH] test/crypto: remove unused variable From: dpdklab@iol.unh.edu To: Test Report Cc: dpdk-test-reports@iol.unh.edu In-Reply-To: <20250220132807.2000-1-felix.zhang@jaguarmicro.com> References: <20250220132807.2000-1-felix.zhang@jaguarmicro.com> Content-Type: text/plain X-BeenThere: test-report@dpdk.org X-Mailman-Version: 2.1.29 Precedence: list List-Id: automatic DPDK test reports List-Unsubscribe: , List-Archive: List-Post: List-Help: List-Subscribe: , Errors-To: test-report-bounces@dpdk.org Test-Label: iol-unit-amd64-testing Test-Status: SUCCESS http://dpdk.org/patch/151690 _Testing PASS_ Submitter: Shaokai Zhang Date: Thursday, February 20 2025 13:28:07 DPDK git baseline: Repo:dpdk Branch: master CommitID:fab31a03ba98e7457284df95dd9eef2223a4ccaa 151690 --> testing pass Upstream job id: Generic-Unit-Test-DPDK#316759 Test environment and result as below: +-------------------+----------------+ | Environment | dpdk_unit_test | +===================+================+ | CentOS Stream 10 | PASS | +-------------------+----------------+ | Debian 12 | PASS | +-------------------+----------------+ | Debian Bullseye | PASS | +-------------------+----------------+ | CentOS Stream 9 | PASS | +-------------------+----------------+ | Fedora 40 (Clang) | PASS | +-------------------+----------------+ | RHEL9 | PASS | +-------------------+----------------+ | Fedora 40 | PASS | +-------------------+----------------+ | Fedora 41 | PASS | +-------------------+----------------+ | Fedora 41 (Clang) | PASS | +-------------------+----------------+ | Ubuntu 20.04 | PASS | +-------------------+----------------+ | RHEL8 | PASS | +-------------------+----------------+ | Ubuntu 22.04 | PASS | +-------------------+----------------+ | Ubuntu 24.04 | PASS | +-------------------+----------------+ CentOS Stream 10 Kernel: Depends on container host Compiler: gcc 14.2.1 20241104 (Red Hat 14.2.1-6) Debian 12 Kernel: Depends on container host Compiler: gcc (Debian 12.2.0-14) 12.2.0 Debian Bullseye Kernel: Depends on container host Compiler: gcc (Debian 10.2.1-6) 10.2.1 20210110 CentOS Stream 9 Kernel: Depends on container host Compiler: gcc 11.5.0 20240719 (Red Hat 11.5.0-2) Fedora 40 (Clang) Kernel: Depends on container host Compiler: clang 18.1.8 (Fedora 18.1.8-1.fc40) RHEL9 Kernel: Depends on container host Compiler: gcc 11.5.0 20240719 (Red Hat 11.5.0-2) Fedora 40 Kernel: Depends on container host Compiler: gcc 14.2.1 20240912 (Red Hat 14.2.1-3) Fedora 41 Kernel: Depends on container host Compiler: gcc 14.2.1 20240912 (Red Hat 14.2.1-3) Fedora 41 (Clang) Kernel: Depends on container host Compiler: clang 19.1.5 (Fedora 19.1.5-1.fc41) Ubuntu 20.04 Kernel: Depends on container host Compiler: gcc (Ubuntu 9.4.0-1ubuntu1~20.04.2) 9.4.0 RHEL8 Kernel: Depends on container host Compiler: gcc 8.5.0 20210514 (Red Hat 8.5.0-22) Ubuntu 22.04 Kernel: Depends on container host Compiler: gcc (Ubuntu 11.4.0-1ubuntu1~22.04) 11.4.0 Ubuntu 24.04 Kernel: Depends on container host Compiler: gcc (Ubuntu 13.3.0-6ubuntu2~24.04) 13.3.0 To view detailed results, visit: https://lab.dpdk.org/results/dashboard/patchsets/32623/ UNH-IOL DPDK Community Lab To manage your email subscriptions, visit: https://lab.dpdk.org/results/dashboard/preferences/subscriptions/