From mboxrd@z Thu Jan 1 00:00:00 1970 Return-Path: Received: from mails.dpdk.org (mails.dpdk.org [217.70.189.124]) by inbox.dpdk.org (Postfix) with ESMTP id ECD114627F for ; Fri, 21 Feb 2025 00:48:41 +0100 (CET) Received: from mails.dpdk.org (localhost [127.0.0.1]) by mails.dpdk.org (Postfix) with ESMTP id CAD6B402A8; Fri, 21 Feb 2025 00:48:41 +0100 (CET) Received: from mail-yw1-f228.google.com (mail-yw1-f228.google.com [209.85.128.228]) by mails.dpdk.org (Postfix) with ESMTP id E15D64026D for ; Fri, 21 Feb 2025 00:48:40 +0100 (CET) Received: by mail-yw1-f228.google.com with SMTP id 00721157ae682-6f4bc408e49so13368677b3.1 for ; Thu, 20 Feb 2025 15:48:40 -0800 (PST) DKIM-Signature: v=1; a=rsa-sha256; c=relaxed/relaxed; d=iol.unh.edu; s=unh-iol; t=1740095320; x=1740700120; darn=dpdk.org; h=references:in-reply-to:cc:to:from:subject:message-id:date:from:to :cc:subject:date:message-id:reply-to; bh=RrFW0NfnJSOEPKS0BjEYusVA7sZaRiak/4tL9cJijUs=; b=GRDMf5OXtBurichnMDpHiP5LegTUcp0KZf11CP9kVSWdMLe8xDZU1QcLsJ+e/4OD0D PptYL8twjsIP7dK1/Q1Dv0PYlB/yQRYDGGp6hTNyrId5uY9nw1JmFDZMp34+br8TqEFg PzOXC0enfRFbP5j24zabVwntQgt2izvd0U4dc= X-Google-DKIM-Signature: v=1; a=rsa-sha256; c=relaxed/relaxed; d=1e100.net; s=20230601; t=1740095320; x=1740700120; h=references:in-reply-to:cc:to:from:subject:message-id:date :x-gm-message-state:from:to:cc:subject:date:message-id:reply-to; bh=RrFW0NfnJSOEPKS0BjEYusVA7sZaRiak/4tL9cJijUs=; b=P6w4fO3Gk2pzcHjlRi4g9jH3WyHqFD/zuikB4fPPduOW0v2Bwz8PXLLnLUhnVF0LTT hNP+KTNa7lgPX95bucLyqp3KJcgl/nw/cL1YvteAv/7MxS6l8POJ0T8OEs6sY1UCNnbU 1xe5z/JXykJUfpjLBnYHqFKeqQpEn4eHPyKNr9Ob+zYcso/fQnObvs0JaaWQL5+bPtmm KK9+RA3e40ZrIGNxGeXc7j133b3oUuQwDh78VEwZldfGsEgOA6u4nGr46baH40fd78/W k9sOWymcp/VW7t+snfWIbm9QOULOzW20oEwhQet/XF+Q3Zz+sYVwT+u4m3seQvEJsrWW P/nA== X-Gm-Message-State: AOJu0YzoZyKaVrY5KMaaVPjsi0W1Dtuief3D4ht/MnPabqguQarTiDof 37DSi9dXwzm8ZUwpCAgWgQt280o/at8tlR+1X0xMCvtKjM7GG2Mv4uPIpAa4ZGHzLRN8eUh9uYg 1O6Tje441z70WAs/Aub/G/1sejI+M6fU1ib7CMtjn X-Gm-Gg: ASbGncsNoxc8RH9GsD5pwgY3UGSBYCc1TNW3HQHV8PzIY0rPN9akD5/VyhZMhVWWH90 V9023BCfO+ZhzoLAtmdrSaV9CBrhIIu8fqXvFm5ufE2/Fhp/Nam1Z9hMStTypeMloX2wvIM+1Kx t5WevmnSHQIEBbYOSz+2Oa4BesOPsBjlK4k/Vya+decoaNyqSRxlZRM8suMmpyeRoplrEJCRRyS RTP49MQ0rmW98FfKr78XXjPNuy7mc5P4UNuQQrt1wVEzqEljyw981/8fPwtIynTUVoSISMpYzwD qmO/QHrlkpNlbR4Mu9K2zzfLj2JoKg== X-Google-Smtp-Source: AGHT+IFlg1DZCPuFENGiTgY5rXB/J5PtD51UoJEW2UXppUsvjAqjJdq+I7x3V/1GLS3OXALaX7q6Z0T2EtOi X-Received: by 2002:a05:690c:6f85:b0:6f9:45de:408f with SMTP id 00721157ae682-6fbcc3a4e6dmr10659377b3.35.1740095320163; Thu, 20 Feb 2025 15:48:40 -0800 (PST) Received: from postal.iol.unh.edu (postal.iol.unh.edu. [132.177.123.84]) by smtp-relay.gmail.com with ESMTPS id 00721157ae682-6fb5601c791sm4288577b3.47.2025.02.20.15.48.40 (version=TLS1_2 cipher=ECDHE-ECDSA-AES128-GCM-SHA256 bits=128/128); Thu, 20 Feb 2025 15:48:40 -0800 (PST) X-Relaying-Domain: iol.unh.edu Date: Thu, 20 Feb 2025 15:48:40 -0800 (PST) Message-ID: <67b7bf58.050a0220.1f70e0.516dSMTPIN_ADDED_MISSING@mx.google.com> Received: from [172.21.0.9] (unknown [172.18.0.240]) by postal.iol.unh.edu (Postfix) with ESMTP id 44B386052471; Thu, 20 Feb 2025 18:48:31 -0500 (EST) Subject: |SUCCESS| pw151690 [PATCH] test/crypto: remove unused variable From: dpdklab@iol.unh.edu To: Test Report Cc: dpdk-test-reports@iol.unh.edu In-Reply-To: <20250220132807.2000-1-felix.zhang@jaguarmicro.com> References: <20250220132807.2000-1-felix.zhang@jaguarmicro.com> Content-Type: text/plain X-BeenThere: test-report@dpdk.org X-Mailman-Version: 2.1.29 Precedence: list List-Id: automatic DPDK test reports List-Unsubscribe: , List-Archive: List-Post: List-Help: List-Subscribe: , Errors-To: test-report-bounces@dpdk.org Test-Label: iol-unit-arm64-testing Test-Status: SUCCESS http://dpdk.org/patch/151690 _Testing PASS_ Submitter: Shaokai Zhang Date: Thursday, February 20 2025 13:28:07 DPDK git baseline: Repo:dpdk Branch: master CommitID:fab31a03ba98e7457284df95dd9eef2223a4ccaa 151690 --> testing pass Upstream job id: Generic-Unit-Test-DPDK#316764 Test environment and result as below: +-----------------------------+------------------------------+---------------------------+----------------+ | Environment | cryptodev_sw_snow3g_autotest | cryptodev_sw_zuc_autotest | dpdk_unit_test | +=============================+==============================+===========================+================+ | Debian 12 (arm) | PASS | PASS | PASS | +-----------------------------+------------------------------+---------------------------+----------------+ | 32-bit Ubuntu 22.04.4 (ARM) | SKIPPED | SKIPPED | PASS | +-----------------------------+------------------------------+---------------------------+----------------+ | CentOS Stream 9 (ARM) | SKIPPED | SKIPPED | PASS | +-----------------------------+------------------------------+---------------------------+----------------+ | Debian 11 (Buster) (ARM) | SKIPPED | SKIPPED | PASS | +-----------------------------+------------------------------+---------------------------+----------------+ | CentOS Stream 10 (ARM) | SKIPPED | SKIPPED | PASS | +-----------------------------+------------------------------+---------------------------+----------------+ | Fedora 40 (ARM) | SKIPPED | SKIPPED | PASS | +-----------------------------+------------------------------+---------------------------+----------------+ | Fedora 41 (ARM) | SKIPPED | SKIPPED | PASS | +-----------------------------+------------------------------+---------------------------+----------------+ | Fedora 40 (ARM Clang) | SKIPPED | SKIPPED | PASS | +-----------------------------+------------------------------+---------------------------+----------------+ | Fedora 41 (ARM Clang) | SKIPPED | SKIPPED | PASS | +-----------------------------+------------------------------+---------------------------+----------------+ | RHEL9 (ARM) | SKIPPED | SKIPPED | PASS | +-----------------------------+------------------------------+---------------------------+----------------+ | Ubuntu 22.04 (ARM) | SKIPPED | SKIPPED | PASS | +-----------------------------+------------------------------+---------------------------+----------------+ | Ubuntu 20.04 (ARM) | SKIPPED | SKIPPED | PASS | +-----------------------------+------------------------------+---------------------------+----------------+ | Ubuntu 24.04 (ARM) | SKIPPED | SKIPPED | PASS | +-----------------------------+------------------------------+---------------------------+----------------+ Debian 12 (arm) Kernel: Depends on container host Compiler: gcc (Debian 12.2.0-14) 12.2.0 32-bit Ubuntu 22.04.4 (ARM) Kernel: 5.15.83+ aarch64 Compiler: gcc (Ubuntu 11.4.0-1ubuntu1~22.04) 11.4.0 CentOS Stream 9 (ARM) Kernel: Depends on container host Compiler: gcc 11.5.0 20240719 (Red Hat 11.5.0-2) Debian 11 (Buster) (ARM) Kernel: Depends on container host Compiler: gcc (Debian 10.2.1-6) 10.2.1 20210110 CentOS Stream 10 (ARM) Kernel: Depends on container host Compiler: gcc 14.2.1 20241104 (Red Hat 14.2.1-6) Fedora 40 (ARM) Kernel: Depends on container host Compiler: gcc 14.2.1 20240912 (Red Hat 14.2.1-3) Fedora 41 (ARM) Kernel: Depends on container host Compiler: gcc 14.2.1 20240912 (Red Hat 14.2.1-3) Fedora 40 (ARM Clang) Kernel: Depends on container host Compiler: clang 18.1.8 (Fedora 18.1.8-1.fc40) Fedora 41 (ARM Clang) Kernel: Depends on container host Compiler: clang 19.1.5 (Fedora 19.1.5-1.fc41) RHEL9 (ARM) Kernel: Depends on container host Compiler: gcc 11.5.0 20240719 (Red Hat 11.5.0-2) Ubuntu 22.04 (ARM) Kernel: Depends on container host Compiler: gcc (Ubuntu 11.4.0-1ubuntu1~22.04) 11.4.0 Ubuntu 20.04 (ARM) Kernel: Depends on container host Compiler: gcc (Ubuntu 9.4.0-1ubuntu1~20.04.2) 9.4.0 Ubuntu 24.04 (ARM) Kernel: Depends on container host Compiler: gcc (Ubuntu 13.3.0-6ubuntu2~24.04) 13.3.0 To view detailed results, visit: https://lab.dpdk.org/results/dashboard/patchsets/32623/ UNH-IOL DPDK Community Lab To manage your email subscriptions, visit: https://lab.dpdk.org/results/dashboard/preferences/subscriptions/