From mboxrd@z Thu Jan 1 00:00:00 1970 Return-Path: Received: from mails.dpdk.org (mails.dpdk.org [217.70.189.124]) by inbox.dpdk.org (Postfix) with ESMTP id E68C74627F for ; Fri, 21 Feb 2025 01:29:48 +0100 (CET) Received: from mails.dpdk.org (localhost [127.0.0.1]) by mails.dpdk.org (Postfix) with ESMTP id DD7CB402A8; Fri, 21 Feb 2025 01:29:48 +0100 (CET) Received: from mail-pj1-f97.google.com (mail-pj1-f97.google.com [209.85.216.97]) by mails.dpdk.org (Postfix) with ESMTP id 65DB54026D for ; Fri, 21 Feb 2025 01:29:47 +0100 (CET) Received: by mail-pj1-f97.google.com with SMTP id 98e67ed59e1d1-2f42992f608so2540585a91.0 for ; Thu, 20 Feb 2025 16:29:47 -0800 (PST) DKIM-Signature: v=1; a=rsa-sha256; c=relaxed/relaxed; d=iol.unh.edu; s=unh-iol; t=1740097786; x=1740702586; darn=dpdk.org; h=references:in-reply-to:cc:to:from:subject:message-id:date:from:to :cc:subject:date:message-id:reply-to; bh=0HGiDEr/FCmcQscXzrx4HXgoxAsVdBHahCRoiqct9N8=; b=EtNWtAUsZVOXVspxJpQVyvkd1xdFhVg/GjwOvbPvIIeqET57LzrYuhaSjyYAq+PNEw JraJmtkfpyiIm1iYUtCfrVwvyQZnlA2HGJXOT5bPv88LvozrbjSTUhCbKF1fif+hxmxq kZ7eoRRqQcoJ/LwNflvhrS2mWSHIBgdafEqmA= X-Google-DKIM-Signature: v=1; a=rsa-sha256; c=relaxed/relaxed; d=1e100.net; s=20230601; t=1740097786; x=1740702586; h=references:in-reply-to:cc:to:from:subject:message-id:date :x-gm-message-state:from:to:cc:subject:date:message-id:reply-to; bh=0HGiDEr/FCmcQscXzrx4HXgoxAsVdBHahCRoiqct9N8=; b=e8wSUTqkgUG0RiG7LEmEMcejahZRjReANvaQIrnnqHrh0oS7JUIV7UyNzvdZ0/5fyG lzldy3HeswJy9l9feijrAR253UjvhtqBRiiKZXwzJ/iJ6wqUTJ8qheBDuDZ8gP7MuQh5 2TZlfuVjb/66pAUgYoEkXUAb9E1XPvxX4oIvQI+bAhNXkYlVzbUMU23rBhlzjGpsNzGh 321cS/8Hqg9moPdwC2BvBpzMekUUhvSnXz16iOQ3rTPI39LLC9lkaoJ0e1NoJE5PYQrt fHoM8xCqnwFmxAc6i2ohZ0diAcgTkkZdJsYBEMYKprAEYtW5zUsOpyhCplhT6AK4lQtJ VGWA== X-Gm-Message-State: AOJu0YwKfiBuMx4s92V8esj8TlkZyQQ/mYcAfW0Pm8ene+VJ5ksrW1YP B/HwYIfnjiAFOhp/99bQzUy+gbhXKkQmCV8bF7Irv16nhnhyEq1+iJ9E3IPiGf0QFY6efP32y7E 4eE9FuG2zpmNhegEaLEISRwEbqBriIWVkeNjcF5V3wOOWySI6brCU3pHP X-Gm-Gg: ASbGncsaEEvJ3H5xItu7VEk0JfPRTywdBjyHytjXrsh0hn8hMv+8E+YZRyJV+nt0Yua +23x/54ng+yTfbOnJ1PnmJ7hcN5clpWQqfFxsE+kpwctk7mRCeQkrTIKneyjd2dkpwCrJZLOkCD SILqYx9LWO36HG55BcieGq//Wdf4C/D55cADqHuAQO7/t9xP4D7CPnp7X9roxgq7dM8rE4BfrAm YzntniX+t9p6/o8FqOi24WzCqFUXMLsED8nu8FOA4OkJCEXCEQguj9yVzGJxmnagkB72w2YgGKe wV18O5Jqnld+cFwZz3/bHIAMWsLCoWADlOM8OEb2Xw== X-Google-Smtp-Source: AGHT+IEntSe5EH0rMUf5y18SinjPUWGQmayEWHlv7EI0UN9+k6AvCnjx5c0APUMCL/TT3hwRIqQ1w2698Q7A X-Received: by 2002:a17:90b:3d0e:b0:2ea:37b4:5373 with SMTP id 98e67ed59e1d1-2fce78aec58mr2143684a91.10.1740097786515; Thu, 20 Feb 2025 16:29:46 -0800 (PST) Received: from postal.iol.unh.edu (postal.iol.unh.edu. [2606:4100:3880:1234::84]) by smtp-relay.gmail.com with ESMTPS id 98e67ed59e1d1-2fceb02d52asm4642a91.2.2025.02.20.16.29.46 (version=TLS1_2 cipher=ECDHE-ECDSA-AES128-GCM-SHA256 bits=128/128); Thu, 20 Feb 2025 16:29:46 -0800 (PST) X-Relaying-Domain: iol.unh.edu Date: Thu, 20 Feb 2025 16:29:46 -0800 (PST) Message-ID: <67b7c8fa.170a0220.65e37.03b9SMTPIN_ADDED_MISSING@mx.google.com> Received: from [172.21.0.5] (unknown [172.18.0.240]) by postal.iol.unh.edu (Postfix) with ESMTP id BB8466052471; Thu, 20 Feb 2025 19:29:42 -0500 (EST) Subject: |SUCCESS| pw151690 [PATCH] test/crypto: remove unused variable From: dpdklab@iol.unh.edu To: Test Report Cc: dpdk-test-reports@iol.unh.edu In-Reply-To: <20250220132807.2000-1-felix.zhang@jaguarmicro.com> References: <20250220132807.2000-1-felix.zhang@jaguarmicro.com> Content-Type: text/plain X-BeenThere: test-report@dpdk.org X-Mailman-Version: 2.1.29 Precedence: list List-Id: automatic DPDK test reports List-Unsubscribe: , List-Archive: List-Post: List-Help: List-Subscribe: , Errors-To: test-report-bounces@dpdk.org Test-Label: iol-unit-amd64-testing Test-Status: SUCCESS http://dpdk.org/patch/151690 _Testing PASS_ Submitter: Shaokai Zhang Date: Thursday, February 20 2025 13:28:07 DPDK git baseline: Repo:dpdk Branch: master CommitID:fab31a03ba98e7457284df95dd9eef2223a4ccaa 151690 --> testing pass Upstream job id: Generic-VM-Unit-Test-DPDK#27298 Test environment and result as below: +---------------------+----------------+ | Environment | dpdk_unit_test | +=====================+================+ | CentOS Stream 10 | PASS | +---------------------+----------------+ | Debian 12 | PASS | +---------------------+----------------+ | Debian Bullseye | PASS | +---------------------+----------------+ | CentOS Stream 9 | PASS | +---------------------+----------------+ | Fedora 40 (Clang) | PASS | +---------------------+----------------+ | RHEL9 | PASS | +---------------------+----------------+ | Fedora 40 | PASS | +---------------------+----------------+ | Fedora 41 | PASS | +---------------------+----------------+ | Fedora 41 (Clang) | PASS | +---------------------+----------------+ | Ubuntu 20.04 | PASS | +---------------------+----------------+ | RHEL8 | PASS | +---------------------+----------------+ | Ubuntu 22.04 | PASS | +---------------------+----------------+ | Ubuntu 24.04 | PASS | +---------------------+----------------+ | Windows Server 2022 | PASS | +---------------------+----------------+ CentOS Stream 10 Kernel: Depends on container host Compiler: gcc 14.2.1 20241104 (Red Hat 14.2.1-6) Debian 12 Kernel: Depends on container host Compiler: gcc (Debian 12.2.0-14) 12.2.0 Debian Bullseye Kernel: Depends on container host Compiler: gcc (Debian 10.2.1-6) 10.2.1 20210110 CentOS Stream 9 Kernel: Depends on container host Compiler: gcc 11.5.0 20240719 (Red Hat 11.5.0-2) Fedora 40 (Clang) Kernel: Depends on container host Compiler: clang 18.1.8 (Fedora 18.1.8-1.fc40) RHEL9 Kernel: Depends on container host Compiler: gcc 11.5.0 20240719 (Red Hat 11.5.0-2) Fedora 40 Kernel: Depends on container host Compiler: gcc 14.2.1 20240912 (Red Hat 14.2.1-3) Fedora 41 Kernel: Depends on container host Compiler: gcc 14.2.1 20240912 (Red Hat 14.2.1-3) Fedora 41 (Clang) Kernel: Depends on container host Compiler: clang 19.1.5 (Fedora 19.1.5-1.fc41) Ubuntu 20.04 Kernel: Depends on container host Compiler: gcc (Ubuntu 9.4.0-1ubuntu1~20.04.2) 9.4.0 RHEL8 Kernel: Depends on container host Compiler: gcc 8.5.0 20210514 (Red Hat 8.5.0-22) Ubuntu 22.04 Kernel: Depends on container host Compiler: gcc (Ubuntu 11.4.0-1ubuntu1~22.04) 11.4.0 Ubuntu 24.04 Kernel: Depends on container host Compiler: gcc (Ubuntu 13.3.0-6ubuntu2~24.04) 13.3.0 Windows Server 2022 Kernel: 10.0.20348.2031 Compiler: clang 15.0.7, gcc 14.1.0 (MinGW), and MSVC VS 19.39.33521 To view detailed results, visit: https://lab.dpdk.org/results/dashboard/patchsets/32623/ UNH-IOL DPDK Community Lab To manage your email subscriptions, visit: https://lab.dpdk.org/results/dashboard/preferences/subscriptions/