From mboxrd@z Thu Jan 1 00:00:00 1970 Return-Path: Received: from mails.dpdk.org (mails.dpdk.org [217.70.189.124]) by inbox.dpdk.org (Postfix) with ESMTP id A1E0B4627F for ; Fri, 21 Feb 2025 01:34:17 +0100 (CET) Received: from mails.dpdk.org (localhost [127.0.0.1]) by mails.dpdk.org (Postfix) with ESMTP id 9653F402A8; Fri, 21 Feb 2025 01:34:17 +0100 (CET) Received: from mail-il1-f228.google.com (mail-il1-f228.google.com [209.85.166.228]) by mails.dpdk.org (Postfix) with ESMTP id 052E04026D for ; Fri, 21 Feb 2025 01:34:16 +0100 (CET) Received: by mail-il1-f228.google.com with SMTP id e9e14a558f8ab-3cf82bd380bso13386335ab.0 for ; Thu, 20 Feb 2025 16:34:16 -0800 (PST) DKIM-Signature: v=1; a=rsa-sha256; c=relaxed/relaxed; d=iol.unh.edu; s=unh-iol; t=1740098056; x=1740702856; darn=dpdk.org; h=references:in-reply-to:cc:to:from:subject:message-id:date:from:to :cc:subject:date:message-id:reply-to; bh=upRlmb+1bm3di5s3Vwm1IPDW72wMwrsnOXll1SvXkl4=; b=JgVPjXvEDgF3Wi4R9z9uIPhmG1g3ZBFxC9uDr6xOYfha1b7VFGbEdOcLCGpK8S9E3I JciyGL7okcbqcotH7/NK+wjfxBp/7wtr8rjOrGmebmjh4SJTjzXqAVcUndgRHSjBLnis BwMngrcZq3zGq0BWtp7c7h294/akDcweboL1Y= X-Google-DKIM-Signature: v=1; a=rsa-sha256; c=relaxed/relaxed; d=1e100.net; s=20230601; t=1740098056; x=1740702856; h=references:in-reply-to:cc:to:from:subject:message-id:date :x-gm-message-state:from:to:cc:subject:date:message-id:reply-to; bh=upRlmb+1bm3di5s3Vwm1IPDW72wMwrsnOXll1SvXkl4=; b=JJ6iQvz8t8/Vy41lv9SkUxkFZt2yu2V1LBlHCMZEz8popvhBmnPdePeiDkmRskRwoP M/wnuzZVy86lE8Fjpd7RpqAEfjsI6TumdmwEHRYbRgP1pUK7kJyhwl+BjEBnDT5YX8jY hBNzo8jooPtHV+GrzxRHG0qfQsJj8n6+Ak8RWkO//ycChpyqJxa+4FnlBw50GJqtzhXX AD9ICx6p58l02JjDwBdAbHvNMT4b+X0T25PjciyBxOUcLbsGbI2ss7et2bejzW+moKp6 CfK1WeZZkfTVBP8kN7E40VQdvbXviY2Xj6dSJraWyb2qu3oPqdg7M3LCj6FNYe5MhwbF mrMQ== X-Gm-Message-State: AOJu0Yy+jIa1aMDX3B9B2amisFS91tAzSvQyKnhCmI5XHry4tFVsoNtb PzUGfbYnRmb6LHX8TQWcuPOO7AcJhTWtb2EvNDsPZhAgahSIz26qMx55he7D5S4cTVcsJFKPuGX FvDJ8bmrBmBv+lIMWpL6DNfyciS4QOnKoC8gAfznNqmr4e49B9S4SxK7C X-Gm-Gg: ASbGncs7ABSMxHI5OO5gPTncEHIlBbQSmNTzACM2DItgFnZg9URoC8zQcdLfXlsjO4L bMQK5aRA8kmOk6mfRDMabmxqGEuDEeD5ERxg9s4BdnURi/QoGZm6tR64AY8VhH6bJJVJPtRUnBt B25UBPxmmkGz7HawM7ZOIw/rGvEHc3Ucq3C0RRZP3MXa8uuGYUXeJVoz2ooy4c6P0pwLFPj3qNB nqbAUBVQyWQEvV5i8JReKlOXeX28KE/h05JDM+2/Up3TtC32t40C9MHbEfhNdd7pZdX3F+zMbc3 asvPPRAfYJ70JKQqE/iHNQjOWqKSDA7DYbqunhWfag== X-Google-Smtp-Source: AGHT+IH5eLOkl2YgPOkTBIKwR+DCAngjdDo/6Wi5Mqphmxj9pSSGl/LQ1H+86RsAs5VanhFMYPvo10g+WpyL X-Received: by 2002:a05:6e02:1c0f:b0:3d2:b34d:a264 with SMTP id e9e14a558f8ab-3d2cb492863mr9986655ab.12.1740098054783; Thu, 20 Feb 2025 16:34:14 -0800 (PST) Received: from postal.iol.unh.edu (postal.iol.unh.edu. [2606:4100:3880:1234::84]) by smtp-relay.gmail.com with ESMTPS id e9e14a558f8ab-3d2ad13c9f7sm3962035ab.35.2025.02.20.16.34.14 (version=TLS1_2 cipher=ECDHE-ECDSA-AES128-GCM-SHA256 bits=128/128); Thu, 20 Feb 2025 16:34:14 -0800 (PST) X-Relaying-Domain: iol.unh.edu Date: Thu, 20 Feb 2025 16:34:14 -0800 (PST) Message-ID: <67b7ca06.050a0220.160e0c.44b8SMTPIN_ADDED_MISSING@mx.google.com> Received: from [172.21.0.6] (unknown [172.18.0.240]) by postal.iol.unh.edu (Postfix) with ESMTP id 1211F6052471; Thu, 20 Feb 2025 19:34:06 -0500 (EST) Subject: |SUCCESS| pw151685 [PATCH] maintainers: update for Intel FPGA bus dr From: dpdklab@iol.unh.edu To: Test Report Cc: dpdk-test-reports@iol.unh.edu In-Reply-To: <20250220082857.2981-1-rosen.xu@intel.com> References: <20250220082857.2981-1-rosen.xu@intel.com> Content-Type: text/plain X-BeenThere: test-report@dpdk.org X-Mailman-Version: 2.1.29 Precedence: list List-Id: automatic DPDK test reports List-Unsubscribe: , List-Archive: List-Post: List-Help: List-Subscribe: , Errors-To: test-report-bounces@dpdk.org Test-Label: iol-compile-amd64-testing Test-Status: SUCCESS http://dpdk.org/patch/151685 _Testing PASS_ Submitter: Rosen Xu Date: Thursday, February 20 2025 08:28:57 DPDK git baseline: Repo:dpdk Branch: master CommitID:fab31a03ba98e7457284df95dd9eef2223a4ccaa 151685 --> testing pass Upstream job id: Windows-Compile-DPDK-Native#26801 Test environment and result as below: +---------------------+--------------------+-------------------+------------------+-------------------+-------------------------+ | Environment | dpdk_meson_compile | dpdk_compile_spdk | dpdk_compile_ovs | dpdk_msvc_compile | dpdk_llvm_clang_compile | +=====================+====================+===================+==================+===================+=========================+ | CentOS Stream 9 | PASS | PASS | SKIPPED | SKIPPED | SKIPPED | +---------------------+--------------------+-------------------+------------------+-------------------+-------------------------+ | CentOS Stream 10 | PASS | SKIPPED | SKIPPED | SKIPPED | SKIPPED | +---------------------+--------------------+-------------------+------------------+-------------------+-------------------------+ | Debian Bullseye | PASS | PASS | SKIPPED | SKIPPED | SKIPPED | +---------------------+--------------------+-------------------+------------------+-------------------+-------------------------+ | Fedora 40 (Clang) | PASS | PASS | SKIPPED | SKIPPED | SKIPPED | +---------------------+--------------------+-------------------+------------------+-------------------+-------------------------+ | Debian 12 | PASS | PASS | SKIPPED | SKIPPED | SKIPPED | +---------------------+--------------------+-------------------+------------------+-------------------+-------------------------+ | Fedora 40 | PASS | PASS | SKIPPED | SKIPPED | SKIPPED | +---------------------+--------------------+-------------------+------------------+-------------------+-------------------------+ | Fedora 41 (Clang) | PASS | PASS | PASS | SKIPPED | SKIPPED | +---------------------+--------------------+-------------------+------------------+-------------------+-------------------------+ | Fedora 41 | PASS | PASS | PASS | SKIPPED | SKIPPED | +---------------------+--------------------+-------------------+------------------+-------------------+-------------------------+ | Ubuntu 20.04 | PASS | SKIPPED | SKIPPED | SKIPPED | SKIPPED | +---------------------+--------------------+-------------------+------------------+-------------------+-------------------------+ | openSUSE Leap 15 | PASS | SKIPPED | SKIPPED | SKIPPED | SKIPPED | +---------------------+--------------------+-------------------+------------------+-------------------+-------------------------+ | RHEL8 | PASS | SKIPPED | SKIPPED | SKIPPED | SKIPPED | +---------------------+--------------------+-------------------+------------------+-------------------+-------------------------+ | RHEL9 | PASS | SKIPPED | SKIPPED | SKIPPED | SKIPPED | +---------------------+--------------------+-------------------+------------------+-------------------+-------------------------+ | Ubuntu 22.04 | PASS | PASS | SKIPPED | SKIPPED | SKIPPED | +---------------------+--------------------+-------------------+------------------+-------------------+-------------------------+ | Ubuntu 24.04 | PASS | PASS | PASS | SKIPPED | SKIPPED | +---------------------+--------------------+-------------------+------------------+-------------------+-------------------------+ | Alpine | PASS | SKIPPED | SKIPPED | SKIPPED | SKIPPED | +---------------------+--------------------+-------------------+------------------+-------------------+-------------------------+ | FreeBSD 13.4 | PASS | SKIPPED | SKIPPED | SKIPPED | SKIPPED | +---------------------+--------------------+-------------------+------------------+-------------------+-------------------------+ | FreeBSD 14.2 | PASS | SKIPPED | SKIPPED | SKIPPED | SKIPPED | +---------------------+--------------------+-------------------+------------------+-------------------+-------------------------+ | Windows Server 2022 | SKIPPED | SKIPPED | SKIPPED | PASS | PASS | +---------------------+--------------------+-------------------+------------------+-------------------+-------------------------+ CentOS Stream 9 Kernel: Depends on container host Compiler: gcc 11.5.0 20240719 (Red Hat 11.5.0-2) CentOS Stream 10 Kernel: Depends on container host Compiler: gcc 14.2.1 20241104 (Red Hat 14.2.1-6) Debian Bullseye Kernel: Depends on container host Compiler: gcc (Debian 10.2.1-6) 10.2.1 20210110 Fedora 40 (Clang) Kernel: Depends on container host Compiler: clang 18.1.8 (Fedora 18.1.8-1.fc40) Debian 12 Kernel: Depends on container host Compiler: gcc (Debian 12.2.0-14) 12.2.0 Fedora 40 Kernel: Depends on container host Compiler: gcc 14.2.1 20240912 (Red Hat 14.2.1-3) Fedora 41 (Clang) Kernel: Depends on container host Compiler: clang 19.1.5 (Fedora 19.1.5-1.fc41) Fedora 41 Kernel: Depends on container host Compiler: gcc 14.2.1 20240912 (Red Hat 14.2.1-3) Ubuntu 20.04 Kernel: Depends on container host Compiler: gcc (Ubuntu 9.4.0-1ubuntu1~20.04.2) 9.4.0 openSUSE Leap 15 Kernel: Depends on container host Compiler: gcc (SUSE Linux) 7.5.0 RHEL8 Kernel: Depends on container host Compiler: gcc 8.5.0 20210514 (Red Hat 8.5.0-22) RHEL9 Kernel: Depends on container host Compiler: gcc 11.5.0 20240719 (Red Hat 11.5.0-2) Ubuntu 22.04 Kernel: Depends on container host Compiler: gcc (Ubuntu 11.4.0-1ubuntu1~22.04) 11.4.0 Ubuntu 24.04 Kernel: Depends on container host Compiler: gcc (Ubuntu 13.3.0-6ubuntu2~24.04) 13.3.0 Alpine Kernel: Depends on container host Compiler: gcc (Alpine 14.2.0) 14.2.0 FreeBSD 13.4 Kernel: 13.4-RELEASE-p1 Compiler: clang 18.1.6 FreeBSD 14.2 Kernel: 14.2-RELEASE Compiler: clang 18.1.6 Windows Server 2022 Kernel: 10.0.20348.2031 Compiler: clang 15.0.7, gcc 14.1.0 (MinGW), and MSVC VS 19.39.33521 To view detailed results, visit: https://lab.dpdk.org/results/dashboard/patchsets/32620/ UNH-IOL DPDK Community Lab To manage your email subscriptions, visit: https://lab.dpdk.org/results/dashboard/preferences/subscriptions/