From mboxrd@z Thu Jan 1 00:00:00 1970 Return-Path: Received: from mails.dpdk.org (mails.dpdk.org [217.70.189.124]) by inbox.dpdk.org (Postfix) with ESMTP id 695A34627F for ; Fri, 21 Feb 2025 01:38:31 +0100 (CET) Received: from mails.dpdk.org (localhost [127.0.0.1]) by mails.dpdk.org (Postfix) with ESMTP id 3FD1B402A8; Fri, 21 Feb 2025 01:38:31 +0100 (CET) Received: from mail-yw1-f225.google.com (mail-yw1-f225.google.com [209.85.128.225]) by mails.dpdk.org (Postfix) with ESMTP id 185C14026D for ; Fri, 21 Feb 2025 01:38:30 +0100 (CET) Received: by mail-yw1-f225.google.com with SMTP id 00721157ae682-6efe4e3d698so14439847b3.0 for ; Thu, 20 Feb 2025 16:38:30 -0800 (PST) DKIM-Signature: v=1; a=rsa-sha256; c=relaxed/relaxed; d=iol.unh.edu; s=unh-iol; t=1740098309; x=1740703109; darn=dpdk.org; h=references:in-reply-to:cc:to:from:subject:message-id:date:from:to :cc:subject:date:message-id:reply-to; bh=+x/QI/+m3iS58MOH8Iy9OqVBx9Z3ebmuU5NceO0T0Yg=; b=Ib7S1jp6EWgnBtodwiC2xt/TJLLf424Iaah/eoMlrA/hbRImLL1YkvYyEqK+vI9e2e rqJMNHnjmwEkmyEJUhG/SfTxSAl668UZFOAGECMP/ld5seNqQrmYY6Tgg4XGJHHnXY0K KpEATaaPqQZ8i2cTvShyjIvo9h8cgnO/+I0kU= X-Google-DKIM-Signature: v=1; a=rsa-sha256; c=relaxed/relaxed; d=1e100.net; s=20230601; t=1740098309; x=1740703109; h=references:in-reply-to:cc:to:from:subject:message-id:date :x-gm-message-state:from:to:cc:subject:date:message-id:reply-to; bh=+x/QI/+m3iS58MOH8Iy9OqVBx9Z3ebmuU5NceO0T0Yg=; b=lESQV1Nf7zVEjc4IrBaDIBLVvN3cRLpHlDTDjGOR6N6Ed+V1RGO88IZu6TxXx+3hqi NnsDTDC4uc1Vsu84pKTUYKAevIWafn7/K2KoS300YCZRf/YyCRjdQpC2Z3hb817OF95G fmLlLmH1PpXClhu6EV0ZTdnHicM75zs/6zbf/uzpwh5gRcXXMgtXCsiVmwPwqhj2brEq +YQh6qz77BSm0AMRL3DJ2Nr9chU58nhPku49BDwa01qFxQzOMfVN49Q6F0cMZzsBdohK psRQjdDN6TUBKs/IeClc/EoqVRnWYec7reWYvd15AHcuTUimTgI5IDF0Rqxxc/oX8RHC uIng== X-Gm-Message-State: AOJu0YykqKjCZSfc4SOJNd5EveRNqvDrOJb/OW+irWjgbOP7US+nx21l qb92ebHVRXsizRIaamrAAd5jfEr5G0rIeSYnvMuoTO0dkzgBXYEiCdAPn4tMsC9WmWojaKs0tQS LnpiSPwjK3c6sArRNMh/8n+vG/fWV+imvSFaY6Wh6SNeDdJnt4aiMn1ql X-Gm-Gg: ASbGncu2+c8V42iEBdMD6pg5eN8ivAAyTUd3fqxST25FLEb4rEmulCVCDWBXyE80GgZ RvxMiGTF22j2GUV1OF7D6YwxdyFqXNg1Le+25aNM71NvbBO2XGQwSHyZQAvAA9MMCc2t3l8A9r5 4CFQU6vXHqPI+FO5y+RV3H/Ei61tO2c6qgJEmmnXxpE0CnUiSZ4JvUOi/1x4y+vUmhr3KVU5z7v EQ7cDbk8z7WTeeg0HraGBP/aXrhccDqa7Xzd1IX5H4E/tjPN6Oi+d5ZuvqJrqyVoMTvQxpMTvBX 65ZAgbqnQc66FfsA7xI+3HJWjFFWnU5y33x9xFqOIA== X-Google-Smtp-Source: AGHT+IFmQjl20SXf2MCfBRpmlAqp+R5/UF4eDP9bbVeJ1+y1iR/Jj5R2C7GRTitmogFRK3L598rA6gVgIgOp X-Received: by 2002:a05:690c:700e:b0:6f7:534b:560a with SMTP id 00721157ae682-6fbcc1ec544mr10555657b3.8.1740098309307; Thu, 20 Feb 2025 16:38:29 -0800 (PST) Received: from postal.iol.unh.edu (postal.iol.unh.edu. [2606:4100:3880:1234::84]) by smtp-relay.gmail.com with ESMTPS id 00721157ae682-6fba1524b6csm2464707b3.44.2025.02.20.16.38.29 (version=TLS1_2 cipher=ECDHE-ECDSA-AES128-GCM-SHA256 bits=128/128); Thu, 20 Feb 2025 16:38:29 -0800 (PST) X-Relaying-Domain: iol.unh.edu Date: Thu, 20 Feb 2025 16:38:29 -0800 (PST) Message-ID: <67b7cb05.050a0220.22515b.cb88SMTPIN_ADDED_MISSING@mx.google.com> Received: from [172.17.0.5] (unknown [172.18.0.217]) by postal.iol.unh.edu (Postfix) with ESMTP id 29F286052472; Thu, 20 Feb 2025 19:38:26 -0500 (EST) Subject: |SUCCESS| pw151691-151705 [PATCH] [v9,15/15] devtools/cocci: add scr From: dpdklab@iol.unh.edu To: Test Report Cc: dpdk-test-reports@iol.unh.edu In-Reply-To: <20250220164151.9606-16-stephen@networkplumber.org> References: <20250220164151.9606-16-stephen@networkplumber.org> Content-Type: text/plain X-BeenThere: test-report@dpdk.org X-Mailman-Version: 2.1.29 Precedence: list List-Id: automatic DPDK test reports List-Unsubscribe: , List-Archive: List-Post: List-Help: List-Subscribe: , Errors-To: test-report-bounces@dpdk.org Test-Label: iol-compile-arm64-testing Test-Status: SUCCESS http://dpdk.org/patch/151705 _Testing PASS_ Submitter: Stephen Hemminger Date: Thursday, February 20 2025 16:27:21 DPDK git baseline: Repo:dpdk Branch: master CommitID:fab31a03ba98e7457284df95dd9eef2223a4ccaa 151691-151705 --> testing pass Upstream job id: Generic-DPDK-Compile-Meson#363561 Test environment and result as below: +----------------------------------------+--------------------+ | Environment | dpdk_meson_compile | +========================================+====================+ | RHEL9 (ARM) | PASS | +----------------------------------------+--------------------+ | Ubuntu 20.04 ARM SVE | PASS | +----------------------------------------+--------------------+ | Debian 12 with MUSDK | PASS | +----------------------------------------+--------------------+ | Fedora 40 (ARM) | PASS | +----------------------------------------+--------------------+ | Fedora 40 (ARM Clang) | PASS | +----------------------------------------+--------------------+ | Fedora 41 (ARM) | PASS | +----------------------------------------+--------------------+ | Fedora 41 (ARM Clang) | PASS | +----------------------------------------+--------------------+ | Ubuntu 20.04 (ARM) | PASS | +----------------------------------------+--------------------+ | Ubuntu 22.04 (ARM) | PASS | +----------------------------------------+--------------------+ | Ubuntu 24.04 (ARM) | PASS | +----------------------------------------+--------------------+ | CentOS Stream 9 (ARM) | PASS | +----------------------------------------+--------------------+ | CentOS Stream 10 (ARM) | PASS | +----------------------------------------+--------------------+ | Debian 11 (Buster) (ARM) | PASS | +----------------------------------------+--------------------+ | Debian 12 (arm) | PASS | +----------------------------------------+--------------------+ | Ubuntu 20.04 ARM Clang Cross Compile | PASS | +----------------------------------------+--------------------+ | Ubuntu 20.04 aarch32 GCC Cross Compile | PASS | +----------------------------------------+--------------------+ | Ubuntu 20.04 ARM GCC Cross Compile | PASS | +----------------------------------------+--------------------+ RHEL9 (ARM) Kernel: Depends on container host Compiler: gcc 11.5.0 20240719 (Red Hat 11.5.0-2) Ubuntu 20.04 ARM SVE Kernel: Depends on container host Compiler: gcc (Ubuntu 10.5.0-1ubuntu1~20.04) 10.5.0 Debian 12 with MUSDK Kernel: Depends on container host Compiler: gcc (Debian 12.2.0-14) 12.2.0 Fedora 40 (ARM) Kernel: Depends on container host Compiler: gcc 14.2.1 20240912 (Red Hat 14.2.1-3) Fedora 40 (ARM Clang) Kernel: Depends on container host Compiler: clang 18.1.8 (Fedora 18.1.8-1.fc40) Fedora 41 (ARM) Kernel: Depends on container host Compiler: gcc 14.2.1 20240912 (Red Hat 14.2.1-3) Fedora 41 (ARM Clang) Kernel: Depends on container host Compiler: clang 19.1.5 (Fedora 19.1.5-1.fc41) Ubuntu 20.04 (ARM) Kernel: Depends on container host Compiler: gcc (Ubuntu 9.4.0-1ubuntu1~20.04.2) 9.4.0 Ubuntu 22.04 (ARM) Kernel: Depends on container host Compiler: gcc (Ubuntu 11.4.0-1ubuntu1~22.04) 11.4.0 Ubuntu 24.04 (ARM) Kernel: Depends on container host Compiler: gcc (Ubuntu 13.3.0-6ubuntu2~24.04) 13.3.0 CentOS Stream 9 (ARM) Kernel: Depends on container host Compiler: gcc 11.5.0 20240719 (Red Hat 11.5.0-2) CentOS Stream 10 (ARM) Kernel: Depends on container host Compiler: gcc 14.2.1 20241104 (Red Hat 14.2.1-6) Debian 11 (Buster) (ARM) Kernel: Depends on container host Compiler: gcc (Debian 10.2.1-6) 10.2.1 20210110 Debian 12 (arm) Kernel: Depends on container host Compiler: gcc (Debian 12.2.0-14) 12.2.0 Ubuntu 20.04 ARM Clang Cross Compile Kernel: Depends on container host Compiler: clang 10.0.0-4ubuntu1 Ubuntu 20.04 aarch32 GCC Cross Compile Kernel: Depends on container host Compiler: gcc 9.4.0 Ubuntu 20.04 ARM GCC Cross Compile Kernel: Depends on container host Compiler: aarch64-linux-gnu-gcc (Ubuntu 9.4.0-1ubuntu1~20.04.2) 9.4.0 To view detailed results, visit: https://lab.dpdk.org/results/dashboard/patchsets/32624/ UNH-IOL DPDK Community Lab To manage your email subscriptions, visit: https://lab.dpdk.org/results/dashboard/preferences/subscriptions/