From mboxrd@z Thu Jan 1 00:00:00 1970 Return-Path: Received: from mails.dpdk.org (mails.dpdk.org [217.70.189.124]) by inbox.dpdk.org (Postfix) with ESMTP id 809774627F for ; Fri, 21 Feb 2025 01:47:21 +0100 (CET) Received: from mails.dpdk.org (localhost [127.0.0.1]) by mails.dpdk.org (Postfix) with ESMTP id 5BDE1402A8; Fri, 21 Feb 2025 01:47:21 +0100 (CET) Received: from mail-pl1-f226.google.com (mail-pl1-f226.google.com [209.85.214.226]) by mails.dpdk.org (Postfix) with ESMTP id 610B34026D for ; Fri, 21 Feb 2025 01:47:20 +0100 (CET) Received: by mail-pl1-f226.google.com with SMTP id d9443c01a7336-221206dbd7eso30647465ad.2 for ; Thu, 20 Feb 2025 16:47:20 -0800 (PST) DKIM-Signature: v=1; a=rsa-sha256; c=relaxed/relaxed; d=iol.unh.edu; s=unh-iol; t=1740098839; x=1740703639; darn=dpdk.org; h=references:in-reply-to:cc:to:from:subject:message-id:date:from:to :cc:subject:date:message-id:reply-to; bh=BoVj/TNiGJlVJNCPsbnhwWD+BJBmEBKZ5VrsfIo+cmU=; b=EA6BeH4DtIrEohqkHF0I+5HVRR1t3dFw3Pg9TMF4ruME5D4iVjE4m/AE5+QPeGNC03 qXTYQlyYqIM990/JpoD8Z9SCmyksVO+XbJQbCb8K88yQwI1NyYhWiyP87+LjEczWTKqa HrfnqEumTQ0mIGB2SnP2MOJLQUxaJMbzl7o2E= X-Google-DKIM-Signature: v=1; a=rsa-sha256; c=relaxed/relaxed; d=1e100.net; s=20230601; t=1740098839; x=1740703639; h=references:in-reply-to:cc:to:from:subject:message-id:date :x-gm-message-state:from:to:cc:subject:date:message-id:reply-to; bh=BoVj/TNiGJlVJNCPsbnhwWD+BJBmEBKZ5VrsfIo+cmU=; b=BVtBYTPp/fYUUY4qSOpuRBsQBtMkJ+49UWsL/ox8ce5EFyOCW46CpUuDFg5uDEwsIe IVoZ7kZDOWeyAB2LsfOfUfQzB0v6+vnBi+JzYl2TTG6lQ3Ui2wPHM5Wo4ZSS8HemyoM1 EKA5Sw7RU6QfNXqanoovO8IQNqbHLmdeIcvbmhQcWesToAvHx4QJdZZtvGIIXz9/YPhy q9cN+sAIO/xGD/90ONabnlfZqSNDj9ZKXIW6fXFsfXc3VS0J994vzwMnJ7Tlt5ffiJGB L8pM9RmSodQTwYnZUt/hSRR6rZRyY7+HPhB7fn9oGxD3PX4KQH5Mn9YWhd4SuNXrEO1c AtZA== X-Gm-Message-State: AOJu0YzODWlNqKEWlc/wYjQHj1P4CjkEKyBZhVFEzu6aXcgJJN0zEKBd /QhuDkGxi+42zC7WtJWqjNe2ZCnZzPzlI+M+c3LHO/xdyR6cO2UqCy4VQX1yjH/UksrtSfJEJhX 5dLmzJMR/qqfWwh1gnVaP+p0sn7ILzEVwQlcc51Ke7h5nhuyMYWApWkSG X-Gm-Gg: ASbGnctW3+uoD557+OqD06bYPIyiMzvpSfU8/wMWbRIEfr9KXeDyEMU9uCa1Pha8B+g awcOifW3sBRJbAOQUTs+R/Fuh/GJSHefvYCmVE2eOQgTWsxd9uxQlKEVX9aDAsBqfCp56wMZVWQ +3Amlbi0zhV0QZ8GiKhTjnGmJBqX3XKEJkI3tK/PVqp8iDIRUo1aGtjm/e4gO54Zn6PhP1RvA4P FIT2rX32BVfvNGMSH6v5oAtSCvHsUe3Qtngd6Fwbc/adUF61KfyMdK4nKhKhFcTGIwoYuOOA8cC 7FV4nOF6LhqTQKaPPc1h6Te4p/t7StrIK+Pb5iMjXw== X-Google-Smtp-Source: AGHT+IEIVyHsmSYn8cQea/mhX7seZaCJsYXgP8dJ69SYJnpzFnx2gd5V/QQXS8xhwBLAZtxkbbPa6CMinYlI X-Received: by 2002:a05:6a21:6d9d:b0:1ee:be88:f5c9 with SMTP id adf61e73a8af0-1eef3d8d305mr2407290637.31.1740098839449; Thu, 20 Feb 2025 16:47:19 -0800 (PST) Received: from postal.iol.unh.edu (postal.iol.unh.edu. [2606:4100:3880:1234::84]) by smtp-relay.gmail.com with ESMTPS id 41be03b00d2f7-adcb3eb5213sm412583a12.0.2025.02.20.16.47.19 (version=TLS1_2 cipher=ECDHE-ECDSA-AES128-GCM-SHA256 bits=128/128); Thu, 20 Feb 2025 16:47:19 -0800 (PST) X-Relaying-Domain: iol.unh.edu Date: Thu, 20 Feb 2025 16:47:19 -0800 (PST) Message-ID: <67b7cd17.650a0220.9e341.3263SMTPIN_ADDED_MISSING@mx.google.com> Received: from [172.21.0.5] (unknown [172.18.0.240]) by postal.iol.unh.edu (Postfix) with ESMTP id 434886052471; Thu, 20 Feb 2025 19:47:16 -0500 (EST) Subject: |SUCCESS| pw151720-151724 [PATCH] [v3,6/6] mbuf: enable to be compil From: dpdklab@iol.unh.edu To: Test Report Cc: dpdk-test-reports@iol.unh.edu In-Reply-To: <1740083508-6703-7-git-send-email-andremue@linux.microsoft.com> References: <1740083508-6703-7-git-send-email-andremue@linux.microsoft.com> Content-Type: text/plain X-BeenThere: test-report@dpdk.org X-Mailman-Version: 2.1.29 Precedence: list List-Id: automatic DPDK test reports List-Unsubscribe: , List-Archive: List-Post: List-Help: List-Subscribe: , Errors-To: test-report-bounces@dpdk.org Test-Label: iol-abi-testing Test-Status: SUCCESS http://dpdk.org/patch/151724 _Testing PASS_ Submitter: Andre Muezerie Date: Thursday, February 20 2025 20:31:48 DPDK git baseline: Repo:dpdk Branch: master CommitID:fab31a03ba98e7457284df95dd9eef2223a4ccaa 151720-151724 --> testing pass Upstream job id: Generic-DPDK-Compile-ABI#116983 Test environment and result as below: +-------------------+----------+ | Environment | abi_test | +===================+==========+ | CentOS Stream 9 | PASS | +-------------------+----------+ | Debian Bullseye | PASS | +-------------------+----------+ | CentOS Stream 10 | PASS | +-------------------+----------+ | Fedora 40 | PASS | +-------------------+----------+ | Debian 12 | PASS | +-------------------+----------+ | Fedora 41 (Clang) | PASS | +-------------------+----------+ | Fedora 41 | PASS | +-------------------+----------+ | openSUSE Leap 15 | PASS | +-------------------+----------+ | RHEL8 | PASS | +-------------------+----------+ | RHEL9 | PASS | +-------------------+----------+ | Ubuntu 22.04 | PASS | +-------------------+----------+ | Fedora 40 (Clang) | PASS | +-------------------+----------+ | Ubuntu 24.04 | PASS | +-------------------+----------+ CentOS Stream 9 Kernel: Depends on container host Compiler: gcc 11.5.0 20240719 (Red Hat 11.5.0-2) Debian Bullseye Kernel: Depends on container host Compiler: gcc (Debian 10.2.1-6) 10.2.1 20210110 CentOS Stream 10 Kernel: Depends on container host Compiler: gcc 14.2.1 20241104 (Red Hat 14.2.1-6) Fedora 40 Kernel: Depends on container host Compiler: gcc 14.2.1 20240912 (Red Hat 14.2.1-3) Debian 12 Kernel: Depends on container host Compiler: gcc (Debian 12.2.0-14) 12.2.0 Fedora 41 (Clang) Kernel: Depends on container host Compiler: clang 19.1.5 (Fedora 19.1.5-1.fc41) Fedora 41 Kernel: Depends on container host Compiler: gcc 14.2.1 20240912 (Red Hat 14.2.1-3) openSUSE Leap 15 Kernel: Depends on container host Compiler: gcc (SUSE Linux) 7.5.0 RHEL8 Kernel: Depends on container host Compiler: gcc 8.5.0 20210514 (Red Hat 8.5.0-22) RHEL9 Kernel: Depends on container host Compiler: gcc 11.5.0 20240719 (Red Hat 11.5.0-2) Ubuntu 22.04 Kernel: Depends on container host Compiler: gcc (Ubuntu 11.4.0-1ubuntu1~22.04) 11.4.0 Fedora 40 (Clang) Kernel: Depends on container host Compiler: clang 18.1.8 (Fedora 18.1.8-1.fc40) Ubuntu 24.04 Kernel: Depends on container host Compiler: gcc (Ubuntu 13.3.0-6ubuntu2~24.04) 13.3.0 To view detailed results, visit: https://lab.dpdk.org/results/dashboard/patchsets/32626/ UNH-IOL DPDK Community Lab To manage your email subscriptions, visit: https://lab.dpdk.org/results/dashboard/preferences/subscriptions/