From mboxrd@z Thu Jan 1 00:00:00 1970 Return-Path: Received: from mails.dpdk.org (mails.dpdk.org [217.70.189.124]) by inbox.dpdk.org (Postfix) with ESMTP id 3F6654627F for ; Fri, 21 Feb 2025 01:54:49 +0100 (CET) Received: from mails.dpdk.org (localhost [127.0.0.1]) by mails.dpdk.org (Postfix) with ESMTP id 3A953402A8; Fri, 21 Feb 2025 01:54:49 +0100 (CET) Received: from mail-pj1-f100.google.com (mail-pj1-f100.google.com [209.85.216.100]) by mails.dpdk.org (Postfix) with ESMTP id 8AE974026D for ; Fri, 21 Feb 2025 01:54:47 +0100 (CET) Received: by mail-pj1-f100.google.com with SMTP id 98e67ed59e1d1-2fc0bd358ccso3206127a91.2 for ; Thu, 20 Feb 2025 16:54:47 -0800 (PST) DKIM-Signature: v=1; a=rsa-sha256; c=relaxed/relaxed; d=iol.unh.edu; s=unh-iol; t=1740099287; x=1740704087; darn=dpdk.org; h=references:in-reply-to:cc:to:from:subject:message-id:date:from:to :cc:subject:date:message-id:reply-to; bh=IE0XkJCBQdgl8BixTmvdtUKg+4U9e5PzSv0yvU4M3uI=; b=hWF9JUZxkSR11OiUea2cbR12nXjoyCbR7Z+gPQJER6lGDae+VYjWqhTlWghwCoAXDM egnluuJIQCki2YHvT+2llrsdcwulXY0OiEvCl8lGmpz7+lFqop8seJDqPGvqLN5Jwlz4 nPXbqiZ4pkFZB61BW5q/YnLV0Dw02boCpcqL4= X-Google-DKIM-Signature: v=1; a=rsa-sha256; c=relaxed/relaxed; d=1e100.net; s=20230601; t=1740099287; x=1740704087; h=references:in-reply-to:cc:to:from:subject:message-id:date :x-gm-message-state:from:to:cc:subject:date:message-id:reply-to; bh=IE0XkJCBQdgl8BixTmvdtUKg+4U9e5PzSv0yvU4M3uI=; b=jrjWN94Sx0QEHb9jAoVDVw8PU2906O+1IH/zHPFSM6HvqhzZHDspzfPYKPpIBXgd4W GUigy6RfzrhGPnpm+wBJ8nwvFP89mTNwfXnLXwKTX1BblhM3XURq7JZ+CyOaJgSvzH2H eGlP2MdfBBLqDW4OQdFouvDfh121FDTgaLF2CtvR+fAZVZkI6jZSsUfTBxiiHf79Ps0P oBlJ0baaiDIrc1p8eelIF/8jtG31vABh8VHspbWf94/ngCsMKzZV2HBSLoc3f6AtXpG0 Jf972DpLyuL/o2N58QgsMnI8FZTNuuVZpBOGG2YqNycbjyK5QbRrZqeMzg7/ErkKXxLb uRpQ== X-Gm-Message-State: AOJu0YyJ4aj29e3MGzGTZ8L8FLBW43DZl5oeDLZ2etg3R2jlVfJvK3El Odh/2I2W4zb29+beGwpWZ1CqgrpKYeyD2LOPQrwQcL0oUGn7blHffE95Phn+3bHi8GNyjYtvJ3Z 9ALffGyTkPA3RxHiZhYibI4yPInggajbLRf3vaG65 X-Gm-Gg: ASbGncsuF6bIGd32nuHYfxGme5XZBo5aq9jbIX2ZK5QIuP61DhnLwDsCcADPAYsRhq+ lkBuVa0ftOP0vO5iNbY2kMREAIZrtbRPMroXZCTtc7EgwaMOPNCyjXdiAcFR7avJZ7jkvA9udA7 V8+7phNZdLW6DLlxy2YMu4yVb+BQdrozP1jsp5WUxWpL3dHI/D/BTXj8v2Plu+WfJVKh5vmyvv3 rdRAEBF22icBcRxb++JYX5FMqWuW629EfDDHNLNyt4vnCOcK5ZfohsPwNFG1QLUgLSBlIv+mIXr 5oQdJXT1RV16gOupbC/s4bFpjy7InQ== X-Google-Smtp-Source: AGHT+IFNPfL1Y+eeXZgp4NsZyLukUCYb7Sku/spfYSZemYy8xE+RpyeJbQ7kykTqxqa2KbGpLejwLumNfnjs X-Received: by 2002:a17:90b:5202:b0:2ea:a25d:3baa with SMTP id 98e67ed59e1d1-2fce779bc2amr2024989a91.5.1740099286718; Thu, 20 Feb 2025 16:54:46 -0800 (PST) Received: from postal.iol.unh.edu (postal.iol.unh.edu. [132.177.123.84]) by smtp-relay.gmail.com with ESMTPS id 98e67ed59e1d1-2fceb09f0e8sm7769a91.14.2025.02.20.16.54.46 (version=TLS1_2 cipher=ECDHE-ECDSA-AES128-GCM-SHA256 bits=128/128); Thu, 20 Feb 2025 16:54:46 -0800 (PST) X-Relaying-Domain: iol.unh.edu Date: Thu, 20 Feb 2025 16:54:46 -0800 (PST) Message-ID: <67b7ced6.170a0220.3c0d88.0678SMTPIN_ADDED_MISSING@mx.google.com> Received: from [172.21.0.7] (unknown [172.18.0.240]) by postal.iol.unh.edu (Postfix) with ESMTP id 8096E6052471; Thu, 20 Feb 2025 19:54:37 -0500 (EST) Subject: |SUCCESS| pw151690 [PATCH] test/crypto: remove unused variable From: dpdklab@iol.unh.edu To: Test Report Cc: dpdk-test-reports@iol.unh.edu In-Reply-To: <20250220132807.2000-1-felix.zhang@jaguarmicro.com> References: <20250220132807.2000-1-felix.zhang@jaguarmicro.com> Content-Type: text/plain X-BeenThere: test-report@dpdk.org X-Mailman-Version: 2.1.29 Precedence: list List-Id: automatic DPDK test reports List-Unsubscribe: , List-Archive: List-Post: List-Help: List-Subscribe: , Errors-To: test-report-bounces@dpdk.org Test-Label: iol-compile-amd64-testing Test-Status: SUCCESS http://dpdk.org/patch/151690 _Testing PASS_ Submitter: Shaokai Zhang Date: Thursday, February 20 2025 13:28:07 DPDK git baseline: Repo:dpdk Branch: master CommitID:fab31a03ba98e7457284df95dd9eef2223a4ccaa 151690 --> testing pass Upstream job id: Generic-DPDK-Compile-Meson#363631 Test environment and result as below: +-------------------+--------------------+-------------------+------------------+ | Environment | dpdk_meson_compile | dpdk_compile_spdk | dpdk_compile_ovs | +===================+====================+===================+==================+ | CentOS Stream 9 | PASS | PASS | SKIPPED | +-------------------+--------------------+-------------------+------------------+ | CentOS Stream 10 | PASS | SKIPPED | SKIPPED | +-------------------+--------------------+-------------------+------------------+ | Debian Bullseye | PASS | PASS | SKIPPED | +-------------------+--------------------+-------------------+------------------+ | Debian 12 | PASS | PASS | SKIPPED | +-------------------+--------------------+-------------------+------------------+ | Fedora 40 | PASS | PASS | SKIPPED | +-------------------+--------------------+-------------------+------------------+ | Fedora 40 (Clang) | PASS | PASS | SKIPPED | +-------------------+--------------------+-------------------+------------------+ | Fedora 41 (Clang) | PASS | PASS | PASS | +-------------------+--------------------+-------------------+------------------+ | Ubuntu 22.04 | PASS | PASS | SKIPPED | +-------------------+--------------------+-------------------+------------------+ | Fedora 41 | PASS | PASS | PASS | +-------------------+--------------------+-------------------+------------------+ | openSUSE Leap 15 | PASS | SKIPPED | SKIPPED | +-------------------+--------------------+-------------------+------------------+ | RHEL9 | PASS | SKIPPED | SKIPPED | +-------------------+--------------------+-------------------+------------------+ | RHEL8 | PASS | SKIPPED | SKIPPED | +-------------------+--------------------+-------------------+------------------+ | Ubuntu 20.04 | PASS | SKIPPED | SKIPPED | +-------------------+--------------------+-------------------+------------------+ | Ubuntu 24.04 | PASS | PASS | PASS | +-------------------+--------------------+-------------------+------------------+ | Alpine | PASS | SKIPPED | SKIPPED | +-------------------+--------------------+-------------------+------------------+ | FreeBSD 13.4 | PASS | SKIPPED | SKIPPED | +-------------------+--------------------+-------------------+------------------+ | FreeBSD 14.2 | PASS | SKIPPED | SKIPPED | +-------------------+--------------------+-------------------+------------------+ CentOS Stream 9 Kernel: Depends on container host Compiler: gcc 11.5.0 20240719 (Red Hat 11.5.0-2) CentOS Stream 10 Kernel: Depends on container host Compiler: gcc 14.2.1 20241104 (Red Hat 14.2.1-6) Debian Bullseye Kernel: Depends on container host Compiler: gcc (Debian 10.2.1-6) 10.2.1 20210110 Debian 12 Kernel: Depends on container host Compiler: gcc (Debian 12.2.0-14) 12.2.0 Fedora 40 Kernel: Depends on container host Compiler: gcc 14.2.1 20240912 (Red Hat 14.2.1-3) Fedora 40 (Clang) Kernel: Depends on container host Compiler: clang 18.1.8 (Fedora 18.1.8-1.fc40) Fedora 41 (Clang) Kernel: Depends on container host Compiler: clang 19.1.5 (Fedora 19.1.5-1.fc41) Ubuntu 22.04 Kernel: Depends on container host Compiler: gcc (Ubuntu 11.4.0-1ubuntu1~22.04) 11.4.0 Fedora 41 Kernel: Depends on container host Compiler: gcc 14.2.1 20240912 (Red Hat 14.2.1-3) openSUSE Leap 15 Kernel: Depends on container host Compiler: gcc (SUSE Linux) 7.5.0 RHEL9 Kernel: Depends on container host Compiler: gcc 11.5.0 20240719 (Red Hat 11.5.0-2) RHEL8 Kernel: Depends on container host Compiler: gcc 8.5.0 20210514 (Red Hat 8.5.0-22) Ubuntu 20.04 Kernel: Depends on container host Compiler: gcc (Ubuntu 9.4.0-1ubuntu1~20.04.2) 9.4.0 Ubuntu 24.04 Kernel: Depends on container host Compiler: gcc (Ubuntu 13.3.0-6ubuntu2~24.04) 13.3.0 Alpine Kernel: Depends on container host Compiler: gcc (Alpine 14.2.0) 14.2.0 FreeBSD 13.4 Kernel: 13.4-RELEASE-p1 Compiler: clang 18.1.6 FreeBSD 14.2 Kernel: 14.2-RELEASE Compiler: clang 18.1.6 To view detailed results, visit: https://lab.dpdk.org/results/dashboard/patchsets/32623/ UNH-IOL DPDK Community Lab To manage your email subscriptions, visit: https://lab.dpdk.org/results/dashboard/preferences/subscriptions/