From mboxrd@z Thu Jan 1 00:00:00 1970 Return-Path: Received: from mails.dpdk.org (mails.dpdk.org [217.70.189.124]) by inbox.dpdk.org (Postfix) with ESMTP id 5E3724627F for ; Fri, 21 Feb 2025 01:55:11 +0100 (CET) Received: from mails.dpdk.org (localhost [127.0.0.1]) by mails.dpdk.org (Postfix) with ESMTP id 556DB402A8; Fri, 21 Feb 2025 01:55:11 +0100 (CET) Received: from mail-pl1-f227.google.com (mail-pl1-f227.google.com [209.85.214.227]) by mails.dpdk.org (Postfix) with ESMTP id 315EB4026D for ; Fri, 21 Feb 2025 01:55:10 +0100 (CET) Received: by mail-pl1-f227.google.com with SMTP id d9443c01a7336-2211acda7f6so32951565ad.3 for ; Thu, 20 Feb 2025 16:55:10 -0800 (PST) DKIM-Signature: v=1; a=rsa-sha256; c=relaxed/relaxed; d=iol.unh.edu; s=unh-iol; t=1740099309; x=1740704109; darn=dpdk.org; h=references:in-reply-to:cc:to:from:subject:message-id:date:from:to :cc:subject:date:message-id:reply-to; bh=E8oMx1Apmct5C/agckKbbmW+PbnfbQuBi9BVTCJh/Ms=; b=LPYdlA5L7wY+qXlhcNKSfcGG1QR/lZmPlXDDrQdCBUN1FHaZ0yhCg8EosS/F6O8u1D bRWvq/LYqVqVCn688FAvoHn/S7qsE+EzBl6lJg0AJD6N6AN8oE46xt2Z3GPuBBbeBNPS p1rs5F8Wwxs3AonILTX6JyIpIqkAXSENfEbHo= X-Google-DKIM-Signature: v=1; a=rsa-sha256; c=relaxed/relaxed; d=1e100.net; s=20230601; t=1740099309; x=1740704109; h=references:in-reply-to:cc:to:from:subject:message-id:date :x-gm-message-state:from:to:cc:subject:date:message-id:reply-to; bh=E8oMx1Apmct5C/agckKbbmW+PbnfbQuBi9BVTCJh/Ms=; b=VbKl+YtJwmEH1V0BDIW+c6PF9T1dicze4fVDjc0UIrvz9qtEeW4n+CIa3rSIHp4MH/ zQ7gZWC0YVAl+kYAMUPUgSUmtglOpPBHpXhS892nfjvnW4GNlYNdKi4BwQ3dtObv8iTg Umw4S3GaLGgtnArjT6tyi9fwIy6ZrDwX5FP3NkpUbSscFLvQk11Nq6wjIrRJaJmF5pOq SwDXmki6DEK+UTFnvnkpgXo5dRMJrtE57tLmW8naP9wvhbZekyhuufB3bkWkpoWmdFRN hnOMhrEs3IqBnuKURPjtxanOIRnLYoMkATkMt7YMM+vSycFsEpTWepQZhvO/SCveTnRV i6NQ== X-Gm-Message-State: AOJu0Yw7KqHdC0BYA8LRCddBs2MhaI+8EuaAVrZu2ypLYXY+PVtD4eeS thkD1MoSi80n1mskp96ZjkYOw9twyuOKNbv8LLdtr3TLWDyiQL7oSdwr5CuENzEi1XIqo+7bYfC jK4kvyJR6XFqLCyw8xpwfmo67jXw72ImNr7RtDWBEaK1k4RlHZO8x1kLl X-Gm-Gg: ASbGncuha6KVqR4NFtvofNNi5EfeJpnaHIrcjDcM50zv5W4BtzpCxAV7YcDOiZ8iypr EUgkBH1YOodopPkJMzWrXwLQ/0hGn+1rNi4BVoUDP5sfyECVR/3dlRFNGu5fQ3/hbpr67HntqQJ UfLaMm2AQQ42YkRvt2WbroEMw/TMaphVJrePGCU9IlMzTrdCBHEUQc3CKQSJU81SFM2cfe9eXTQ 4RVwNCBrm0NkURsyeFBVbtqo+ZdVE521vVIpG8FsbX0YgZ3TXWUT50B7+6vQHI7inU+NINO/Q9j DUUSODlGbmUv6A5G0oYKv6Ht5DXizw2sAmiyZ2WENg== X-Google-Smtp-Source: AGHT+IHk6G9grMNdre0tH+PhAZYecuH2TSKFwZ8FcJYTpX0pRScksT96E1sXq5MVa2hNW0uXSvGbmi8Db0ND X-Received: by 2002:a17:902:da8c:b0:220:c813:dfda with SMTP id d9443c01a7336-2219ffa7636mr21276685ad.41.1740099309404; Thu, 20 Feb 2025 16:55:09 -0800 (PST) Received: from postal.iol.unh.edu (postal.iol.unh.edu. [2606:4100:3880:1234::84]) by smtp-relay.gmail.com with ESMTPS id d9443c01a7336-2217bd3a72bsm1746695ad.74.2025.02.20.16.55.09 (version=TLS1_2 cipher=ECDHE-ECDSA-AES128-GCM-SHA256 bits=128/128); Thu, 20 Feb 2025 16:55:09 -0800 (PST) X-Relaying-Domain: iol.unh.edu Date: Thu, 20 Feb 2025 16:55:09 -0800 (PST) Message-ID: <67b7ceed.170a0220.296345.8fc2SMTPIN_ADDED_MISSING@mx.google.com> Received: from [172.17.0.5] (unknown [172.18.0.217]) by postal.iol.unh.edu (Postfix) with ESMTP id 6A8FE6052471; Thu, 20 Feb 2025 19:55:06 -0500 (EST) Subject: |SUCCESS| pw151720-151724 [PATCH] [v3,6/6] mbuf: enable to be compil From: dpdklab@iol.unh.edu To: Test Report Cc: dpdk-test-reports@iol.unh.edu In-Reply-To: <1740083508-6703-7-git-send-email-andremue@linux.microsoft.com> References: <1740083508-6703-7-git-send-email-andremue@linux.microsoft.com> Content-Type: text/plain X-BeenThere: test-report@dpdk.org X-Mailman-Version: 2.1.29 Precedence: list List-Id: automatic DPDK test reports List-Unsubscribe: , List-Archive: List-Post: List-Help: List-Subscribe: , Errors-To: test-report-bounces@dpdk.org Test-Label: iol-unit-amd64-testing Test-Status: SUCCESS http://dpdk.org/patch/151724 _Testing PASS_ Submitter: Andre Muezerie Date: Thursday, February 20 2025 20:31:48 DPDK git baseline: Repo:dpdk Branch: master CommitID:fab31a03ba98e7457284df95dd9eef2223a4ccaa 151720-151724 --> testing pass Upstream job id: Generic-Unit-Test-DPDK#316791 Test environment and result as below: +-------------------+----------------+ | Environment | dpdk_unit_test | +===================+================+ | CentOS Stream 9 | PASS | +-------------------+----------------+ | CentOS Stream 10 | PASS | +-------------------+----------------+ | Fedora 40 | PASS | +-------------------+----------------+ | Debian 12 | PASS | +-------------------+----------------+ | Fedora 41 | PASS | +-------------------+----------------+ | Fedora 40 (Clang) | PASS | +-------------------+----------------+ | Debian Bullseye | PASS | +-------------------+----------------+ | RHEL8 | PASS | +-------------------+----------------+ | Ubuntu 20.04 | PASS | +-------------------+----------------+ | RHEL9 | PASS | +-------------------+----------------+ | Fedora 41 (Clang) | PASS | +-------------------+----------------+ | Ubuntu 22.04 | PASS | +-------------------+----------------+ | Ubuntu 24.04 | PASS | +-------------------+----------------+ CentOS Stream 9 Kernel: Depends on container host Compiler: gcc 11.5.0 20240719 (Red Hat 11.5.0-2) CentOS Stream 10 Kernel: Depends on container host Compiler: gcc 14.2.1 20241104 (Red Hat 14.2.1-6) Fedora 40 Kernel: Depends on container host Compiler: gcc 14.2.1 20240912 (Red Hat 14.2.1-3) Debian 12 Kernel: Depends on container host Compiler: gcc (Debian 12.2.0-14) 12.2.0 Fedora 41 Kernel: Depends on container host Compiler: gcc 14.2.1 20240912 (Red Hat 14.2.1-3) Fedora 40 (Clang) Kernel: Depends on container host Compiler: clang 18.1.8 (Fedora 18.1.8-1.fc40) Debian Bullseye Kernel: Depends on container host Compiler: gcc (Debian 10.2.1-6) 10.2.1 20210110 RHEL8 Kernel: Depends on container host Compiler: gcc 8.5.0 20210514 (Red Hat 8.5.0-22) Ubuntu 20.04 Kernel: Depends on container host Compiler: gcc (Ubuntu 9.4.0-1ubuntu1~20.04.2) 9.4.0 RHEL9 Kernel: Depends on container host Compiler: gcc 11.5.0 20240719 (Red Hat 11.5.0-2) Fedora 41 (Clang) Kernel: Depends on container host Compiler: clang 19.1.5 (Fedora 19.1.5-1.fc41) Ubuntu 22.04 Kernel: Depends on container host Compiler: gcc (Ubuntu 11.4.0-1ubuntu1~22.04) 11.4.0 Ubuntu 24.04 Kernel: Depends on container host Compiler: gcc (Ubuntu 13.3.0-6ubuntu2~24.04) 13.3.0 To view detailed results, visit: https://lab.dpdk.org/results/dashboard/patchsets/32626/ UNH-IOL DPDK Community Lab To manage your email subscriptions, visit: https://lab.dpdk.org/results/dashboard/preferences/subscriptions/