From: dpdklab@iol.unh.edu
To: Test Report <test-report@dpdk.org>
Cc: dpdk-test-reports@iol.unh.edu
Subject: |SUCCESS| pw151690 [PATCH] test/crypto: remove unused variable
Date: Thu, 20 Feb 2025 17:47:18 -0800 (PST) [thread overview]
Message-ID: <67b7db26.050a0220.85021.280dSMTPIN_ADDED_MISSING@mx.google.com> (raw)
In-Reply-To: <20250220132807.2000-1-felix.zhang@jaguarmicro.com>
Test-Label: iol-compile-arm64-testing
Test-Status: SUCCESS
http://dpdk.org/patch/151690
_Testing PASS_
Submitter: Shaokai Zhang <felix.zhang@jaguarmicro.com>
Date: Thursday, February 20 2025 13:28:07
DPDK git baseline: Repo:dpdk
Branch: master
CommitID:fab31a03ba98e7457284df95dd9eef2223a4ccaa
151690 --> testing pass
Upstream job id: Generic-DPDK-Compile-Meson#363618
Test environment and result as below:
+----------------------------------------+--------------------+
| Environment | dpdk_meson_compile |
+========================================+====================+
| RHEL9 (ARM) | PASS |
+----------------------------------------+--------------------+
| Ubuntu 20.04 ARM SVE | PASS |
+----------------------------------------+--------------------+
| Ubuntu 20.04 ARM GCC Cross Compile | PASS |
+----------------------------------------+--------------------+
| Fedora 40 (ARM Clang) | PASS |
+----------------------------------------+--------------------+
| Debian 12 with MUSDK | PASS |
+----------------------------------------+--------------------+
| Ubuntu 20.04 (ARM) | PASS |
+----------------------------------------+--------------------+
| Fedora 41 (ARM) | PASS |
+----------------------------------------+--------------------+
| Ubuntu 24.04 (ARM) | PASS |
+----------------------------------------+--------------------+
| CentOS Stream 9 (ARM) | PASS |
+----------------------------------------+--------------------+
| CentOS Stream 10 (ARM) | PASS |
+----------------------------------------+--------------------+
| Debian 11 (Buster) (ARM) | PASS |
+----------------------------------------+--------------------+
| Debian 12 (arm) | PASS |
+----------------------------------------+--------------------+
| Ubuntu 20.04 ARM Clang Cross Compile | PASS |
+----------------------------------------+--------------------+
| Ubuntu 20.04 aarch32 GCC Cross Compile | PASS |
+----------------------------------------+--------------------+
| Fedora 40 (ARM) | PASS |
+----------------------------------------+--------------------+
| Fedora 41 (ARM Clang) | PASS |
+----------------------------------------+--------------------+
| Ubuntu 22.04 (ARM) | PASS |
+----------------------------------------+--------------------+
RHEL9 (ARM)
Kernel: Depends on container host
Compiler: gcc 11.5.0 20240719 (Red Hat 11.5.0-2)
Ubuntu 20.04 ARM SVE
Kernel: Depends on container host
Compiler: gcc (Ubuntu 10.5.0-1ubuntu1~20.04) 10.5.0
Ubuntu 20.04 ARM GCC Cross Compile
Kernel: Depends on container host
Compiler: aarch64-linux-gnu-gcc (Ubuntu 9.4.0-1ubuntu1~20.04.2) 9.4.0
Fedora 40 (ARM Clang)
Kernel: Depends on container host
Compiler: clang 18.1.8 (Fedora 18.1.8-1.fc40)
Debian 12 with MUSDK
Kernel: Depends on container host
Compiler: gcc (Debian 12.2.0-14) 12.2.0
Ubuntu 20.04 (ARM)
Kernel: Depends on container host
Compiler: gcc (Ubuntu 9.4.0-1ubuntu1~20.04.2) 9.4.0
Fedora 41 (ARM)
Kernel: Depends on container host
Compiler: gcc 14.2.1 20240912 (Red Hat 14.2.1-3)
Ubuntu 24.04 (ARM)
Kernel: Depends on container host
Compiler: gcc (Ubuntu 13.3.0-6ubuntu2~24.04) 13.3.0
CentOS Stream 9 (ARM)
Kernel: Depends on container host
Compiler: gcc 11.5.0 20240719 (Red Hat 11.5.0-2)
CentOS Stream 10 (ARM)
Kernel: Depends on container host
Compiler: gcc 14.2.1 20241104 (Red Hat 14.2.1-6)
Debian 11 (Buster) (ARM)
Kernel: Depends on container host
Compiler: gcc (Debian 10.2.1-6) 10.2.1 20210110
Debian 12 (arm)
Kernel: Depends on container host
Compiler: gcc (Debian 12.2.0-14) 12.2.0
Ubuntu 20.04 ARM Clang Cross Compile
Kernel: Depends on container host
Compiler: clang 10.0.0-4ubuntu1
Ubuntu 20.04 aarch32 GCC Cross Compile
Kernel: Depends on container host
Compiler: gcc 9.4.0
Fedora 40 (ARM)
Kernel: Depends on container host
Compiler: gcc 14.2.1 20240912 (Red Hat 14.2.1-3)
Fedora 41 (ARM Clang)
Kernel: Depends on container host
Compiler: clang 19.1.5 (Fedora 19.1.5-1.fc41)
Ubuntu 22.04 (ARM)
Kernel: Depends on container host
Compiler: gcc (Ubuntu 11.4.0-1ubuntu1~22.04) 11.4.0
To view detailed results, visit:
https://lab.dpdk.org/results/dashboard/patchsets/32623/
UNH-IOL DPDK Community Lab
To manage your email subscriptions, visit:
https://lab.dpdk.org/results/dashboard/preferences/subscriptions/
next prev parent reply other threads:[~2025-02-21 1:47 UTC|newest]
Thread overview: 32+ messages / expand[flat|nested] mbox.gz Atom feed top
[not found] <20250220132807.2000-1-felix.zhang@jaguarmicro.com>
2025-02-20 12:55 ` qemudev
2025-02-20 12:59 ` qemudev
2025-02-20 13:30 ` checkpatch
2025-02-20 14:44 ` 0-day Robot
2025-02-20 20:08 ` dpdklab
2025-02-20 20:10 ` dpdklab
2025-02-20 20:20 ` dpdklab
2025-02-20 20:21 ` dpdklab
2025-02-20 20:45 ` dpdklab
2025-02-20 21:53 ` |PENDING| " dpdklab
2025-02-20 21:57 ` |SUCCESS| " dpdklab
2025-02-20 22:09 ` dpdklab
2025-02-20 22:10 ` dpdklab
2025-02-20 22:10 ` dpdklab
2025-02-20 22:22 ` |PENDING| " dpdklab
2025-02-20 22:23 ` |SUCCESS| " dpdklab
2025-02-20 22:32 ` dpdklab
2025-02-20 22:37 ` |PENDING| " dpdklab
2025-02-20 22:48 ` dpdklab
2025-02-20 23:06 ` dpdklab
2025-02-20 23:39 ` dpdklab
2025-02-20 23:40 ` |SUCCESS| " dpdklab
2025-02-20 23:48 ` dpdklab
2025-02-20 23:52 ` |PENDING| " dpdklab
2025-02-21 0:29 ` |SUCCESS| " dpdklab
2025-02-21 0:54 ` dpdklab
2025-02-21 1:47 ` dpdklab [this message]
2025-02-21 2:29 ` dpdklab
2025-02-21 6:50 ` dpdklab
2025-02-21 9:18 ` dpdklab
2025-02-21 15:12 ` dpdklab
2025-02-21 16:14 ` dpdklab
Reply instructions:
You may reply publicly to this message via plain-text email
using any one of the following methods:
* Save the following mbox file, import it into your mail client,
and reply-to-all from there: mbox
Avoid top-posting and favor interleaved quoting:
https://en.wikipedia.org/wiki/Posting_style#Interleaved_style
* Reply using the --to, --cc, and --in-reply-to
switches of git-send-email(1):
git send-email \
--in-reply-to=67b7db26.050a0220.85021.280dSMTPIN_ADDED_MISSING@mx.google.com \
--to=dpdklab@iol.unh.edu \
--cc=dpdk-test-reports@iol.unh.edu \
--cc=test-report@dpdk.org \
/path/to/YOUR_REPLY
https://kernel.org/pub/software/scm/git/docs/git-send-email.html
* If your mail client supports setting the In-Reply-To header
via mailto: links, try the mailto: link
Be sure your reply has a Subject: header at the top and a blank line
before the message body.
This is a public inbox, see mirroring instructions
for how to clone and mirror all data and code used for this inbox;
as well as URLs for NNTP newsgroup(s).