From mboxrd@z Thu Jan 1 00:00:00 1970 Return-Path: Received: from mails.dpdk.org (mails.dpdk.org [217.70.189.124]) by inbox.dpdk.org (Postfix) with ESMTP id DED8D46283 for ; Fri, 21 Feb 2025 02:47:24 +0100 (CET) Received: from mails.dpdk.org (localhost [127.0.0.1]) by mails.dpdk.org (Postfix) with ESMTP id D8606402A8; Fri, 21 Feb 2025 02:47:24 +0100 (CET) Received: from mail-il1-f225.google.com (mail-il1-f225.google.com [209.85.166.225]) by mails.dpdk.org (Postfix) with ESMTP id 5D4744026D for ; Fri, 21 Feb 2025 02:47:19 +0100 (CET) Received: by mail-il1-f225.google.com with SMTP id e9e14a558f8ab-3d191bfeafbso5265215ab.0 for ; Thu, 20 Feb 2025 17:47:19 -0800 (PST) DKIM-Signature: v=1; a=rsa-sha256; c=relaxed/relaxed; d=iol.unh.edu; s=unh-iol; t=1740102438; x=1740707238; darn=dpdk.org; h=references:in-reply-to:cc:to:from:subject:message-id:date:from:to :cc:subject:date:message-id:reply-to; bh=2fNtWaZxg6/A0YbKQmz7cWWiHPPpIdpCpPeRApILSKw=; b=jYTXaYnVPzYHzme4jkWyiiHNdLeV2IdOb4fZ0c2Ph3bLIIn+yE56ErCLq/Iq34ckZS i8WO1VCtp285UJ1XOyypBVGoRy6lBhmKj1RZyXQFktqympp9ZtLPV8U0NGI+CJ3qgJtB TLtPxErKgGwGyRABxW2ukgmADg1Zhi2HbYCHQ= X-Google-DKIM-Signature: v=1; a=rsa-sha256; c=relaxed/relaxed; d=1e100.net; s=20230601; t=1740102438; x=1740707238; h=references:in-reply-to:cc:to:from:subject:message-id:date :x-gm-message-state:from:to:cc:subject:date:message-id:reply-to; bh=2fNtWaZxg6/A0YbKQmz7cWWiHPPpIdpCpPeRApILSKw=; b=og5heqgUw7uWLpN1ZmVr2eXOu3GZRbn2pLrwl4Bd19EGIRIN3+Qo+pHRPBwHZiRbj3 H9HhHI4aiHgG/ZZX1jPQEMH9yEWCXRkWgg28bN2cirltNGJjE/MXv4F2aewmHYP5igJS 4iRMN0ohKui1unu+knY/8+sRmxq0Z51kTtBkHsQ5u05ZPCusXa9r9kzWiO3jWKIGf1v/ hOw/E07ZfKXFAS2b3CRCCUoiQmQCHky6wBURPMRIhDGQF8mKmEgeMWw1FE/D5JC+gOtX JdlhjQmC9lYqRXyLYIlyyzdYGuedisRgCgwCYDsfkrgDtm13bFcT2YTbE64q0MZ790sf 9O6w== X-Gm-Message-State: AOJu0Yys+DN6fqbxQ0UYeVGevNkuVRAoFOL3Ix9Mrszk/C+sMprRAFlt OyOv/BkgVysSL2H6+AaAEh7adVjpldE3G4zhHQyaOzd+7xikVxaUMgfl11arbIM188KpGgz7bqy AwY89BQFiddAxwFgPg+TXodvirKBOaDhxrHBKcpuR X-Gm-Gg: ASbGncuCUJ0ogOk/bBbFP8x0r3PlE9ikPorrnYikyZ4VKVmBaJnY9x18k9UeDYEewbM oplw+W/aqVk/2NBn1yPnC3oaRqvMnSfc204D0CuiaoiatSGodXMM4JfBKRVm+SZT1xPj/g3gWyV XCC1/0JFYmROvkvV/DWwN7B6F5ktymddbcmx7nby8u+I6WsxNa8FGzQB4wC63wZjDqrpDQf/dbQ doI3yzFxTr6HbS/2RWLzk+PX/gQ3occ1+u2/sc4Jymy7f+FvrgJo6c3aSZoTwqWFic2YguxSgBr 5loNCz56eS/+hNnjR0i8GoAoEV5M5keurUct2xW4 X-Google-Smtp-Source: AGHT+IFP5SAMbs7d/S5WtV4r8Ea1HkrbGisMHz/1ciEjLDbwaLyGjYw277VMrwUZYIHhO6okEHdtiQrVBq50 X-Received: by 2002:a05:6e02:13ac:b0:3d0:23f6:2eed with SMTP id e9e14a558f8ab-3d2cae87d95mr11514665ab.11.1740102438626; Thu, 20 Feb 2025 17:47:18 -0800 (PST) Received: from postal.iol.unh.edu (postal.iol.unh.edu. [132.177.123.84]) by smtp-relay.gmail.com with ESMTPS id 8926c6da1cb9f-4eeb11df0f8sm373538173.30.2025.02.20.17.47.18 (version=TLS1_2 cipher=ECDHE-ECDSA-AES128-GCM-SHA256 bits=128/128); Thu, 20 Feb 2025 17:47:18 -0800 (PST) X-Relaying-Domain: iol.unh.edu Date: Thu, 20 Feb 2025 17:47:18 -0800 (PST) Message-ID: <67b7db26.050a0220.85021.280dSMTPIN_ADDED_MISSING@mx.google.com> Received: from [172.21.0.6] (unknown [172.18.0.240]) by postal.iol.unh.edu (Postfix) with ESMTP id B23546052472; Thu, 20 Feb 2025 20:47:15 -0500 (EST) Subject: |SUCCESS| pw151690 [PATCH] test/crypto: remove unused variable From: dpdklab@iol.unh.edu To: Test Report Cc: dpdk-test-reports@iol.unh.edu In-Reply-To: <20250220132807.2000-1-felix.zhang@jaguarmicro.com> References: <20250220132807.2000-1-felix.zhang@jaguarmicro.com> Content-Type: text/plain X-BeenThere: test-report@dpdk.org X-Mailman-Version: 2.1.29 Precedence: list List-Id: automatic DPDK test reports List-Unsubscribe: , List-Archive: List-Post: List-Help: List-Subscribe: , Errors-To: test-report-bounces@dpdk.org Test-Label: iol-compile-arm64-testing Test-Status: SUCCESS http://dpdk.org/patch/151690 _Testing PASS_ Submitter: Shaokai Zhang Date: Thursday, February 20 2025 13:28:07 DPDK git baseline: Repo:dpdk Branch: master CommitID:fab31a03ba98e7457284df95dd9eef2223a4ccaa 151690 --> testing pass Upstream job id: Generic-DPDK-Compile-Meson#363618 Test environment and result as below: +----------------------------------------+--------------------+ | Environment | dpdk_meson_compile | +========================================+====================+ | RHEL9 (ARM) | PASS | +----------------------------------------+--------------------+ | Ubuntu 20.04 ARM SVE | PASS | +----------------------------------------+--------------------+ | Ubuntu 20.04 ARM GCC Cross Compile | PASS | +----------------------------------------+--------------------+ | Fedora 40 (ARM Clang) | PASS | +----------------------------------------+--------------------+ | Debian 12 with MUSDK | PASS | +----------------------------------------+--------------------+ | Ubuntu 20.04 (ARM) | PASS | +----------------------------------------+--------------------+ | Fedora 41 (ARM) | PASS | +----------------------------------------+--------------------+ | Ubuntu 24.04 (ARM) | PASS | +----------------------------------------+--------------------+ | CentOS Stream 9 (ARM) | PASS | +----------------------------------------+--------------------+ | CentOS Stream 10 (ARM) | PASS | +----------------------------------------+--------------------+ | Debian 11 (Buster) (ARM) | PASS | +----------------------------------------+--------------------+ | Debian 12 (arm) | PASS | +----------------------------------------+--------------------+ | Ubuntu 20.04 ARM Clang Cross Compile | PASS | +----------------------------------------+--------------------+ | Ubuntu 20.04 aarch32 GCC Cross Compile | PASS | +----------------------------------------+--------------------+ | Fedora 40 (ARM) | PASS | +----------------------------------------+--------------------+ | Fedora 41 (ARM Clang) | PASS | +----------------------------------------+--------------------+ | Ubuntu 22.04 (ARM) | PASS | +----------------------------------------+--------------------+ RHEL9 (ARM) Kernel: Depends on container host Compiler: gcc 11.5.0 20240719 (Red Hat 11.5.0-2) Ubuntu 20.04 ARM SVE Kernel: Depends on container host Compiler: gcc (Ubuntu 10.5.0-1ubuntu1~20.04) 10.5.0 Ubuntu 20.04 ARM GCC Cross Compile Kernel: Depends on container host Compiler: aarch64-linux-gnu-gcc (Ubuntu 9.4.0-1ubuntu1~20.04.2) 9.4.0 Fedora 40 (ARM Clang) Kernel: Depends on container host Compiler: clang 18.1.8 (Fedora 18.1.8-1.fc40) Debian 12 with MUSDK Kernel: Depends on container host Compiler: gcc (Debian 12.2.0-14) 12.2.0 Ubuntu 20.04 (ARM) Kernel: Depends on container host Compiler: gcc (Ubuntu 9.4.0-1ubuntu1~20.04.2) 9.4.0 Fedora 41 (ARM) Kernel: Depends on container host Compiler: gcc 14.2.1 20240912 (Red Hat 14.2.1-3) Ubuntu 24.04 (ARM) Kernel: Depends on container host Compiler: gcc (Ubuntu 13.3.0-6ubuntu2~24.04) 13.3.0 CentOS Stream 9 (ARM) Kernel: Depends on container host Compiler: gcc 11.5.0 20240719 (Red Hat 11.5.0-2) CentOS Stream 10 (ARM) Kernel: Depends on container host Compiler: gcc 14.2.1 20241104 (Red Hat 14.2.1-6) Debian 11 (Buster) (ARM) Kernel: Depends on container host Compiler: gcc (Debian 10.2.1-6) 10.2.1 20210110 Debian 12 (arm) Kernel: Depends on container host Compiler: gcc (Debian 12.2.0-14) 12.2.0 Ubuntu 20.04 ARM Clang Cross Compile Kernel: Depends on container host Compiler: clang 10.0.0-4ubuntu1 Ubuntu 20.04 aarch32 GCC Cross Compile Kernel: Depends on container host Compiler: gcc 9.4.0 Fedora 40 (ARM) Kernel: Depends on container host Compiler: gcc 14.2.1 20240912 (Red Hat 14.2.1-3) Fedora 41 (ARM Clang) Kernel: Depends on container host Compiler: clang 19.1.5 (Fedora 19.1.5-1.fc41) Ubuntu 22.04 (ARM) Kernel: Depends on container host Compiler: gcc (Ubuntu 11.4.0-1ubuntu1~22.04) 11.4.0 To view detailed results, visit: https://lab.dpdk.org/results/dashboard/patchsets/32623/ UNH-IOL DPDK Community Lab To manage your email subscriptions, visit: https://lab.dpdk.org/results/dashboard/preferences/subscriptions/