automatic DPDK test reports
 help / color / mirror / Atom feed
From: dpdklab@iol.unh.edu
To: Test Report <test-report@dpdk.org>
Cc: dpdk-test-reports@iol.unh.edu
Subject: |SUCCESS| pw151706-151719 [PATCH] [v3,14/14] security: remove unnece
Date: Thu, 20 Feb 2025 18:15:08 -0800 (PST)	[thread overview]
Message-ID: <67b7e1ac.050a0220.4d2aa.bfb0SMTPIN_ADDED_MISSING@mx.google.com> (raw)
In-Reply-To: <20250220165644.16421-15-stephen@networkplumber.org>

Test-Label: iol-unit-amd64-testing
Test-Status: SUCCESS
http://dpdk.org/patch/151719

_Testing PASS_

Submitter: Stephen Hemminger <stephen@networkplumber.org>
Date: Thursday, February 20 2025 16:55:28 
DPDK git baseline: Repo:dpdk
  Branch: master
  CommitID:fab31a03ba98e7457284df95dd9eef2223a4ccaa

151706-151719 --> testing pass

Upstream job id: Generic-Unit-Test-DPDK#316826

Test environment and result as below:

+-------------------+----------------+
|    Environment    | dpdk_unit_test |
+===================+================+
| CentOS Stream 9   | PASS           |
+-------------------+----------------+
| CentOS Stream 10  | PASS           |
+-------------------+----------------+
| Debian 12         | PASS           |
+-------------------+----------------+
| Fedora 40         | PASS           |
+-------------------+----------------+
| Fedora 40 (Clang) | PASS           |
+-------------------+----------------+
| Fedora 41         | PASS           |
+-------------------+----------------+
| Debian Bullseye   | PASS           |
+-------------------+----------------+
| RHEL8             | PASS           |
+-------------------+----------------+
| Fedora 41 (Clang) | PASS           |
+-------------------+----------------+
| RHEL9             | PASS           |
+-------------------+----------------+
| Ubuntu 20.04      | PASS           |
+-------------------+----------------+
| Ubuntu 22.04      | PASS           |
+-------------------+----------------+
| Ubuntu 24.04      | PASS           |
+-------------------+----------------+


CentOS Stream 9
	Kernel: Depends on container host
	Compiler: gcc 11.5.0 20240719 (Red Hat 11.5.0-2)

CentOS Stream 10
	Kernel: Depends on container host
	Compiler: gcc 14.2.1 20241104 (Red Hat 14.2.1-6)

Debian 12
	Kernel: Depends on container host
	Compiler: gcc (Debian 12.2.0-14) 12.2.0

Fedora 40
	Kernel: Depends on container host
	Compiler: gcc 14.2.1 20240912 (Red Hat 14.2.1-3)

Fedora 40 (Clang)
	Kernel: Depends on container host
	Compiler: clang 18.1.8 (Fedora 18.1.8-1.fc40)

Fedora 41
	Kernel: Depends on container host
	Compiler: gcc 14.2.1 20240912 (Red Hat 14.2.1-3)

Debian Bullseye
	Kernel: Depends on container host
	Compiler: gcc (Debian 10.2.1-6) 10.2.1 20210110

RHEL8
	Kernel: Depends on container host
	Compiler: gcc 8.5.0 20210514 (Red Hat 8.5.0-22)

Fedora 41 (Clang)
	Kernel: Depends on container host
	Compiler: clang 19.1.5 (Fedora 19.1.5-1.fc41)

RHEL9
	Kernel: Depends on container host
	Compiler: gcc 11.5.0 20240719 (Red Hat 11.5.0-2)

Ubuntu 20.04
	Kernel: Depends on container host
	Compiler: gcc (Ubuntu 9.4.0-1ubuntu1~20.04.2) 9.4.0

Ubuntu 22.04
	Kernel: Depends on container host
	Compiler: gcc (Ubuntu 11.4.0-1ubuntu1~22.04) 11.4.0

Ubuntu 24.04
	Kernel: Depends on container host
	Compiler: gcc (Ubuntu 13.3.0-6ubuntu2~24.04) 13.3.0

To view detailed results, visit:
https://lab.dpdk.org/results/dashboard/patchsets/32625/

UNH-IOL DPDK Community Lab

To manage your email subscriptions, visit: 
https://lab.dpdk.org/results/dashboard/preferences/subscriptions/

  parent reply	other threads:[~2025-02-21  2:15 UTC|newest]

Thread overview: 23+ messages / expand[flat|nested]  mbox.gz  Atom feed  top
     [not found] <20250220165644.16421-15-stephen@networkplumber.org>
2025-02-20 16:45 ` |SUCCESS| pw151706-151719 [PATCH v3 14/14] security: remove unnecessary dereference qemudev
2025-02-20 16:50 ` qemudev
2025-02-20 16:58 ` |SUCCESS| pw151719 " checkpatch
2025-02-20 18:05 ` 0-day Robot
2025-02-21  0:29 ` |SUCCESS| pw151706-151719 [PATCH] [v3,14/14] security: remove unnece dpdklab
2025-02-21  0:29 ` dpdklab
2025-02-21  0:33 ` dpdklab
2025-02-21  0:38 ` dpdklab
2025-02-21  0:42 ` dpdklab
2025-02-21  1:03 ` dpdklab
2025-02-21  1:10 ` |PENDING| " dpdklab
2025-02-21  1:15 ` dpdklab
2025-02-21  1:34 ` dpdklab
2025-02-21  1:42 ` dpdklab
2025-02-21  1:47 ` dpdklab
2025-02-21  2:06 ` |SUCCESS| " dpdklab
2025-02-21  2:15 ` dpdklab [this message]
2025-02-21  2:26 ` dpdklab
2025-02-21  2:43 ` dpdklab
2025-02-21  3:10 ` dpdklab
2025-02-21  3:54 ` dpdklab
2025-02-21  3:54 ` dpdklab
2025-02-21 14:40 ` dpdklab

Reply instructions:

You may reply publicly to this message via plain-text email
using any one of the following methods:

* Save the following mbox file, import it into your mail client,
  and reply-to-all from there: mbox

  Avoid top-posting and favor interleaved quoting:
  https://en.wikipedia.org/wiki/Posting_style#Interleaved_style

* Reply using the --to, --cc, and --in-reply-to
  switches of git-send-email(1):

  git send-email \
    --in-reply-to=67b7e1ac.050a0220.4d2aa.bfb0SMTPIN_ADDED_MISSING@mx.google.com \
    --to=dpdklab@iol.unh.edu \
    --cc=dpdk-test-reports@iol.unh.edu \
    --cc=test-report@dpdk.org \
    /path/to/YOUR_REPLY

  https://kernel.org/pub/software/scm/git/docs/git-send-email.html

* If your mail client supports setting the In-Reply-To header
  via mailto: links, try the mailto: link
Be sure your reply has a Subject: header at the top and a blank line before the message body.
This is a public inbox, see mirroring instructions
for how to clone and mirror all data and code used for this inbox;
as well as URLs for NNTP newsgroup(s).