From mboxrd@z Thu Jan 1 00:00:00 1970 Return-Path: Received: from mails.dpdk.org (mails.dpdk.org [217.70.189.124]) by inbox.dpdk.org (Postfix) with ESMTP id 91AB746283 for ; Fri, 21 Feb 2025 03:15:10 +0100 (CET) Received: from mails.dpdk.org (localhost [127.0.0.1]) by mails.dpdk.org (Postfix) with ESMTP id 7770A402A8; Fri, 21 Feb 2025 03:15:10 +0100 (CET) Received: from mail-io1-f99.google.com (mail-io1-f99.google.com [209.85.166.99]) by mails.dpdk.org (Postfix) with ESMTP id BB8584026D for ; Fri, 21 Feb 2025 03:15:08 +0100 (CET) Received: by mail-io1-f99.google.com with SMTP id ca18e2360f4ac-855d6bdfe05so21551539f.2 for ; Thu, 20 Feb 2025 18:15:08 -0800 (PST) DKIM-Signature: v=1; a=rsa-sha256; c=relaxed/relaxed; d=iol.unh.edu; s=unh-iol; t=1740104108; x=1740708908; darn=dpdk.org; h=references:in-reply-to:cc:to:from:subject:message-id:date:from:to :cc:subject:date:message-id:reply-to; bh=5CuQcLgR8Q5aldUsuoLsnkW3yg2gHmVXyJEaVTOjt94=; b=TQCHxbOvS/WX3xtKcPXSRwSUAWDmY13kltniQutG3X4oBsKIqQGrajF5qnI9JEhjca ylv8FXE/zsrzfSuonsHCBNM96av4L+L3iWAdLMOSkoKkDYRHMJYTiE8T47XB6VNEtiDE SLn5bm0DuyNhKzMc6bQQENiBAflEjxQ1u/W/M= X-Google-DKIM-Signature: v=1; a=rsa-sha256; c=relaxed/relaxed; d=1e100.net; s=20230601; t=1740104108; x=1740708908; h=references:in-reply-to:cc:to:from:subject:message-id:date :x-gm-message-state:from:to:cc:subject:date:message-id:reply-to; bh=5CuQcLgR8Q5aldUsuoLsnkW3yg2gHmVXyJEaVTOjt94=; b=bSmhPC0nCQOpwKzdYHs0rPH9yDNyfdD5x1obJ8a5ZKOCik75uNwphNwNgJK0FIUZzY YOvuPRzRTE92MeOA1LFONJs9fNV/FDmAtQueA0Mz8qNDeB0SMNMabm2exY15wNYDg0Fj VL6FHc5ohB/hlYQ1Wfv8XRWgqtViao+L6pd2NtnKX/MnWJE+r0mhWUW1lD9cQh7KFbib mdm1OChKN7m5fJW3eU24owup9dfawhXAjTRL4vEqPKoPQnXj2XclXzDOK10vHFmVY3Pp xqpQE/vxgN+4ksCPqN0/RMHd6kSZvYYjOQ0C+XhFhoMIX0HConbWrvo+zTY4uJ1CGSdV 0sJg== X-Gm-Message-State: AOJu0YyEcCumi5VJ1KiGJVB1v1b85C4t8K8M83EA8r4gwWOvTNE93tu6 C3Se8Oo93qVsRW5uwuclh4K+T1vUU/9W+Kahd8Q1HtbT+aiPh5kgeVLo/YZ4UlRTXv3BDycin3V CkJcB0AQHFLParv6jM6YBhOe5g7QSYE3u61cc3VRRBv6WBwSpR95keCAB X-Gm-Gg: ASbGncs9J66B9UG1rytCcp9pt1F7x7as2synsL8FKjeruJHn4GXVg3DCeb2W1F40Ic1 UoEuDAVHQ/ubIaKOxg53cGSVE44DCRTpWiiRiMmCDB9CqV+lIBBQ20i2KYN2OHmY71Yeangv5e3 Y79lMFVSWKlP3swM3L6Jgw/HPwVYdh0tj+4zhXs9mKjrwRhF3EpJ2cuqkLvJrgkg5kVp0IS3QNW YA2chjkGEL4e2kXXF3GQ99rIUicYm3WG0gvbM7bAfdGfoH3M0dcWlzonWS0ABB3KeeDsTDy6nQe KVvIhw1AwynETXlNu5fFiQNGSjQCZwaMeBT4xHQbGAGetV7k8ehU X-Google-Smtp-Source: AGHT+IEP4YaRNltN7JaoK90musv1MEV/cM1BQYdcMldO4g8TMapI8F4N205x0bDrBmTzdOWYfjdopfisxvrl X-Received: by 2002:a05:6602:2cc7:b0:855:b3e9:7662 with SMTP id ca18e2360f4ac-855da9c46ddmr176267639f.4.1740104108036; Thu, 20 Feb 2025 18:15:08 -0800 (PST) Received: from postal.iol.unh.edu (postal.iol.unh.edu. [2606:4100:3880:1234::84]) by smtp-relay.gmail.com with ESMTPS id ca18e2360f4ac-855b7853e47sm22735839f.0.2025.02.20.18.15.07 (version=TLS1_2 cipher=ECDHE-ECDSA-AES128-GCM-SHA256 bits=128/128); Thu, 20 Feb 2025 18:15:08 -0800 (PST) X-Relaying-Domain: iol.unh.edu Date: Thu, 20 Feb 2025 18:15:08 -0800 (PST) Message-ID: <67b7e1ac.050a0220.4d2aa.bfb0SMTPIN_ADDED_MISSING@mx.google.com> Received: from [172.21.0.7] (unknown [172.18.0.240]) by postal.iol.unh.edu (Postfix) with ESMTP id AE6826052471; Thu, 20 Feb 2025 21:14:58 -0500 (EST) Subject: |SUCCESS| pw151706-151719 [PATCH] [v3,14/14] security: remove unnece From: dpdklab@iol.unh.edu To: Test Report Cc: dpdk-test-reports@iol.unh.edu In-Reply-To: <20250220165644.16421-15-stephen@networkplumber.org> References: <20250220165644.16421-15-stephen@networkplumber.org> Content-Type: text/plain X-BeenThere: test-report@dpdk.org X-Mailman-Version: 2.1.29 Precedence: list List-Id: automatic DPDK test reports List-Unsubscribe: , List-Archive: List-Post: List-Help: List-Subscribe: , Errors-To: test-report-bounces@dpdk.org Test-Label: iol-unit-amd64-testing Test-Status: SUCCESS http://dpdk.org/patch/151719 _Testing PASS_ Submitter: Stephen Hemminger Date: Thursday, February 20 2025 16:55:28 DPDK git baseline: Repo:dpdk Branch: master CommitID:fab31a03ba98e7457284df95dd9eef2223a4ccaa 151706-151719 --> testing pass Upstream job id: Generic-Unit-Test-DPDK#316826 Test environment and result as below: +-------------------+----------------+ | Environment | dpdk_unit_test | +===================+================+ | CentOS Stream 9 | PASS | +-------------------+----------------+ | CentOS Stream 10 | PASS | +-------------------+----------------+ | Debian 12 | PASS | +-------------------+----------------+ | Fedora 40 | PASS | +-------------------+----------------+ | Fedora 40 (Clang) | PASS | +-------------------+----------------+ | Fedora 41 | PASS | +-------------------+----------------+ | Debian Bullseye | PASS | +-------------------+----------------+ | RHEL8 | PASS | +-------------------+----------------+ | Fedora 41 (Clang) | PASS | +-------------------+----------------+ | RHEL9 | PASS | +-------------------+----------------+ | Ubuntu 20.04 | PASS | +-------------------+----------------+ | Ubuntu 22.04 | PASS | +-------------------+----------------+ | Ubuntu 24.04 | PASS | +-------------------+----------------+ CentOS Stream 9 Kernel: Depends on container host Compiler: gcc 11.5.0 20240719 (Red Hat 11.5.0-2) CentOS Stream 10 Kernel: Depends on container host Compiler: gcc 14.2.1 20241104 (Red Hat 14.2.1-6) Debian 12 Kernel: Depends on container host Compiler: gcc (Debian 12.2.0-14) 12.2.0 Fedora 40 Kernel: Depends on container host Compiler: gcc 14.2.1 20240912 (Red Hat 14.2.1-3) Fedora 40 (Clang) Kernel: Depends on container host Compiler: clang 18.1.8 (Fedora 18.1.8-1.fc40) Fedora 41 Kernel: Depends on container host Compiler: gcc 14.2.1 20240912 (Red Hat 14.2.1-3) Debian Bullseye Kernel: Depends on container host Compiler: gcc (Debian 10.2.1-6) 10.2.1 20210110 RHEL8 Kernel: Depends on container host Compiler: gcc 8.5.0 20210514 (Red Hat 8.5.0-22) Fedora 41 (Clang) Kernel: Depends on container host Compiler: clang 19.1.5 (Fedora 19.1.5-1.fc41) RHEL9 Kernel: Depends on container host Compiler: gcc 11.5.0 20240719 (Red Hat 11.5.0-2) Ubuntu 20.04 Kernel: Depends on container host Compiler: gcc (Ubuntu 9.4.0-1ubuntu1~20.04.2) 9.4.0 Ubuntu 22.04 Kernel: Depends on container host Compiler: gcc (Ubuntu 11.4.0-1ubuntu1~22.04) 11.4.0 Ubuntu 24.04 Kernel: Depends on container host Compiler: gcc (Ubuntu 13.3.0-6ubuntu2~24.04) 13.3.0 To view detailed results, visit: https://lab.dpdk.org/results/dashboard/patchsets/32625/ UNH-IOL DPDK Community Lab To manage your email subscriptions, visit: https://lab.dpdk.org/results/dashboard/preferences/subscriptions/