From mboxrd@z Thu Jan 1 00:00:00 1970 Return-Path: Received: from mails.dpdk.org (mails.dpdk.org [217.70.189.124]) by inbox.dpdk.org (Postfix) with ESMTP id EAE6746283 for ; Fri, 21 Feb 2025 03:32:30 +0100 (CET) Received: from mails.dpdk.org (localhost [127.0.0.1]) by mails.dpdk.org (Postfix) with ESMTP id C833C40A80; Fri, 21 Feb 2025 03:32:30 +0100 (CET) Received: from mail-pl1-f226.google.com (mail-pl1-f226.google.com [209.85.214.226]) by mails.dpdk.org (Postfix) with ESMTP id 3BA0B402CE for ; Fri, 21 Feb 2025 03:32:29 +0100 (CET) Received: by mail-pl1-f226.google.com with SMTP id d9443c01a7336-220d601886fso24769595ad.1 for ; Thu, 20 Feb 2025 18:32:29 -0800 (PST) DKIM-Signature: v=1; a=rsa-sha256; c=relaxed/relaxed; d=iol.unh.edu; s=unh-iol; t=1740105148; x=1740709948; darn=dpdk.org; h=references:in-reply-to:cc:to:from:subject:message-id:date:from:to :cc:subject:date:message-id:reply-to; bh=4iPEIPDDXevoaIr7Ow2tSo2ghumOOfNNK7oRsBjJVZo=; b=XkdHCrPjO7kzopCkEqYb8WDfjx+IBSAyvIfJgApbVxZf0jbxA91csuvS1ErcF3tsl7 QPxeCCDpJpffML95HQC94kpdgHjOeKTzSGw+IQ5IecZwLW4F/PfemKCZmdCFEbu3rFIS KNvYvuUMaG9hSCE+RJjiL/VqFOEYBoEWLVIgQ= X-Google-DKIM-Signature: v=1; a=rsa-sha256; c=relaxed/relaxed; d=1e100.net; s=20230601; t=1740105148; x=1740709948; h=references:in-reply-to:cc:to:from:subject:message-id:date :x-gm-message-state:from:to:cc:subject:date:message-id:reply-to; bh=4iPEIPDDXevoaIr7Ow2tSo2ghumOOfNNK7oRsBjJVZo=; b=Vlq4HbunfNC5qNiDuSbOAXTBTzq5/YQE1dAunOg72Fj/S/tBsaeCB+1AUHSTHJX5F2 rSKdl14m38JdnnolocYctViC4MOEwaow/IfQ0uxS+7AEZDwCwRDEzp+0F9/RF/8+Ro9b FFbJmH89YR/2Q0bf31/95Rni5StPCHxYSAblS600Z8q4B/uZuaIoILa6DDdKq5AOAHTE zVsyTVIvdAAXTtrQVOz+3VFv1633DMV22B8nQi4jUBDIaYvZ/CA38tV7OM+KsqOLVGDa KN3jFRAdsc9eyJ/QPdqt8p6h+HoNa7mlttgNf8AnZxOEMNqIK6jujqFzGjqOlVx9FlIV G6lA== X-Gm-Message-State: AOJu0YzFzaVXbY5ClIfcnuDRWaZq2gxIneS4UR9er55ebQFHE6yl48YT BQ1lEM7+GP4bEkFb60DEDxD4Q7AGi6MXHfb7Yuj3QKHV21A/hI27qIgpLJN5OqwyhxayEduQxMM dNA3IK9Gi57FaCTplrp6ER90lGx6WTn8ofdq8JSr8xfjnMI4qXsePZlM8 X-Gm-Gg: ASbGnctwZqA55BRDZL7etbCR4//Yy9HN6igrZDxY85c59gadTEI/bTbsVTKg0TxKPCU Yhd2aD5Y0oh9p0WWklXV7qhMtPWkigVXpmeOrx1RJDUrmtl+goHJ4fveolcFVXwPna5mYuwK3Mw noS9P3r+vUe3/y1o746dn5SmLHMnHcLR6GcG1QnVmZ/f44dqONAyn4nDMewbVes7VOGF2LQnMUk MCbue5w0RFiOgvIMXk3pzW9+JWB0GuHoh1tU3VWlKfZrwGeJ0EFNdQOCF3cCv8GXLIFfRsK80UQ /batRV9R8LcOZ3p3shX2iIzt4/VyKOFubilAKM4qmZ37MQ5iKZhS X-Google-Smtp-Source: AGHT+IErodyb5Syj3n/J6MRxzHAk/BEAz2c8LdorSONp9R0NhuW0siT9VTGg6SP/xemFLTOD2Rn+KDKWOowZ X-Received: by 2002:a17:902:ecce:b0:21f:9c48:2557 with SMTP id d9443c01a7336-2219ffbd03bmr25918185ad.43.1740105148362; Thu, 20 Feb 2025 18:32:28 -0800 (PST) Received: from postal.iol.unh.edu (postal.iol.unh.edu. [2606:4100:3880:1234::84]) by smtp-relay.gmail.com with ESMTPS id d9443c01a7336-220d5307ae6sm7793275ad.29.2025.02.20.18.32.28 (version=TLS1_2 cipher=ECDHE-ECDSA-AES128-GCM-SHA256 bits=128/128); Thu, 20 Feb 2025 18:32:28 -0800 (PST) X-Relaying-Domain: iol.unh.edu Date: Thu, 20 Feb 2025 18:32:28 -0800 (PST) Message-ID: <67b7e5bc.170a0220.1f39c4.75e3SMTPIN_ADDED_MISSING@mx.google.com> Received: from [172.21.0.7] (unknown [172.18.0.240]) by postal.iol.unh.edu (Postfix) with ESMTP id 212AB6052471; Thu, 20 Feb 2025 21:32:25 -0500 (EST) Subject: |SUCCESS| pw151720-151724 [PATCH] [v3,6/6] mbuf: enable to be compil From: dpdklab@iol.unh.edu To: Test Report Cc: dpdk-test-reports@iol.unh.edu In-Reply-To: <1740083508-6703-7-git-send-email-andremue@linux.microsoft.com> References: <1740083508-6703-7-git-send-email-andremue@linux.microsoft.com> Content-Type: text/plain X-BeenThere: test-report@dpdk.org X-Mailman-Version: 2.1.29 Precedence: list List-Id: automatic DPDK test reports List-Unsubscribe: , List-Archive: List-Post: List-Help: List-Subscribe: , Errors-To: test-report-bounces@dpdk.org Test-Label: iol-compile-arm64-testing Test-Status: SUCCESS http://dpdk.org/patch/151724 _Testing PASS_ Submitter: Andre Muezerie Date: Thursday, February 20 2025 20:31:48 DPDK git baseline: Repo:dpdk Branch: master CommitID:fab31a03ba98e7457284df95dd9eef2223a4ccaa 151720-151724 --> testing pass Upstream job id: Generic-DPDK-Compile-Meson#363665 Test environment and result as below: +----------------------------------------+--------------------+ | Environment | dpdk_meson_compile | +========================================+====================+ | RHEL9 (ARM) | PASS | +----------------------------------------+--------------------+ | Ubuntu 20.04 ARM GCC Cross Compile | PASS | +----------------------------------------+--------------------+ | Debian 12 with MUSDK | PASS | +----------------------------------------+--------------------+ | Fedora 40 (ARM) | PASS | +----------------------------------------+--------------------+ | Ubuntu 20.04 ARM SVE | PASS | +----------------------------------------+--------------------+ | Fedora 40 (ARM Clang) | PASS | +----------------------------------------+--------------------+ | Ubuntu 22.04 (ARM) | PASS | +----------------------------------------+--------------------+ | Ubuntu 20.04 (ARM) | PASS | +----------------------------------------+--------------------+ | Ubuntu 24.04 (ARM) | PASS | +----------------------------------------+--------------------+ | Fedora 41 (ARM Clang) | PASS | +----------------------------------------+--------------------+ | Fedora 41 (ARM) | PASS | +----------------------------------------+--------------------+ | Debian 12 (arm) | PASS | +----------------------------------------+--------------------+ | CentOS Stream 10 (ARM) | PASS | +----------------------------------------+--------------------+ | CentOS Stream 9 (ARM) | PASS | +----------------------------------------+--------------------+ | Debian 11 (Buster) (ARM) | PASS | +----------------------------------------+--------------------+ | Ubuntu 20.04 ARM Clang Cross Compile | PASS | +----------------------------------------+--------------------+ | Ubuntu 20.04 aarch32 GCC Cross Compile | PASS | +----------------------------------------+--------------------+ RHEL9 (ARM) Kernel: Depends on container host Compiler: gcc 11.5.0 20240719 (Red Hat 11.5.0-2) Ubuntu 20.04 ARM GCC Cross Compile Kernel: Depends on container host Compiler: aarch64-linux-gnu-gcc (Ubuntu 9.4.0-1ubuntu1~20.04.2) 9.4.0 Debian 12 with MUSDK Kernel: Depends on container host Compiler: gcc (Debian 12.2.0-14) 12.2.0 Fedora 40 (ARM) Kernel: Depends on container host Compiler: gcc 14.2.1 20240912 (Red Hat 14.2.1-3) Ubuntu 20.04 ARM SVE Kernel: Depends on container host Compiler: gcc (Ubuntu 10.5.0-1ubuntu1~20.04) 10.5.0 Fedora 40 (ARM Clang) Kernel: Depends on container host Compiler: clang 18.1.8 (Fedora 18.1.8-1.fc40) Ubuntu 22.04 (ARM) Kernel: Depends on container host Compiler: gcc (Ubuntu 11.4.0-1ubuntu1~22.04) 11.4.0 Ubuntu 20.04 (ARM) Kernel: Depends on container host Compiler: gcc (Ubuntu 9.4.0-1ubuntu1~20.04.2) 9.4.0 Ubuntu 24.04 (ARM) Kernel: Depends on container host Compiler: gcc (Ubuntu 13.3.0-6ubuntu2~24.04) 13.3.0 Fedora 41 (ARM Clang) Kernel: Depends on container host Compiler: clang 19.1.5 (Fedora 19.1.5-1.fc41) Fedora 41 (ARM) Kernel: Depends on container host Compiler: gcc 14.2.1 20240912 (Red Hat 14.2.1-3) Debian 12 (arm) Kernel: Depends on container host Compiler: gcc (Debian 12.2.0-14) 12.2.0 CentOS Stream 10 (ARM) Kernel: Depends on container host Compiler: gcc 14.2.1 20241104 (Red Hat 14.2.1-6) CentOS Stream 9 (ARM) Kernel: Depends on container host Compiler: gcc 11.5.0 20240719 (Red Hat 11.5.0-2) Debian 11 (Buster) (ARM) Kernel: Depends on container host Compiler: gcc (Debian 10.2.1-6) 10.2.1 20210110 Ubuntu 20.04 ARM Clang Cross Compile Kernel: Depends on container host Compiler: clang 10.0.0-4ubuntu1 Ubuntu 20.04 aarch32 GCC Cross Compile Kernel: Depends on container host Compiler: gcc 9.4.0 To view detailed results, visit: https://lab.dpdk.org/results/dashboard/patchsets/32626/ UNH-IOL DPDK Community Lab To manage your email subscriptions, visit: https://lab.dpdk.org/results/dashboard/preferences/subscriptions/