From mboxrd@z Thu Jan 1 00:00:00 1970 Return-Path: Received: from mails.dpdk.org (mails.dpdk.org [217.70.189.124]) by inbox.dpdk.org (Postfix) with ESMTP id 497D446283 for ; Fri, 21 Feb 2025 03:35:28 +0100 (CET) Received: from mails.dpdk.org (localhost [127.0.0.1]) by mails.dpdk.org (Postfix) with ESMTP id 2EB5E40A80; Fri, 21 Feb 2025 03:35:28 +0100 (CET) Received: from mail-il1-f226.google.com (mail-il1-f226.google.com [209.85.166.226]) by mails.dpdk.org (Postfix) with ESMTP id E5CA6402CE for ; Fri, 21 Feb 2025 03:35:26 +0100 (CET) Received: by mail-il1-f226.google.com with SMTP id e9e14a558f8ab-3d19d214f0aso10801035ab.1 for ; Thu, 20 Feb 2025 18:35:26 -0800 (PST) DKIM-Signature: v=1; a=rsa-sha256; c=relaxed/relaxed; d=iol.unh.edu; s=unh-iol; t=1740105326; x=1740710126; darn=dpdk.org; h=references:in-reply-to:cc:to:from:subject:message-id:date:from:to :cc:subject:date:message-id:reply-to; bh=9d/x+8zUyCb7MTiMq6bGgKP6EHrFqXf6kEHs3eORFAA=; b=C9tZKXbGs1w5oFqXu6fpHDBrl4O7u5ONLe3zK8n6veBqKzwXimjNNNA1TbCmNmDJLE 7HXpLlPA3y613p8p85BFoFgzsljPmuLTaE0kNSyfgoOhPrAbzVxo0vNtQ2vtDKEbed2v oMohk9PxXet3q0zzTo8VOKm6PXPpG80ZnIFx0= X-Google-DKIM-Signature: v=1; a=rsa-sha256; c=relaxed/relaxed; d=1e100.net; s=20230601; t=1740105326; x=1740710126; h=references:in-reply-to:cc:to:from:subject:message-id:date :x-gm-message-state:from:to:cc:subject:date:message-id:reply-to; bh=9d/x+8zUyCb7MTiMq6bGgKP6EHrFqXf6kEHs3eORFAA=; b=GerymjcO3fnPs6Jhz26CkiS5HpcwliHsIxKeyEoczc4RH9TCDdvsCRjZiX4lTxnc+Q oD9JEL64+dd27HZOZJFlbP755KHHkqPCE9UCaLdGnjhAsmhxI4Nn3vJGWIZ8NJ1Ji/su y+dvJU8zUFBGnPFHqt4Lam4oimodPKlQBXqD7oZfFiU1AtsnsOFBV1BwNpmjK61Zq4Yd 7nGiHIqsfFxUAnkAnu5P4Gw85f7znTlVbNrdq/X3x8FL43CYIzC/dVIoslSfGnT/VfY9 D8UlbtPTP7HDJeUtizUMj+pLMHN2Y1eN8mOmU+bTqA8UBNs7zkiVCcYmcWab/zl2QZN0 EL1Q== X-Gm-Message-State: AOJu0YzFdrebiw6nw3/Pxx6V9AQkEd2DG5Enj39wcNWbFoVGhY2HdJ5C c5PXvkt740FBWF3PQnJ69bdxUQFpcuiMT/NIzx+u1rLMisbe8bdp/u8JQry8fHx4g0oOYvGx50S raaqKwPMo4pTv1/D+mXqafOrippyu7yeuPnX9pTn3 X-Gm-Gg: ASbGncus6pMHbRjmtrf3jdNxr3Iz/mkTM1BiuZMGpppbxWMlbv8lXTynCd8rJtgKhEU mubFoKQTw19y2cfvWM6VsYN5NT/OAAqJCBo2YLDcHOPuVvcHrtQ5jL7Wvv/nM7D23Yj50KWDW4C pUaw6yQ2hSciPev08IO0+U/O7RKW8/sJy9V0EFiNdMFLc+QxrC7S6b9ZTUyY+1LebBqsfn9OQFT i4ta3xlGXD4EFIvKaZ6mjEZadQuSyzt8qFV8iAqDly08kfrN79p4i0hGNxZyMlJkTw9lHpOsu50 vdPXwOl8hokrvKA9ByruqbKdMlYyh9MW+IJ4SeF1 X-Google-Smtp-Source: AGHT+IFMye6DYf7O3s+EZ0eJu+OObVhdxHiqRC7vxFPyqOG90rbuyjqZr9VCpLOeOGJ/c8411LRwxn8FK0o+ X-Received: by 2002:a05:6e02:3dc4:b0:3d0:4c9c:965f with SMTP id e9e14a558f8ab-3d2cb543cf0mr12866325ab.20.1740105326216; Thu, 20 Feb 2025 18:35:26 -0800 (PST) Received: from postal.iol.unh.edu (postal.iol.unh.edu. [132.177.123.84]) by smtp-relay.gmail.com with ESMTPS id 8926c6da1cb9f-4eeb7402a12sm377365173.4.2025.02.20.18.35.26 (version=TLS1_2 cipher=ECDHE-ECDSA-AES128-GCM-SHA256 bits=128/128); Thu, 20 Feb 2025 18:35:26 -0800 (PST) X-Relaying-Domain: iol.unh.edu Date: Thu, 20 Feb 2025 18:35:26 -0800 (PST) Message-ID: <67b7e66e.050a0220.3166bd.4030SMTPIN_ADDED_MISSING@mx.google.com> Received: from [172.21.0.7] (unknown [172.18.0.240]) by postal.iol.unh.edu (Postfix) with ESMTP id 7DF356052471; Thu, 20 Feb 2025 21:35:17 -0500 (EST) Subject: |SUCCESS| pw151572-151573 [PATCH] [2/2] app/testpmd: use flags from From: dpdklab@iol.unh.edu To: Test Report Cc: dpdk-test-reports@iol.unh.edu In-Reply-To: <20250218103322.166461-3-gavinl@nvidia.com> References: <20250218103322.166461-3-gavinl@nvidia.com> Content-Type: text/plain X-BeenThere: test-report@dpdk.org X-Mailman-Version: 2.1.29 Precedence: list List-Id: automatic DPDK test reports List-Unsubscribe: , List-Archive: List-Post: List-Help: List-Subscribe: , Errors-To: test-report-bounces@dpdk.org Test-Label: iol-compile-amd64-testing Test-Status: SUCCESS http://dpdk.org/patch/151573 _Testing PASS_ Submitter: Minggang Li(Gavin) Date: Tuesday, February 18 2025 10:33:22 DPDK git baseline: Repo:dpdk Branch: master CommitID:968f7b6d7b6a7e60e6e551db430c4eecaccbbfd2 151572-151573 --> testing pass Upstream job id: Windows-Compile-DPDK-Native#26803 Test environment and result as below: +---------------------+--------------------+-------------------+------------------+-------------------+-------------------------+ | Environment | dpdk_meson_compile | dpdk_compile_spdk | dpdk_compile_ovs | dpdk_msvc_compile | dpdk_llvm_clang_compile | +=====================+====================+===================+==================+===================+=========================+ | CentOS Stream 10 | PASS | SKIPPED | SKIPPED | SKIPPED | SKIPPED | +---------------------+--------------------+-------------------+------------------+-------------------+-------------------------+ | Debian Bullseye | PASS | PASS | SKIPPED | SKIPPED | SKIPPED | +---------------------+--------------------+-------------------+------------------+-------------------+-------------------------+ | Debian 12 | PASS | PASS | SKIPPED | SKIPPED | SKIPPED | +---------------------+--------------------+-------------------+------------------+-------------------+-------------------------+ | Fedora 40 (Clang) | PASS | PASS | SKIPPED | SKIPPED | SKIPPED | +---------------------+--------------------+-------------------+------------------+-------------------+-------------------------+ | Fedora 40 | PASS | PASS | SKIPPED | SKIPPED | SKIPPED | +---------------------+--------------------+-------------------+------------------+-------------------+-------------------------+ | Fedora 41 | PASS | PASS | PASS | SKIPPED | SKIPPED | +---------------------+--------------------+-------------------+------------------+-------------------+-------------------------+ | Fedora 41 (Clang) | PASS | PASS | PASS | SKIPPED | SKIPPED | +---------------------+--------------------+-------------------+------------------+-------------------+-------------------------+ | RHEL8 | PASS | SKIPPED | SKIPPED | SKIPPED | SKIPPED | +---------------------+--------------------+-------------------+------------------+-------------------+-------------------------+ | openSUSE Leap 15 | PASS | SKIPPED | SKIPPED | SKIPPED | SKIPPED | +---------------------+--------------------+-------------------+------------------+-------------------+-------------------------+ | RHEL9 | PASS | SKIPPED | SKIPPED | SKIPPED | SKIPPED | +---------------------+--------------------+-------------------+------------------+-------------------+-------------------------+ | Ubuntu 20.04 | PASS | SKIPPED | SKIPPED | SKIPPED | SKIPPED | +---------------------+--------------------+-------------------+------------------+-------------------+-------------------------+ | Ubuntu 22.04 | PASS | PASS | SKIPPED | SKIPPED | SKIPPED | +---------------------+--------------------+-------------------+------------------+-------------------+-------------------------+ | Ubuntu 24.04 | PASS | PASS | PASS | SKIPPED | SKIPPED | +---------------------+--------------------+-------------------+------------------+-------------------+-------------------------+ | FreeBSD 13.4 | PASS | SKIPPED | SKIPPED | SKIPPED | SKIPPED | +---------------------+--------------------+-------------------+------------------+-------------------+-------------------------+ | FreeBSD 14.2 | PASS | SKIPPED | SKIPPED | SKIPPED | SKIPPED | +---------------------+--------------------+-------------------+------------------+-------------------+-------------------------+ | CentOS Stream 9 | PASS | PASS | SKIPPED | SKIPPED | SKIPPED | +---------------------+--------------------+-------------------+------------------+-------------------+-------------------------+ | Alpine | PASS | SKIPPED | SKIPPED | SKIPPED | SKIPPED | +---------------------+--------------------+-------------------+------------------+-------------------+-------------------------+ | Windows Server 2022 | SKIPPED | SKIPPED | SKIPPED | PASS | PASS | +---------------------+--------------------+-------------------+------------------+-------------------+-------------------------+ CentOS Stream 10 Kernel: Depends on container host Compiler: gcc 14.2.1 20241104 (Red Hat 14.2.1-6) Debian Bullseye Kernel: Depends on container host Compiler: gcc (Debian 10.2.1-6) 10.2.1 20210110 Debian 12 Kernel: Depends on container host Compiler: gcc (Debian 12.2.0-14) 12.2.0 Fedora 40 (Clang) Kernel: Depends on container host Compiler: clang 18.1.8 (Fedora 18.1.8-1.fc40) Fedora 40 Kernel: Depends on container host Compiler: gcc 14.2.1 20240912 (Red Hat 14.2.1-3) Fedora 41 Kernel: Depends on container host Compiler: gcc 14.2.1 20240912 (Red Hat 14.2.1-3) Fedora 41 (Clang) Kernel: Depends on container host Compiler: clang 19.1.5 (Fedora 19.1.5-1.fc41) RHEL8 Kernel: Depends on container host Compiler: gcc 8.5.0 20210514 (Red Hat 8.5.0-22) openSUSE Leap 15 Kernel: Depends on container host Compiler: gcc (SUSE Linux) 7.5.0 RHEL9 Kernel: Depends on container host Compiler: gcc 11.5.0 20240719 (Red Hat 11.5.0-2) Ubuntu 20.04 Kernel: Depends on container host Compiler: gcc (Ubuntu 9.4.0-1ubuntu1~20.04.2) 9.4.0 Ubuntu 22.04 Kernel: Depends on container host Compiler: gcc (Ubuntu 11.4.0-1ubuntu1~22.04) 11.4.0 Ubuntu 24.04 Kernel: Depends on container host Compiler: gcc (Ubuntu 13.3.0-6ubuntu2~24.04) 13.3.0 FreeBSD 13.4 Kernel: 13.4-RELEASE-p1 Compiler: clang 18.1.6 FreeBSD 14.2 Kernel: 14.2-RELEASE Compiler: clang 18.1.6 CentOS Stream 9 Kernel: Depends on container host Compiler: gcc 11.5.0 20240719 (Red Hat 11.5.0-2) Alpine Kernel: Depends on container host Compiler: gcc (Alpine 14.2.0) 14.2.0 Windows Server 2022 Kernel: 10.0.20348.2031 Compiler: clang 15.0.7, gcc 14.1.0 (MinGW), and MSVC VS 19.39.33521 To view detailed results, visit: https://lab.dpdk.org/results/dashboard/patchsets/32599/ UNH-IOL DPDK Community Lab To manage your email subscriptions, visit: https://lab.dpdk.org/results/dashboard/preferences/subscriptions/