From mboxrd@z Thu Jan 1 00:00:00 1970 Return-Path: Received: from mails.dpdk.org (mails.dpdk.org [217.70.189.124]) by inbox.dpdk.org (Postfix) with ESMTP id 777F246283 for ; Fri, 21 Feb 2025 03:40:42 +0100 (CET) Received: from mails.dpdk.org (localhost [127.0.0.1]) by mails.dpdk.org (Postfix) with ESMTP id 5394840A80; Fri, 21 Feb 2025 03:40:42 +0100 (CET) Received: from mail-io1-f98.google.com (mail-io1-f98.google.com [209.85.166.98]) by mails.dpdk.org (Postfix) with ESMTP id B0DEA402CE for ; Fri, 21 Feb 2025 03:40:40 +0100 (CET) Received: by mail-io1-f98.google.com with SMTP id ca18e2360f4ac-855a5aa9604so41389539f.2 for ; Thu, 20 Feb 2025 18:40:40 -0800 (PST) DKIM-Signature: v=1; a=rsa-sha256; c=relaxed/relaxed; d=iol.unh.edu; s=unh-iol; t=1740105640; x=1740710440; darn=dpdk.org; h=references:in-reply-to:cc:to:from:subject:message-id:date:from:to :cc:subject:date:message-id:reply-to; bh=rPQKq5og/RjYU699BaFykJg4ZEl/+GnrEwaXDHemJsw=; b=jW4BdG7F2v5zsf7Jzti4GnAiViNAA9K1n9mjcXfpf5UcxSq4lBYXM0RoPp9egmkSWC fmt9oas37Ul7MU/Yl4bJJpRlssEBtnNwW2NokKndlqUDf1vh9/5k4X/kuBmcE4ozN+/8 /PWvso2e0j33lcD/6JT5fUxtAG+aeBK0Ci7hA= X-Google-DKIM-Signature: v=1; a=rsa-sha256; c=relaxed/relaxed; d=1e100.net; s=20230601; t=1740105640; x=1740710440; h=references:in-reply-to:cc:to:from:subject:message-id:date :x-gm-message-state:from:to:cc:subject:date:message-id:reply-to; bh=rPQKq5og/RjYU699BaFykJg4ZEl/+GnrEwaXDHemJsw=; b=cI81RNj3glCT7a3fQYKXbQTpS2agYAwlvcWSCqx2Nh7xKn5b9Wzz36m2epOslGAl/J LgjPYiOOW0kgLioaYk2ovmTFCYtGmayufQNA7VipkBzEw8FIkdbOVh/zriG2SZB/XnZD OScwZQ5BGuYI7dQIsrK/HNP+ZlDPM5dROAjlKF7L7X5zHANVOBMboAPWz2u7mG9C9Idf sJjpRTWSbnzZlbyytq3IEodklwUcgN4c48A3hcf1OaaTrzYgZfe7zHNJMu+hDm/xeo7g 7mcKDB1VsB8/aFAMslFXCxrmHJ74p7hqtZZsFd8GTRpnoyld8Ip+J06rLQfybyAnTQSu 6phQ== X-Gm-Message-State: AOJu0Yxo1rTmi+Nq6SCxateTRt3scrGcVcAzTHuOCVOS1y3jhRJipHRV h/j3uCDCQy0Hhf02owcTJ70bXB/jVHUFbmLTSDmdyr2uPLeKWHDaDGEY//f1HzY6OpdCNu5HQpi +FPp2DugoRhq+xWEfp0ruWYkbiqcTv80O/vtLr7xKr8t9L6CEIv3EdhTK X-Gm-Gg: ASbGncvTGS81mCSYZOisqCY49h+qJ76RiMqck6UyM2g4E9Eu4Xltc4I9OjJR1kSMCxi mM7IKljREUqYWeb5y8ArjaM3kX3Gazpqq+RONwcFngJsjT4R2zoyeiBP5vde7VjeJWYpvG1HJv7 yW+STprzJrKfRoLIfkYFIuCqM+45EakBP3A+1g51QLZM1gpvhJs+jpPMmCu4L0ZYXbAHGdgjXUD zBn4kQcLWHZUYgm7uy2zeozE6dSsEypanOGC4Aly1MEITBPC5/pYN6RbHUP9fX4WUja2it7HXp/ 4WVZPaYgLAKpc/fMMEIs6h8JBQg7tYEF2Pr0jtLl00RQATEUPP2x X-Google-Smtp-Source: AGHT+IE56aEB+URRT11LADeKmy3LrmzJ1Oay6tuVqMypdLMqntDLK3i3Elvg7R6/GH0aX6/MrN1GWPRUZaMO X-Received: by 2002:a05:6602:14cf:b0:855:ab63:1b89 with SMTP id ca18e2360f4ac-855dac1e3demr131982139f.11.1740105640024; Thu, 20 Feb 2025 18:40:40 -0800 (PST) Received: from postal.iol.unh.edu (postal.iol.unh.edu. [2606:4100:3880:1234::84]) by smtp-relay.gmail.com with ESMTPS id 8926c6da1cb9f-4ee7eca20a2sm896281173.65.2025.02.20.18.40.39 (version=TLS1_2 cipher=ECDHE-ECDSA-AES128-GCM-SHA256 bits=128/128); Thu, 20 Feb 2025 18:40:40 -0800 (PST) X-Relaying-Domain: iol.unh.edu Date: Thu, 20 Feb 2025 18:40:40 -0800 (PST) Message-ID: <67b7e7a8.050a0220.47e0a.cdaaSMTPIN_ADDED_MISSING@mx.google.com> Received: from [172.21.0.6] (unknown [172.18.0.240]) by postal.iol.unh.edu (Postfix) with ESMTP id 02D8F6052471; Thu, 20 Feb 2025 21:40:37 -0500 (EST) Subject: |SUCCESS| pw151720-151724 [PATCH] [v3,6/6] mbuf: enable to be compil From: dpdklab@iol.unh.edu To: Test Report Cc: dpdk-test-reports@iol.unh.edu In-Reply-To: <1740083508-6703-7-git-send-email-andremue@linux.microsoft.com> References: <1740083508-6703-7-git-send-email-andremue@linux.microsoft.com> Content-Type: text/plain X-BeenThere: test-report@dpdk.org X-Mailman-Version: 2.1.29 Precedence: list List-Id: automatic DPDK test reports List-Unsubscribe: , List-Archive: List-Post: List-Help: List-Subscribe: , Errors-To: test-report-bounces@dpdk.org Test-Label: iol-compile-amd64-testing Test-Status: SUCCESS http://dpdk.org/patch/151724 _Testing PASS_ Submitter: Andre Muezerie Date: Thursday, February 20 2025 20:31:48 DPDK git baseline: Repo:dpdk Branch: master CommitID:fab31a03ba98e7457284df95dd9eef2223a4ccaa 151720-151724 --> testing pass Upstream job id: Generic-DPDK-Compile-Meson#363659 Test environment and result as below: +-------------------+--------------------+-------------------+------------------+ | Environment | dpdk_meson_compile | dpdk_compile_spdk | dpdk_compile_ovs | +===================+====================+===================+==================+ | CentOS Stream 10 | PASS | SKIPPED | SKIPPED | +-------------------+--------------------+-------------------+------------------+ | CentOS Stream 9 | PASS | PASS | SKIPPED | +-------------------+--------------------+-------------------+------------------+ | Debian Bullseye | PASS | PASS | SKIPPED | +-------------------+--------------------+-------------------+------------------+ | Debian 12 | PASS | PASS | SKIPPED | +-------------------+--------------------+-------------------+------------------+ | Fedora 41 (Clang) | PASS | PASS | PASS | +-------------------+--------------------+-------------------+------------------+ | Fedora 40 (Clang) | PASS | PASS | SKIPPED | +-------------------+--------------------+-------------------+------------------+ | Fedora 40 | PASS | PASS | SKIPPED | +-------------------+--------------------+-------------------+------------------+ | Fedora 41 | PASS | PASS | PASS | +-------------------+--------------------+-------------------+------------------+ | Ubuntu 20.04 | PASS | SKIPPED | SKIPPED | +-------------------+--------------------+-------------------+------------------+ | RHEL9 | PASS | SKIPPED | SKIPPED | +-------------------+--------------------+-------------------+------------------+ | Ubuntu 22.04 | PASS | PASS | SKIPPED | +-------------------+--------------------+-------------------+------------------+ | RHEL8 | PASS | SKIPPED | SKIPPED | +-------------------+--------------------+-------------------+------------------+ | openSUSE Leap 15 | PASS | SKIPPED | SKIPPED | +-------------------+--------------------+-------------------+------------------+ | Ubuntu 24.04 | PASS | PASS | PASS | +-------------------+--------------------+-------------------+------------------+ | FreeBSD 13.4 | PASS | SKIPPED | SKIPPED | +-------------------+--------------------+-------------------+------------------+ | FreeBSD 14.2 | PASS | SKIPPED | SKIPPED | +-------------------+--------------------+-------------------+------------------+ | Alpine | PASS | SKIPPED | SKIPPED | +-------------------+--------------------+-------------------+------------------+ CentOS Stream 10 Kernel: Depends on container host Compiler: gcc 14.2.1 20241104 (Red Hat 14.2.1-6) CentOS Stream 9 Kernel: Depends on container host Compiler: gcc 11.5.0 20240719 (Red Hat 11.5.0-2) Debian Bullseye Kernel: Depends on container host Compiler: gcc (Debian 10.2.1-6) 10.2.1 20210110 Debian 12 Kernel: Depends on container host Compiler: gcc (Debian 12.2.0-14) 12.2.0 Fedora 41 (Clang) Kernel: Depends on container host Compiler: clang 19.1.5 (Fedora 19.1.5-1.fc41) Fedora 40 (Clang) Kernel: Depends on container host Compiler: clang 18.1.8 (Fedora 18.1.8-1.fc40) Fedora 40 Kernel: Depends on container host Compiler: gcc 14.2.1 20240912 (Red Hat 14.2.1-3) Fedora 41 Kernel: Depends on container host Compiler: gcc 14.2.1 20240912 (Red Hat 14.2.1-3) Ubuntu 20.04 Kernel: Depends on container host Compiler: gcc (Ubuntu 9.4.0-1ubuntu1~20.04.2) 9.4.0 RHEL9 Kernel: Depends on container host Compiler: gcc 11.5.0 20240719 (Red Hat 11.5.0-2) Ubuntu 22.04 Kernel: Depends on container host Compiler: gcc (Ubuntu 11.4.0-1ubuntu1~22.04) 11.4.0 RHEL8 Kernel: Depends on container host Compiler: gcc 8.5.0 20210514 (Red Hat 8.5.0-22) openSUSE Leap 15 Kernel: Depends on container host Compiler: gcc (SUSE Linux) 7.5.0 Ubuntu 24.04 Kernel: Depends on container host Compiler: gcc (Ubuntu 13.3.0-6ubuntu2~24.04) 13.3.0 FreeBSD 13.4 Kernel: 13.4-RELEASE-p1 Compiler: clang 18.1.6 FreeBSD 14.2 Kernel: 14.2-RELEASE Compiler: clang 18.1.6 Alpine Kernel: Depends on container host Compiler: gcc (Alpine 14.2.0) 14.2.0 To view detailed results, visit: https://lab.dpdk.org/results/dashboard/patchsets/32626/ UNH-IOL DPDK Community Lab To manage your email subscriptions, visit: https://lab.dpdk.org/results/dashboard/preferences/subscriptions/