From mboxrd@z Thu Jan 1 00:00:00 1970 Return-Path: Received: from mails.dpdk.org (mails.dpdk.org [217.70.189.124]) by inbox.dpdk.org (Postfix) with ESMTP id EFBD046283 for ; Fri, 21 Feb 2025 03:43:02 +0100 (CET) Received: from mails.dpdk.org (localhost [127.0.0.1]) by mails.dpdk.org (Postfix) with ESMTP id CB37D40A80; Fri, 21 Feb 2025 03:43:02 +0100 (CET) Received: from mail-oa1-f98.google.com (mail-oa1-f98.google.com [209.85.160.98]) by mails.dpdk.org (Postfix) with ESMTP id 41987402CE for ; Fri, 21 Feb 2025 03:43:02 +0100 (CET) Received: by mail-oa1-f98.google.com with SMTP id 586e51a60fabf-2bcca6aa8e1so371178fac.1 for ; Thu, 20 Feb 2025 18:43:02 -0800 (PST) DKIM-Signature: v=1; a=rsa-sha256; c=relaxed/relaxed; d=iol.unh.edu; s=unh-iol; t=1740105781; x=1740710581; darn=dpdk.org; h=references:in-reply-to:cc:to:from:subject:message-id:date:from:to :cc:subject:date:message-id:reply-to; bh=DZ0wFLTOKCcN1/TMregxqIDoYzkpqFV35s8Y/UtWdg0=; b=RRgQxHuc6CeL540g7nmo33Kfp/UHeClUX/tLklPSBmzfEjUzKKMCI7Ay1ABMobmKeO Y/g6Y085HUx4jStUQI9OqKguIRo/g2TIrV4AQwu8YaTscFsN/ReVKWaBOOROS/Vo8BBR HobtmXxidtMqPgpcJn54D9IMov83saZRLZW5g= X-Google-DKIM-Signature: v=1; a=rsa-sha256; c=relaxed/relaxed; d=1e100.net; s=20230601; t=1740105781; x=1740710581; h=references:in-reply-to:cc:to:from:subject:message-id:date :x-gm-message-state:from:to:cc:subject:date:message-id:reply-to; bh=DZ0wFLTOKCcN1/TMregxqIDoYzkpqFV35s8Y/UtWdg0=; b=Av4XAqoRl0m3qBgxKli/pcoV+moXdM8NX73YlihzmAl3l1uVX1KahAYcITY4geem6w REPYqhP9QCp7FFlAMv/5q6A7YnMnz5ED0utqXwTrUq79+h7LfHBBcA0fN4ZMoYtIQZOV P9wRg1qyOk/9Fx1mBiv0ise0y0czpcktDe8la0kIPbyw7R9IcZM86P2rjeWRunZkwJF5 WFH+egsnpUfGKMPEG+h/vVglMsF/aSAiyZy7eMcMOXnv5a6pK6k3oXX7DKRRzItXbTFU ir4Md1sDJGsF0t8RusK3Pf1ZmMSEvj4O5XvIkwepqKdKcZiLlF3x8doULsBSb8JlHQwi in/A== X-Gm-Message-State: AOJu0YzJObYVAHJ01HFjYkNwhQv/D8iGjKRbzi8ubTrue/Y+3NgIgsS9 yTRgDLrpF7Hz6ueFrDuv8RiMjcbnZ872VG9qzxFEcN4NUeTEDeXuocbeputSRdmXp7FgrxZgCWK vwCHtspIt5y8smNm6b/LmyHzwKn5jqb+KxannW0u/ X-Gm-Gg: ASbGncu1R/GEEFek5hQY8Ml5y4qmg6T6crlo+ZT9hDlPuO1iHRpTLojLTPbxdm7fmqw O5ywj97PeOZJjj+LH46yXtKNnBgVfccxq0uAaPUF46HyOomSqz2X9TZQrxFV9pJkf0GuF0kAiSy 18QvUIQDG9iiOaJE1jxeGD/Y1m+9QjbhEfld6XkSNCXPqS1XiCuSXt4VdFq9MTPOF620e0z25ej MK7pVspHh0f7EnDtRPGw9zMaY8TAH6sBUevPkRtTIwznuMCqDwl4meHxD+WI2ZrCQhfn/1onvev PeXQooeVDfg2eVHuIeSmEq/GIuiNniPpHDJv5+og X-Google-Smtp-Source: AGHT+IEgWbGr6D/KEqZXXtIt0UO7pIXaSsJy76m8OHChSk3zumpHmA3YRXHpTYfTQ9vSh5HvSlWIoEwvOewQ X-Received: by 2002:a05:6870:6e83:b0:29e:40f8:ad9b with SMTP id 586e51a60fabf-2bd50ce4e11mr1361344fac.14.1740105781236; Thu, 20 Feb 2025 18:43:01 -0800 (PST) Received: from postal.iol.unh.edu (postal.iol.unh.edu. [132.177.123.84]) by smtp-relay.gmail.com with ESMTPS id 586e51a60fabf-2b95481acd5sm945416fac.8.2025.02.20.18.43.01 (version=TLS1_2 cipher=ECDHE-ECDSA-AES128-GCM-SHA256 bits=128/128); Thu, 20 Feb 2025 18:43:01 -0800 (PST) X-Relaying-Domain: iol.unh.edu Date: Thu, 20 Feb 2025 18:43:01 -0800 (PST) Message-ID: <67b7e835.050a0220.119208.e728SMTPIN_ADDED_MISSING@mx.google.com> Received: from [172.21.0.7] (unknown [172.18.0.240]) by postal.iol.unh.edu (Postfix) with ESMTP id 1B7706052471; Thu, 20 Feb 2025 21:42:58 -0500 (EST) Subject: |SUCCESS| pw151706-151719 [PATCH] [v3,14/14] security: remove unnece From: dpdklab@iol.unh.edu To: Test Report Cc: dpdk-test-reports@iol.unh.edu In-Reply-To: <20250220165644.16421-15-stephen@networkplumber.org> References: <20250220165644.16421-15-stephen@networkplumber.org> Content-Type: text/plain X-BeenThere: test-report@dpdk.org X-Mailman-Version: 2.1.29 Precedence: list List-Id: automatic DPDK test reports List-Unsubscribe: , List-Archive: List-Post: List-Help: List-Subscribe: , Errors-To: test-report-bounces@dpdk.org Test-Label: iol-unit-amd64-testing Test-Status: SUCCESS http://dpdk.org/patch/151719 _Testing PASS_ Submitter: Stephen Hemminger Date: Thursday, February 20 2025 16:55:28 DPDK git baseline: Repo:dpdk Branch: master CommitID:fab31a03ba98e7457284df95dd9eef2223a4ccaa 151706-151719 --> testing pass Upstream job id: Generic-VM-Unit-Test-DPDK#27300 Test environment and result as below: +---------------------+----------------+ | Environment | dpdk_unit_test | +=====================+================+ | CentOS Stream 9 | PASS | +---------------------+----------------+ | CentOS Stream 10 | PASS | +---------------------+----------------+ | Debian 12 | PASS | +---------------------+----------------+ | Fedora 40 | PASS | +---------------------+----------------+ | Fedora 40 (Clang) | PASS | +---------------------+----------------+ | Fedora 41 | PASS | +---------------------+----------------+ | Debian Bullseye | PASS | +---------------------+----------------+ | RHEL8 | PASS | +---------------------+----------------+ | Fedora 41 (Clang) | PASS | +---------------------+----------------+ | RHEL9 | PASS | +---------------------+----------------+ | Ubuntu 20.04 | PASS | +---------------------+----------------+ | Ubuntu 22.04 | PASS | +---------------------+----------------+ | Ubuntu 24.04 | PASS | +---------------------+----------------+ | Windows Server 2022 | PASS | +---------------------+----------------+ CentOS Stream 9 Kernel: Depends on container host Compiler: gcc 11.5.0 20240719 (Red Hat 11.5.0-2) CentOS Stream 10 Kernel: Depends on container host Compiler: gcc 14.2.1 20241104 (Red Hat 14.2.1-6) Debian 12 Kernel: Depends on container host Compiler: gcc (Debian 12.2.0-14) 12.2.0 Fedora 40 Kernel: Depends on container host Compiler: gcc 14.2.1 20240912 (Red Hat 14.2.1-3) Fedora 40 (Clang) Kernel: Depends on container host Compiler: clang 18.1.8 (Fedora 18.1.8-1.fc40) Fedora 41 Kernel: Depends on container host Compiler: gcc 14.2.1 20240912 (Red Hat 14.2.1-3) Debian Bullseye Kernel: Depends on container host Compiler: gcc (Debian 10.2.1-6) 10.2.1 20210110 RHEL8 Kernel: Depends on container host Compiler: gcc 8.5.0 20210514 (Red Hat 8.5.0-22) Fedora 41 (Clang) Kernel: Depends on container host Compiler: clang 19.1.5 (Fedora 19.1.5-1.fc41) RHEL9 Kernel: Depends on container host Compiler: gcc 11.5.0 20240719 (Red Hat 11.5.0-2) Ubuntu 20.04 Kernel: Depends on container host Compiler: gcc (Ubuntu 9.4.0-1ubuntu1~20.04.2) 9.4.0 Ubuntu 22.04 Kernel: Depends on container host Compiler: gcc (Ubuntu 11.4.0-1ubuntu1~22.04) 11.4.0 Ubuntu 24.04 Kernel: Depends on container host Compiler: gcc (Ubuntu 13.3.0-6ubuntu2~24.04) 13.3.0 Windows Server 2022 Kernel: 10.0.20348.2031 Compiler: clang 15.0.7, gcc 14.1.0 (MinGW), and MSVC VS 19.39.33521 To view detailed results, visit: https://lab.dpdk.org/results/dashboard/patchsets/32625/ UNH-IOL DPDK Community Lab To manage your email subscriptions, visit: https://lab.dpdk.org/results/dashboard/preferences/subscriptions/