From mboxrd@z Thu Jan 1 00:00:00 1970 Return-Path: Received: from mails.dpdk.org (mails.dpdk.org [217.70.189.124]) by inbox.dpdk.org (Postfix) with ESMTP id 3781046284 for ; Fri, 21 Feb 2025 04:10:59 +0100 (CET) Received: from mails.dpdk.org (localhost [127.0.0.1]) by mails.dpdk.org (Postfix) with ESMTP id 1686340A80; Fri, 21 Feb 2025 04:10:59 +0100 (CET) Received: from mail-oa1-f99.google.com (mail-oa1-f99.google.com [209.85.160.99]) by mails.dpdk.org (Postfix) with ESMTP id C7DA2402CE for ; Fri, 21 Feb 2025 04:10:57 +0100 (CET) Received: by mail-oa1-f99.google.com with SMTP id 586e51a60fabf-2bc685be295so348671fac.3 for ; Thu, 20 Feb 2025 19:10:57 -0800 (PST) DKIM-Signature: v=1; a=rsa-sha256; c=relaxed/relaxed; d=iol.unh.edu; s=unh-iol; t=1740107457; x=1740712257; darn=dpdk.org; h=references:in-reply-to:cc:to:from:subject:message-id:date:from:to :cc:subject:date:message-id:reply-to; bh=gV80DbtSAv4cPalKI7NWOfJlpotA3hFc6hesEdR9A0w=; b=KKiHqHHk7o0FRFKR0u49Yp9m+irUIxReesKgGT1yU72SDbaF6iN7NNtqnaImosTpX6 HHrmRNt03/ngH3gl9iLpksYBsHvXKUJHrmzfrLtSvUvKYQABbjUseChgmPacAdB/u3aB dway5urbwS/LkU6m+UMV6+/bnLYnImED+Z610= X-Google-DKIM-Signature: v=1; a=rsa-sha256; c=relaxed/relaxed; d=1e100.net; s=20230601; t=1740107457; x=1740712257; h=references:in-reply-to:cc:to:from:subject:message-id:date :x-gm-message-state:from:to:cc:subject:date:message-id:reply-to; bh=gV80DbtSAv4cPalKI7NWOfJlpotA3hFc6hesEdR9A0w=; b=qfa/snOD5pKMIky93CH3p4DNOc62a9dMG3+k9vbNHFO01rf+RKh0lh8Rhl2hROX+yr b64euFTaqX3GerE+/lN1EuMc5Z0PjjCvCxVF52ly/w6M+cYNV1hmN3mmGH+g739iJ9o/ ih1NNSOPP6PAduUsHElqrrEPq7wvwgFdM2xO/5Fvs2SqtlKCfUFbV5vN3x8kosqZSxs0 SCUa6f/A1QZVAsuwpIa41gNS2TMP9M72f9JAzLXV3R/CO/2gVJ8pNK5XPIsN2yDtkBGn Vv1J9/pFqK/AuuvpzL2ch0CoNj+1JB6nxD5fk66a0ZsqpvrOjHcYDGxuLm66dM8axYtw wvqw== X-Gm-Message-State: AOJu0Yy/ecb/LcMOORAQorowWF4VfoSD66c3WC4QzPUj3tohUGybj3ep hoUMsZkVgEZ6duw7aoqUqaeyYwmQQo0zpq29ibNchrN5TgFkKp5dUMZmhYe4NEXSqt+/FA8EO0D HgNVaja5tMx9HCXdMUXmk5fr9HcKIdiram4BZSOh90cFFDfjRx3uxjJue X-Gm-Gg: ASbGncvooDjkPBQ6eTa2+9Ulp7HGRuqDaxV7EH7j/QiPwey+3qYlZZrnnJKBDE6mIcg OMoZ+oBy+g29q1NkR0M8hZvz9PbOHeFmCIMmRkniSwSHpYrFp62u4yf6D+r8Yv9+dWvn8GwMrnI o2fIs+q3h9DVYiIkCH6sUKUFHaPEhANMljWt2ZL7Bm53xerSn2TLDOzrIZrIkJwgl6PIlGo/98u L7RcViKa9ExKc2RzwAf3gbM/pbJd25k6dwtFIWzx8efppb8ibOrZROAnuGb9kUKA8VFRfPfXntg KWgXaDLHYgT1EIKU4wus3T3OD5ZtBUMoLh/hQVlR5s5+4rG3XHuI X-Google-Smtp-Source: AGHT+IFJbQWlxbDNIgiYa0yJkjK7bjGcXAHNeJTMjdxHkiMKoF3T0zJk98r96E//BD1iK+9zeT4DLXm8HnGz X-Received: by 2002:a05:6870:b61b:b0:29e:2695:5214 with SMTP id 586e51a60fabf-2bd50f3e1d7mr1238405fac.25.1740107456831; Thu, 20 Feb 2025 19:10:56 -0800 (PST) Received: from postal.iol.unh.edu (postal.iol.unh.edu. [2606:4100:3880:1234::84]) by smtp-relay.gmail.com with ESMTPS id 586e51a60fabf-2b95481acd5sm947306fac.8.2025.02.20.19.10.56 (version=TLS1_2 cipher=ECDHE-ECDSA-AES128-GCM-SHA256 bits=128/128); Thu, 20 Feb 2025 19:10:56 -0800 (PST) X-Relaying-Domain: iol.unh.edu Date: Thu, 20 Feb 2025 19:10:56 -0800 (PST) Message-ID: <67b7eec0.050a0220.119208.e8c1SMTPIN_ADDED_MISSING@mx.google.com> Received: from [172.21.0.6] (unknown [172.18.0.240]) by postal.iol.unh.edu (Postfix) with ESMTP id C45C96052471; Thu, 20 Feb 2025 22:10:47 -0500 (EST) Subject: |SUCCESS| pw151706-151719 [PATCH] [v3,14/14] security: remove unnece From: dpdklab@iol.unh.edu To: Test Report Cc: dpdk-test-reports@iol.unh.edu In-Reply-To: <20250220165644.16421-15-stephen@networkplumber.org> References: <20250220165644.16421-15-stephen@networkplumber.org> Content-Type: text/plain X-BeenThere: test-report@dpdk.org X-Mailman-Version: 2.1.29 Precedence: list List-Id: automatic DPDK test reports List-Unsubscribe: , List-Archive: List-Post: List-Help: List-Subscribe: , Errors-To: test-report-bounces@dpdk.org Test-Label: iol-compile-amd64-testing Test-Status: SUCCESS http://dpdk.org/patch/151719 _Testing PASS_ Submitter: Stephen Hemminger Date: Thursday, February 20 2025 16:55:28 DPDK git baseline: Repo:dpdk Branch: master CommitID:fab31a03ba98e7457284df95dd9eef2223a4ccaa 151706-151719 --> testing pass Upstream job id: Generic-DPDK-Compile-Meson#363682 Test environment and result as below: +-------------------+--------------------+-------------------+------------------+ | Environment | dpdk_meson_compile | dpdk_compile_spdk | dpdk_compile_ovs | +===================+====================+===================+==================+ | CentOS Stream 9 | PASS | PASS | SKIPPED | +-------------------+--------------------+-------------------+------------------+ | CentOS Stream 10 | PASS | SKIPPED | SKIPPED | +-------------------+--------------------+-------------------+------------------+ | Debian Bullseye | PASS | PASS | SKIPPED | +-------------------+--------------------+-------------------+------------------+ | Fedora 40 | PASS | PASS | SKIPPED | +-------------------+--------------------+-------------------+------------------+ | openSUSE Leap 15 | PASS | SKIPPED | SKIPPED | +-------------------+--------------------+-------------------+------------------+ | RHEL8 | PASS | SKIPPED | SKIPPED | +-------------------+--------------------+-------------------+------------------+ | Fedora 41 | PASS | PASS | PASS | +-------------------+--------------------+-------------------+------------------+ | Fedora 41 (Clang) | PASS | PASS | PASS | +-------------------+--------------------+-------------------+------------------+ | Ubuntu 22.04 | PASS | PASS | SKIPPED | +-------------------+--------------------+-------------------+------------------+ | Ubuntu 24.04 | PASS | PASS | PASS | +-------------------+--------------------+-------------------+------------------+ | Ubuntu 20.04 | PASS | SKIPPED | SKIPPED | +-------------------+--------------------+-------------------+------------------+ | RHEL9 | PASS | SKIPPED | SKIPPED | +-------------------+--------------------+-------------------+------------------+ | Alpine | PASS | SKIPPED | SKIPPED | +-------------------+--------------------+-------------------+------------------+ | FreeBSD 13.4 | PASS | SKIPPED | SKIPPED | +-------------------+--------------------+-------------------+------------------+ | FreeBSD 14.2 | PASS | SKIPPED | SKIPPED | +-------------------+--------------------+-------------------+------------------+ | Fedora 40 (Clang) | PASS | PASS | SKIPPED | +-------------------+--------------------+-------------------+------------------+ | Debian 12 | PASS | PASS | SKIPPED | +-------------------+--------------------+-------------------+------------------+ CentOS Stream 9 Kernel: Depends on container host Compiler: gcc 11.5.0 20240719 (Red Hat 11.5.0-2) CentOS Stream 10 Kernel: Depends on container host Compiler: gcc 14.2.1 20241104 (Red Hat 14.2.1-6) Debian Bullseye Kernel: Depends on container host Compiler: gcc (Debian 10.2.1-6) 10.2.1 20210110 Fedora 40 Kernel: Depends on container host Compiler: gcc 14.2.1 20240912 (Red Hat 14.2.1-3) openSUSE Leap 15 Kernel: Depends on container host Compiler: gcc (SUSE Linux) 7.5.0 RHEL8 Kernel: Depends on container host Compiler: gcc 8.5.0 20210514 (Red Hat 8.5.0-22) Fedora 41 Kernel: Depends on container host Compiler: gcc 14.2.1 20240912 (Red Hat 14.2.1-3) Fedora 41 (Clang) Kernel: Depends on container host Compiler: clang 19.1.5 (Fedora 19.1.5-1.fc41) Ubuntu 22.04 Kernel: Depends on container host Compiler: gcc (Ubuntu 11.4.0-1ubuntu1~22.04) 11.4.0 Ubuntu 24.04 Kernel: Depends on container host Compiler: gcc (Ubuntu 13.3.0-6ubuntu2~24.04) 13.3.0 Ubuntu 20.04 Kernel: Depends on container host Compiler: gcc (Ubuntu 9.4.0-1ubuntu1~20.04.2) 9.4.0 RHEL9 Kernel: Depends on container host Compiler: gcc 11.5.0 20240719 (Red Hat 11.5.0-2) Alpine Kernel: Depends on container host Compiler: gcc (Alpine 14.2.0) 14.2.0 FreeBSD 13.4 Kernel: 13.4-RELEASE-p1 Compiler: clang 18.1.6 FreeBSD 14.2 Kernel: 14.2-RELEASE Compiler: clang 18.1.6 Fedora 40 (Clang) Kernel: Depends on container host Compiler: clang 18.1.8 (Fedora 18.1.8-1.fc40) Debian 12 Kernel: Depends on container host Compiler: gcc (Debian 12.2.0-14) 12.2.0 To view detailed results, visit: https://lab.dpdk.org/results/dashboard/patchsets/32625/ UNH-IOL DPDK Community Lab To manage your email subscriptions, visit: https://lab.dpdk.org/results/dashboard/preferences/subscriptions/