From mboxrd@z Thu Jan 1 00:00:00 1970 Return-Path: Received: from mails.dpdk.org (mails.dpdk.org [217.70.189.124]) by inbox.dpdk.org (Postfix) with ESMTP id 1414046284 for ; Fri, 21 Feb 2025 04:29:05 +0100 (CET) Received: from mails.dpdk.org (localhost [127.0.0.1]) by mails.dpdk.org (Postfix) with ESMTP id DE8D34029A; Fri, 21 Feb 2025 04:29:04 +0100 (CET) Received: from mail-pj1-f100.google.com (mail-pj1-f100.google.com [209.85.216.100]) by mails.dpdk.org (Postfix) with ESMTP id 3877D4028E for ; Fri, 21 Feb 2025 04:29:04 +0100 (CET) Received: by mail-pj1-f100.google.com with SMTP id 98e67ed59e1d1-2fc3db58932so2512985a91.2 for ; Thu, 20 Feb 2025 19:29:04 -0800 (PST) DKIM-Signature: v=1; a=rsa-sha256; c=relaxed/relaxed; d=iol.unh.edu; s=unh-iol; t=1740108543; x=1740713343; darn=dpdk.org; h=references:in-reply-to:cc:to:from:subject:message-id:date:from:to :cc:subject:date:message-id:reply-to; bh=6PJ+ACEGYNW8MNNKAqrjHy2lJzf02xymLuKRg0Fozz8=; b=XG3OBDiKLv/jnECEtZKav8m1+5bR95Y8zIA2jZ+wE/YMI0RR4DmOCnkrI0kWBnRwkH podo+GBI3syjh7k+7YfiXB+r93We1Y+hVC0R5NPaGPq3abdaMbLu86eWO6ZJZ/XUUgFd eQlLXLpy0awupfAcobQRRk2K6IhsK0RLwPvxY= X-Google-DKIM-Signature: v=1; a=rsa-sha256; c=relaxed/relaxed; d=1e100.net; s=20230601; t=1740108543; x=1740713343; h=references:in-reply-to:cc:to:from:subject:message-id:date :x-gm-message-state:from:to:cc:subject:date:message-id:reply-to; bh=6PJ+ACEGYNW8MNNKAqrjHy2lJzf02xymLuKRg0Fozz8=; b=oKvE6+U1y/YG6NrnYjOqx0M7Odb6Gw821n6tHdV9P4WcIHekWdikkXOdf2eu0QG8zD nUIw9mfG9KLzhnjlbxFNbfPQutmn3rbCRq/ixpeOjx8pkjmp9MiEMug5CYdC9dAgShdB E9tTy9+BtfzhJRiQdLGMuZFfImZqDcyGew0XBq/Z2dXHftGxPetPw5utUTJfSwgduXbR /5HCL2F5MtoJxj0pt7CJYe1X+hDgcSeM6Eln6FotKCB5ZsTDTUu3TypSG9tPXh8k67V3 uGPV0TGMm24i6y7RtjSIX+dokgOHvqFfd5d56/fZYQE36Kz0GIf+lUtDZAFotsoEvIhW Qp2w== X-Gm-Message-State: AOJu0YwzVnsSwIjRDeBLtWJ3FH5FpgrDkf4h5K3AYfacdQ0B1QQHWdyt +QxHiT/wFs2XPyuEb8H6Q3yfmOb6eEJTFShr9YhgKMA61dexnZGlKhrQzm/FR837VcfCZQuCEZE sOh6cKhERYPZ9Y9R9THNIyPI/twQ8HtWLxlBtc0Ex X-Gm-Gg: ASbGncsRQvbX2rNlkD7esnJFnfj6D/G0qSUX7aK8Hho+hnLLWct4DDfw5lGaauQJC9d 3aJgx8nhNPkbL2msatqn3s3dTWI2aBP7jRvyHGh4M+cJ8ooS95ZM3zzQRohRvqux1cFqcly5lq4 d7wM5xuThM7UvP2K4gcrgWBmgPrrp4AZ+KfB8CC2NnElM1dwoucq06uLgOz4QjFWKrrR/LTK3qb E1tzX4iGWYNT7vq4hq87fRaEqR6j81sGXV/QceZFC2mADyaoGu0hbvxOkWSjEM6LmWTXDMraSni JPlf77o4AnQDzLk+HVvRjmTKd51JVvifVtyzBIaO X-Google-Smtp-Source: AGHT+IE16XQcqVDBdqwLnEEQ+c0oKfJeXkoMKC5OKimi2hutzuArlo+uOH1QaCuINwVFb9lKS06rGkTKPkH0 X-Received: by 2002:a17:90b:3b8e:b0:2ea:3f34:f190 with SMTP id 98e67ed59e1d1-2fce7b051famr2833384a91.25.1740108543309; Thu, 20 Feb 2025 19:29:03 -0800 (PST) Received: from postal.iol.unh.edu (postal.iol.unh.edu. [132.177.123.84]) by smtp-relay.gmail.com with ESMTPS id d9443c01a7336-220d53f9f72sm8518045ad.85.2025.02.20.19.29.03 (version=TLS1_2 cipher=ECDHE-ECDSA-AES128-GCM-SHA256 bits=128/128); Thu, 20 Feb 2025 19:29:03 -0800 (PST) X-Relaying-Domain: iol.unh.edu Date: Thu, 20 Feb 2025 19:29:03 -0800 (PST) Message-ID: <67b7f2ff.170a0220.268619.ae27SMTPIN_ADDED_MISSING@mx.google.com> Received: from [172.21.0.9] (unknown [172.18.0.240]) by postal.iol.unh.edu (Postfix) with ESMTP id C21996052471; Thu, 20 Feb 2025 22:28:53 -0500 (EST) Subject: |SUCCESS| pw151732-151734 [PATCH] [v4,10/10] app: enable app directo From: dpdklab@iol.unh.edu To: Test Report Cc: dpdk-test-reports@iol.unh.edu In-Reply-To: <1740087064-18680-11-git-send-email-andremue@linux.microsoft.com> References: <1740087064-18680-11-git-send-email-andremue@linux.microsoft.com> Content-Type: text/plain X-BeenThere: test-report@dpdk.org X-Mailman-Version: 2.1.29 Precedence: list List-Id: automatic DPDK test reports List-Unsubscribe: , List-Archive: List-Post: List-Help: List-Subscribe: , Errors-To: test-report-bounces@dpdk.org Test-Label: iol-abi-testing Test-Status: SUCCESS http://dpdk.org/patch/151734 _Testing PASS_ Submitter: Andre Muezerie Date: Thursday, February 20 2025 21:31:04 DPDK git baseline: Repo:dpdk Branch: master CommitID:fab31a03ba98e7457284df95dd9eef2223a4ccaa 151732-151734 --> testing pass Upstream job id: Generic-DPDK-Compile-ABI#117002 Test environment and result as below: +-------------------+----------+ | Environment | abi_test | +===================+==========+ | CentOS Stream 10 | PASS | +-------------------+----------+ | Debian Bullseye | PASS | +-------------------+----------+ | Debian 12 | PASS | +-------------------+----------+ | Fedora 40 (Clang) | PASS | +-------------------+----------+ | Fedora 40 | PASS | +-------------------+----------+ | Fedora 41 | PASS | +-------------------+----------+ | openSUSE Leap 15 | PASS | +-------------------+----------+ | Fedora 41 (Clang) | PASS | +-------------------+----------+ | RHEL8 | PASS | +-------------------+----------+ | Ubuntu 22.04 | PASS | +-------------------+----------+ | RHEL9 | PASS | +-------------------+----------+ | Ubuntu 24.04 | PASS | +-------------------+----------+ | CentOS Stream 9 | PASS | +-------------------+----------+ CentOS Stream 10 Kernel: Depends on container host Compiler: gcc 14.2.1 20241104 (Red Hat 14.2.1-6) Debian Bullseye Kernel: Depends on container host Compiler: gcc (Debian 10.2.1-6) 10.2.1 20210110 Debian 12 Kernel: Depends on container host Compiler: gcc (Debian 12.2.0-14) 12.2.0 Fedora 40 (Clang) Kernel: Depends on container host Compiler: clang 18.1.8 (Fedora 18.1.8-1.fc40) Fedora 40 Kernel: Depends on container host Compiler: gcc 14.2.1 20240912 (Red Hat 14.2.1-3) Fedora 41 Kernel: Depends on container host Compiler: gcc 14.2.1 20240912 (Red Hat 14.2.1-3) openSUSE Leap 15 Kernel: Depends on container host Compiler: gcc (SUSE Linux) 7.5.0 Fedora 41 (Clang) Kernel: Depends on container host Compiler: clang 19.1.5 (Fedora 19.1.5-1.fc41) RHEL8 Kernel: Depends on container host Compiler: gcc 8.5.0 20210514 (Red Hat 8.5.0-22) Ubuntu 22.04 Kernel: Depends on container host Compiler: gcc (Ubuntu 11.4.0-1ubuntu1~22.04) 11.4.0 RHEL9 Kernel: Depends on container host Compiler: gcc 11.5.0 20240719 (Red Hat 11.5.0-2) Ubuntu 24.04 Kernel: Depends on container host Compiler: gcc (Ubuntu 13.3.0-6ubuntu2~24.04) 13.3.0 CentOS Stream 9 Kernel: Depends on container host Compiler: gcc 11.5.0 20240719 (Red Hat 11.5.0-2) To view detailed results, visit: https://lab.dpdk.org/results/dashboard/patchsets/32629/ UNH-IOL DPDK Community Lab To manage your email subscriptions, visit: https://lab.dpdk.org/results/dashboard/preferences/subscriptions/