From mboxrd@z Thu Jan  1 00:00:00 1970
Return-Path: <test-report-bounces@dpdk.org>
Received: from mails.dpdk.org (mails.dpdk.org [217.70.189.124])
	by inbox.dpdk.org (Postfix) with ESMTP id 3D73E46284
	for <public@inbox.dpdk.org>; Fri, 21 Feb 2025 04:31:07 +0100 (CET)
Received: from mails.dpdk.org (localhost [127.0.0.1])
	by mails.dpdk.org (Postfix) with ESMTP id 3930E4029A;
	Fri, 21 Feb 2025 04:31:07 +0100 (CET)
Received: from mail-pj1-f100.google.com (mail-pj1-f100.google.com
 [209.85.216.100])
 by mails.dpdk.org (Postfix) with ESMTP id 3D0BA4028E
 for <test-report@dpdk.org>; Fri, 21 Feb 2025 04:31:06 +0100 (CET)
Received: by mail-pj1-f100.google.com with SMTP id
 98e67ed59e1d1-2f9b91dff71so2548245a91.2
 for <test-report@dpdk.org>; Thu, 20 Feb 2025 19:31:06 -0800 (PST)
DKIM-Signature: v=1; a=rsa-sha256; c=relaxed/relaxed;
 d=iol.unh.edu; s=unh-iol; t=1740108665; x=1740713465; darn=dpdk.org;
 h=references:in-reply-to:cc:to:from:subject:message-id:date:from:to
 :cc:subject:date:message-id:reply-to;
 bh=W54A4SEQ4dY0vgoRHAFKdxQaCD33ch8tD5lovfjDEg0=;
 b=HwtzRY4z4beMCY1R0GunZkTLYsd+c9xe9zME1i6y9f74tWb3fD9fjAEXyl+Vk8eSzJ
 juXrjgGcpJ7khGM9G5ueDfYUNpQ3NUfeIhjEadraMU3WukqlqzAHeWNcspsrmBuwKWYJ
 g5L2C0xaYAFnX3uak2NCmfXp0mtiZcYlV2HkU=
X-Google-DKIM-Signature: v=1; a=rsa-sha256; c=relaxed/relaxed;
 d=1e100.net; s=20230601; t=1740108665; x=1740713465;
 h=references:in-reply-to:cc:to:from:subject:message-id:date
 :x-gm-message-state:from:to:cc:subject:date:message-id:reply-to;
 bh=W54A4SEQ4dY0vgoRHAFKdxQaCD33ch8tD5lovfjDEg0=;
 b=lPmUUfwrkc4yfbo+dbMb9vReAY+UV61P6umcHHk5OZcv4VVfz+itodjq93hbTkUBw0
 69i26SuGnKfpvloSaTu8vQHpIFWzLx62gq8JxohM+aTF/en4VCLCmTN1ex7hOj6UYe0w
 1irJy7HA65uNZ71Eekf7rhdffgzksl/iDox9gTsjSW+AHXFk3fbVlQoMP+7gxBfurvD2
 1FPqEOpmNWCiwrssE/oRKHBHYehtrTbOLIl016hyVfSDrhrUyMbIq3UXS/jKcUiW7ifB
 FDBngyhDFONVWkOganeIaDEDF7BecVa+zmW6rH20+6d9PkGLyAI3wYZ4aIWUEDshzE5I
 ZEBQ==
X-Gm-Message-State: AOJu0YwwXIna/geTogtlkLEye1Tv6CT6seqJZQkZNn9iCWNrY5s3cFq1
 V/Syd+0axmA4KTgqiy35KVj9dnMgc3tkIWgQ02sdMKJYqR1vopftODeI009RaKW2DCrZocuF06P
 aB3ZEdLbx3XcccNkcXnPtqjf/CvdchPZHnCf70e4K
X-Gm-Gg: ASbGncsYdDoUp+5u1A3R/wjzX62OsmmztZXm5EKxD7mgnDoNldNtOlafqCN5I1tirCz
 chdo+eX3DoFV7Ed2llrqCG4spaQKLN+P4VCt6iFYUSn4yjw/pCg4sFz0RvcMPHynREszAOq4uxp
 JwCQ6j9D0Qvz7KzzHG6qddaTMQrZL05ACkt9X7qi2a00GXgNgslDuHWp7XtYS7kC1nsqB5/y2VQ
 +VxPl4YGIJeC4J1Y4n8KFCQ9CETaZrHsMS467z/VN3KiFLqdxdqvgOHbPsiduEqy/jOso+7ryT/
 9DKHbaJgtYgmh3tXGmbVTWXi+UgP+7aZ83Z/5nzo
X-Google-Smtp-Source: AGHT+IEWKGwNJye0xb/Tb5/WyWnREsKs78jAQxV7uvvZfOz2VtC/GyewynSDdiAY15dms/BWewqB/Hy4YuvK
X-Received: by 2002:a05:6a00:3d0a:b0:730:87cf:a7cd with SMTP id
 d2e1a72fcca58-73426cb12bbmr2941273b3a.8.1740108665425; 
 Thu, 20 Feb 2025 19:31:05 -0800 (PST)
Received: from postal.iol.unh.edu (postal.iol.unh.edu. [132.177.123.84])
 by smtp-relay.gmail.com with ESMTPS id
 41be03b00d2f7-adb59d7029asm1005505a12.28.2025.02.20.19.31.05
 (version=TLS1_2 cipher=ECDHE-ECDSA-AES128-GCM-SHA256 bits=128/128);
 Thu, 20 Feb 2025 19:31:05 -0800 (PST)
X-Relaying-Domain: iol.unh.edu
Date: Thu, 20 Feb 2025 19:31:05 -0800 (PST)
Message-ID: <67b7f379.630a0220.5ad4e.41c6SMTPIN_ADDED_MISSING@mx.google.com>
Received: from [172.21.0.7] (unknown [172.18.0.240])
 by postal.iol.unh.edu (Postfix) with ESMTP id A32246052471;
 Thu, 20 Feb 2025 22:30:56 -0500 (EST)
Subject: |SUCCESS| pw151720-151724 [PATCH] [v3,6/6] mbuf: enable to be compil
From: dpdklab@iol.unh.edu
To: Test Report <test-report@dpdk.org>
Cc: dpdk-test-reports@iol.unh.edu
In-Reply-To: <1740083508-6703-7-git-send-email-andremue@linux.microsoft.com>
References: <1740083508-6703-7-git-send-email-andremue@linux.microsoft.com>
Content-Type: text/plain
X-BeenThere: test-report@dpdk.org
X-Mailman-Version: 2.1.29
Precedence: list
List-Id: automatic DPDK test reports <test-report.dpdk.org>
List-Unsubscribe: <https://mails.dpdk.org/options/test-report>,
 <mailto:test-report-request@dpdk.org?subject=unsubscribe>
List-Archive: <http://mails.dpdk.org/archives/test-report/>
List-Post: <mailto:test-report@dpdk.org>
List-Help: <mailto:test-report-request@dpdk.org?subject=help>
List-Subscribe: <https://mails.dpdk.org/listinfo/test-report>,
 <mailto:test-report-request@dpdk.org?subject=subscribe>
Errors-To: test-report-bounces@dpdk.org

Test-Label: iol-compile-amd64-testing
Test-Status: SUCCESS
http://dpdk.org/patch/151724

_Testing PASS_

Submitter: Andre Muezerie <andremue@linux.microsoft.com>
Date: Thursday, February 20 2025 20:31:48 
DPDK git baseline: Repo:dpdk
  Branch: master
  CommitID:fab31a03ba98e7457284df95dd9eef2223a4ccaa

151720-151724 --> testing pass

Upstream job id: Windows-Compile-DPDK-VS#4992

Test environment and result as below:

+---------------------+--------------------+-------------------+------------------+-------------------+
|     Environment     | dpdk_meson_compile | dpdk_compile_spdk | dpdk_compile_ovs | dpdk_msvc_compile |
+=====================+====================+===================+==================+===================+
| CentOS Stream 10    | PASS               | SKIPPED           | SKIPPED          | SKIPPED           |
+---------------------+--------------------+-------------------+------------------+-------------------+
| CentOS Stream 9     | PASS               | PASS              | SKIPPED          | SKIPPED           |
+---------------------+--------------------+-------------------+------------------+-------------------+
| Debian Bullseye     | PASS               | PASS              | SKIPPED          | SKIPPED           |
+---------------------+--------------------+-------------------+------------------+-------------------+
| Debian 12           | PASS               | PASS              | SKIPPED          | SKIPPED           |
+---------------------+--------------------+-------------------+------------------+-------------------+
| Fedora 41 (Clang)   | PASS               | PASS              | PASS             | SKIPPED           |
+---------------------+--------------------+-------------------+------------------+-------------------+
| Fedora 40 (Clang)   | PASS               | PASS              | SKIPPED          | SKIPPED           |
+---------------------+--------------------+-------------------+------------------+-------------------+
| Fedora 40           | PASS               | PASS              | SKIPPED          | SKIPPED           |
+---------------------+--------------------+-------------------+------------------+-------------------+
| Fedora 41           | PASS               | PASS              | PASS             | SKIPPED           |
+---------------------+--------------------+-------------------+------------------+-------------------+
| Ubuntu 20.04        | PASS               | SKIPPED           | SKIPPED          | SKIPPED           |
+---------------------+--------------------+-------------------+------------------+-------------------+
| RHEL9               | PASS               | SKIPPED           | SKIPPED          | SKIPPED           |
+---------------------+--------------------+-------------------+------------------+-------------------+
| Ubuntu 22.04        | PASS               | PASS              | SKIPPED          | SKIPPED           |
+---------------------+--------------------+-------------------+------------------+-------------------+
| RHEL8               | PASS               | SKIPPED           | SKIPPED          | SKIPPED           |
+---------------------+--------------------+-------------------+------------------+-------------------+
| openSUSE Leap 15    | PASS               | SKIPPED           | SKIPPED          | SKIPPED           |
+---------------------+--------------------+-------------------+------------------+-------------------+
| Ubuntu 24.04        | PASS               | PASS              | PASS             | SKIPPED           |
+---------------------+--------------------+-------------------+------------------+-------------------+
| FreeBSD 13.4        | PASS               | SKIPPED           | SKIPPED          | SKIPPED           |
+---------------------+--------------------+-------------------+------------------+-------------------+
| FreeBSD 14.2        | PASS               | SKIPPED           | SKIPPED          | SKIPPED           |
+---------------------+--------------------+-------------------+------------------+-------------------+
| Alpine              | PASS               | SKIPPED           | SKIPPED          | SKIPPED           |
+---------------------+--------------------+-------------------+------------------+-------------------+
| Windows Server 2022 | SKIPPED            | SKIPPED           | SKIPPED          | PASS              |
+---------------------+--------------------+-------------------+------------------+-------------------+


CentOS Stream 10
	Kernel: Depends on container host
	Compiler: gcc 14.2.1 20241104 (Red Hat 14.2.1-6)

CentOS Stream 9
	Kernel: Depends on container host
	Compiler: gcc 11.5.0 20240719 (Red Hat 11.5.0-2)

Debian Bullseye
	Kernel: Depends on container host
	Compiler: gcc (Debian 10.2.1-6) 10.2.1 20210110

Debian 12
	Kernel: Depends on container host
	Compiler: gcc (Debian 12.2.0-14) 12.2.0

Fedora 41 (Clang)
	Kernel: Depends on container host
	Compiler: clang 19.1.5 (Fedora 19.1.5-1.fc41)

Fedora 40 (Clang)
	Kernel: Depends on container host
	Compiler: clang 18.1.8 (Fedora 18.1.8-1.fc40)

Fedora 40
	Kernel: Depends on container host
	Compiler: gcc 14.2.1 20240912 (Red Hat 14.2.1-3)

Fedora 41
	Kernel: Depends on container host
	Compiler: gcc 14.2.1 20240912 (Red Hat 14.2.1-3)

Ubuntu 20.04
	Kernel: Depends on container host
	Compiler: gcc (Ubuntu 9.4.0-1ubuntu1~20.04.2) 9.4.0

RHEL9
	Kernel: Depends on container host
	Compiler: gcc 11.5.0 20240719 (Red Hat 11.5.0-2)

Ubuntu 22.04
	Kernel: Depends on container host
	Compiler: gcc (Ubuntu 11.4.0-1ubuntu1~22.04) 11.4.0

RHEL8
	Kernel: Depends on container host
	Compiler: gcc 8.5.0 20210514 (Red Hat 8.5.0-22)

openSUSE Leap 15
	Kernel: Depends on container host
	Compiler: gcc (SUSE Linux) 7.5.0

Ubuntu 24.04
	Kernel: Depends on container host
	Compiler: gcc (Ubuntu 13.3.0-6ubuntu2~24.04) 13.3.0

FreeBSD 13.4
	Kernel: 13.4-RELEASE-p1
	Compiler: clang 18.1.6

FreeBSD 14.2
	Kernel: 14.2-RELEASE
	Compiler: clang 18.1.6

Alpine
	Kernel: Depends on container host
	Compiler: gcc (Alpine 14.2.0) 14.2.0

Windows Server 2022
	Kernel: 10.0.20348.2031
	Compiler: clang 15.0.7, gcc 14.1.0 (MinGW), and MSVC VS 19.39.33521

To view detailed results, visit:
https://lab.dpdk.org/results/dashboard/patchsets/32626/

UNH-IOL DPDK Community Lab

To manage your email subscriptions, visit: 
https://lab.dpdk.org/results/dashboard/preferences/subscriptions/