From mboxrd@z Thu Jan 1 00:00:00 1970 Return-Path: Received: from mails.dpdk.org (mails.dpdk.org [217.70.189.124]) by inbox.dpdk.org (Postfix) with ESMTP id 3A4AB46284 for ; Fri, 21 Feb 2025 04:38:53 +0100 (CET) Received: from mails.dpdk.org (localhost [127.0.0.1]) by mails.dpdk.org (Postfix) with ESMTP id 0E6154029A; Fri, 21 Feb 2025 04:38:53 +0100 (CET) Received: from mail-qv1-f98.google.com (mail-qv1-f98.google.com [209.85.219.98]) by mails.dpdk.org (Postfix) with ESMTP id 9AA5E4028E for ; Fri, 21 Feb 2025 04:38:51 +0100 (CET) Received: by mail-qv1-f98.google.com with SMTP id 6a1803df08f44-6e44fda56e3so16261046d6.1 for ; Thu, 20 Feb 2025 19:38:51 -0800 (PST) DKIM-Signature: v=1; a=rsa-sha256; c=relaxed/relaxed; d=iol.unh.edu; s=unh-iol; t=1740109131; x=1740713931; darn=dpdk.org; h=references:in-reply-to:cc:to:from:subject:message-id:date:from:to :cc:subject:date:message-id:reply-to; bh=x2AG0TAvZ1FAYcSPj0xSw8oEJ98XaOJXgnbFrEUk5IM=; b=avdckCLMrttlQ9Q1c/LtaLpy4DFEoU6vwx3DmVbXa3ndVxQYANMptv+2nKgNxtF9OM n95apTrg+0FkOien+fcCxhjKddIxs/PyvJbLNNZWD83iSVRLsZCkGoC+SKqS7Ak+RUun FBSlZhzljo67ET0gs2X2fBjiEdwB6cAoL4HWs= X-Google-DKIM-Signature: v=1; a=rsa-sha256; c=relaxed/relaxed; d=1e100.net; s=20230601; t=1740109131; x=1740713931; h=references:in-reply-to:cc:to:from:subject:message-id:date :x-gm-message-state:from:to:cc:subject:date:message-id:reply-to; bh=x2AG0TAvZ1FAYcSPj0xSw8oEJ98XaOJXgnbFrEUk5IM=; b=fPx+qlEtqEOsTR0pkEsKbX9j48oQWfiMtjg94yjw/zANSpEJOqa3XPz7VJ9+QhkOAD +axhJNsYKFhg/VmS8l3ZcgVEVqz859LtcmuP8lsGfkI/6EjVew1vrMIClT2Eqdo07aiv zUxlX6wJxi4mDBr4fE6ZRSmMdq1CqsZJ91eCQpo+YFZiu337qEghaRNvY6RNsCac/fex PVQ8vlL/FErdf2n1DUAAiJaxSkLUYMj8urnCoF4mvsyqYYmhLJsgCLlAMWX2fpECYz9Z tpRUfJVIVs3mTaCKqOvmVXHUy6Cmdo5TBJBnMGb12ybyA0u0iH3+5KzbH3Fi194Jomkg haEw== X-Gm-Message-State: AOJu0YzZjBp6bY+863Pw0YN0FhV6DIup/PBTRHcAnxzMeyO3dME0g4O3 IaKAlDmpJnnb1FHFCx8u2bhnCIpoNhwbWuYaRfqtDJ2mu2fZnXK9UrWZP5uZXhmvhL5OhZlTFkh NS/M64rEIFTr8hQ+IEmCSsXARJY3r6hqH4tvsWjxtRTVGS7Y0Lm40bHIN X-Gm-Gg: ASbGncs1vyA2b8Up4sT0ok3cyIx6LIpA94XNhyPylDkQQoTqXskVp/f0EJxGcNVfynS sdsty0rhW3Ta8cBaDQ+OZ+6bOCVUWErqrA9fHLlqrgkQoP6VqSzHfxUYhYx6U8++V/Xz4d8mjSF hkfYZ55F2pk6xA9eqyuZ218fN1xPRPfdQa8+yMEjolXXFdectGLEkmpfVc+/T8zfSL6XaVxqvNi fZN9BC5LtM6RC7f+PNqE+G6Eer5D/NiXV5i30iKSYXeRfjQHcR+zttwEsuUxN3vd7Q+YTTbt5nx bGyl4BA6LDIkLSgLevurL2duxhInIT4fd2GmhHDynPtnqe3PX9xg X-Google-Smtp-Source: AGHT+IElfrOWdtM1GZ0OqXRL908ZxW7AycUNyPa7WcFlJ8ZPBx7g0hbYhUygadycg2ODglHSTv4AfnkGEJGf X-Received: by 2002:a05:6214:f6f:b0:6e4:540b:5352 with SMTP id 6a1803df08f44-6e6a26399f9mr71553266d6.16.1740109130892; Thu, 20 Feb 2025 19:38:50 -0800 (PST) Received: from postal.iol.unh.edu (postal.iol.unh.edu. [2606:4100:3880:1234::84]) by smtp-relay.gmail.com with ESMTPS id 6a1803df08f44-6e65d7421c0sm6836966d6.36.2025.02.20.19.38.50 (version=TLS1_2 cipher=ECDHE-ECDSA-AES128-GCM-SHA256 bits=128/128); Thu, 20 Feb 2025 19:38:50 -0800 (PST) X-Relaying-Domain: iol.unh.edu Date: Thu, 20 Feb 2025 19:38:50 -0800 (PST) Message-ID: <67b7f54a.050a0220.1036b8.2398SMTPIN_ADDED_MISSING@mx.google.com> Received: from [172.21.0.8] (unknown [172.18.0.240]) by postal.iol.unh.edu (Postfix) with ESMTP id 169126052471; Thu, 20 Feb 2025 22:38:42 -0500 (EST) Subject: |SUCCESS| pw151572-151573 [PATCH] [2/2] app/testpmd: use flags from From: dpdklab@iol.unh.edu To: Test Report Cc: dpdk-test-reports@iol.unh.edu In-Reply-To: <20250218103322.166461-3-gavinl@nvidia.com> References: <20250218103322.166461-3-gavinl@nvidia.com> Content-Type: text/plain X-BeenThere: test-report@dpdk.org X-Mailman-Version: 2.1.29 Precedence: list List-Id: automatic DPDK test reports List-Unsubscribe: , List-Archive: List-Post: List-Help: List-Subscribe: , Errors-To: test-report-bounces@dpdk.org Test-Label: iol-compile-amd64-testing Test-Status: SUCCESS http://dpdk.org/patch/151573 _Testing PASS_ Submitter: Minggang Li(Gavin) Date: Tuesday, February 18 2025 10:33:22 DPDK git baseline: Repo:dpdk Branch: master CommitID:968f7b6d7b6a7e60e6e551db430c4eecaccbbfd2 151572-151573 --> testing pass Upstream job id: Windows-Compile-DPDK-Native#26804 Test environment and result as below: +---------------------+--------------------+-------------------+------------------+-------------------+-------------------------+----------------------+ | Environment | dpdk_meson_compile | dpdk_compile_spdk | dpdk_compile_ovs | dpdk_msvc_compile | dpdk_llvm_clang_compile | dpdk_mingw64_compile | +=====================+====================+===================+==================+===================+=========================+======================+ | CentOS Stream 10 | PASS | SKIPPED | SKIPPED | SKIPPED | SKIPPED | SKIPPED | +---------------------+--------------------+-------------------+------------------+-------------------+-------------------------+----------------------+ | Debian Bullseye | PASS | PASS | SKIPPED | SKIPPED | SKIPPED | SKIPPED | +---------------------+--------------------+-------------------+------------------+-------------------+-------------------------+----------------------+ | Debian 12 | PASS | PASS | SKIPPED | SKIPPED | SKIPPED | SKIPPED | +---------------------+--------------------+-------------------+------------------+-------------------+-------------------------+----------------------+ | Fedora 40 (Clang) | PASS | PASS | SKIPPED | SKIPPED | SKIPPED | SKIPPED | +---------------------+--------------------+-------------------+------------------+-------------------+-------------------------+----------------------+ | Fedora 40 | PASS | PASS | SKIPPED | SKIPPED | SKIPPED | SKIPPED | +---------------------+--------------------+-------------------+------------------+-------------------+-------------------------+----------------------+ | Fedora 41 | PASS | PASS | PASS | SKIPPED | SKIPPED | SKIPPED | +---------------------+--------------------+-------------------+------------------+-------------------+-------------------------+----------------------+ | Fedora 41 (Clang) | PASS | PASS | PASS | SKIPPED | SKIPPED | SKIPPED | +---------------------+--------------------+-------------------+------------------+-------------------+-------------------------+----------------------+ | RHEL8 | PASS | SKIPPED | SKIPPED | SKIPPED | SKIPPED | SKIPPED | +---------------------+--------------------+-------------------+------------------+-------------------+-------------------------+----------------------+ | openSUSE Leap 15 | PASS | SKIPPED | SKIPPED | SKIPPED | SKIPPED | SKIPPED | +---------------------+--------------------+-------------------+------------------+-------------------+-------------------------+----------------------+ | RHEL9 | PASS | SKIPPED | SKIPPED | SKIPPED | SKIPPED | SKIPPED | +---------------------+--------------------+-------------------+------------------+-------------------+-------------------------+----------------------+ | Ubuntu 20.04 | PASS | SKIPPED | SKIPPED | SKIPPED | SKIPPED | SKIPPED | +---------------------+--------------------+-------------------+------------------+-------------------+-------------------------+----------------------+ | Ubuntu 22.04 | PASS | PASS | SKIPPED | SKIPPED | SKIPPED | SKIPPED | +---------------------+--------------------+-------------------+------------------+-------------------+-------------------------+----------------------+ | Ubuntu 24.04 | PASS | PASS | PASS | SKIPPED | SKIPPED | SKIPPED | +---------------------+--------------------+-------------------+------------------+-------------------+-------------------------+----------------------+ | FreeBSD 13.4 | PASS | SKIPPED | SKIPPED | SKIPPED | SKIPPED | SKIPPED | +---------------------+--------------------+-------------------+------------------+-------------------+-------------------------+----------------------+ | FreeBSD 14.2 | PASS | SKIPPED | SKIPPED | SKIPPED | SKIPPED | SKIPPED | +---------------------+--------------------+-------------------+------------------+-------------------+-------------------------+----------------------+ | CentOS Stream 9 | PASS | PASS | SKIPPED | SKIPPED | SKIPPED | SKIPPED | +---------------------+--------------------+-------------------+------------------+-------------------+-------------------------+----------------------+ | Alpine | PASS | SKIPPED | SKIPPED | SKIPPED | SKIPPED | SKIPPED | +---------------------+--------------------+-------------------+------------------+-------------------+-------------------------+----------------------+ | Windows Server 2022 | SKIPPED | SKIPPED | SKIPPED | PASS | PASS | PASS | +---------------------+--------------------+-------------------+------------------+-------------------+-------------------------+----------------------+ CentOS Stream 10 Kernel: Depends on container host Compiler: gcc 14.2.1 20241104 (Red Hat 14.2.1-6) Debian Bullseye Kernel: Depends on container host Compiler: gcc (Debian 10.2.1-6) 10.2.1 20210110 Debian 12 Kernel: Depends on container host Compiler: gcc (Debian 12.2.0-14) 12.2.0 Fedora 40 (Clang) Kernel: Depends on container host Compiler: clang 18.1.8 (Fedora 18.1.8-1.fc40) Fedora 40 Kernel: Depends on container host Compiler: gcc 14.2.1 20240912 (Red Hat 14.2.1-3) Fedora 41 Kernel: Depends on container host Compiler: gcc 14.2.1 20240912 (Red Hat 14.2.1-3) Fedora 41 (Clang) Kernel: Depends on container host Compiler: clang 19.1.5 (Fedora 19.1.5-1.fc41) RHEL8 Kernel: Depends on container host Compiler: gcc 8.5.0 20210514 (Red Hat 8.5.0-22) openSUSE Leap 15 Kernel: Depends on container host Compiler: gcc (SUSE Linux) 7.5.0 RHEL9 Kernel: Depends on container host Compiler: gcc 11.5.0 20240719 (Red Hat 11.5.0-2) Ubuntu 20.04 Kernel: Depends on container host Compiler: gcc (Ubuntu 9.4.0-1ubuntu1~20.04.2) 9.4.0 Ubuntu 22.04 Kernel: Depends on container host Compiler: gcc (Ubuntu 11.4.0-1ubuntu1~22.04) 11.4.0 Ubuntu 24.04 Kernel: Depends on container host Compiler: gcc (Ubuntu 13.3.0-6ubuntu2~24.04) 13.3.0 FreeBSD 13.4 Kernel: 13.4-RELEASE-p1 Compiler: clang 18.1.6 FreeBSD 14.2 Kernel: 14.2-RELEASE Compiler: clang 18.1.6 CentOS Stream 9 Kernel: Depends on container host Compiler: gcc 11.5.0 20240719 (Red Hat 11.5.0-2) Alpine Kernel: Depends on container host Compiler: gcc (Alpine 14.2.0) 14.2.0 Windows Server 2022 Kernel: 10.0.20348.2031 Compiler: clang 15.0.7, gcc 14.1.0 (MinGW), and MSVC VS 19.39.33521 To view detailed results, visit: https://lab.dpdk.org/results/dashboard/patchsets/32599/ UNH-IOL DPDK Community Lab To manage your email subscriptions, visit: https://lab.dpdk.org/results/dashboard/preferences/subscriptions/