From mboxrd@z Thu Jan 1 00:00:00 1970 Return-Path: Received: from mails.dpdk.org (mails.dpdk.org [217.70.189.124]) by inbox.dpdk.org (Postfix) with ESMTP id 5F37546284 for ; Fri, 21 Feb 2025 04:53:51 +0100 (CET) Received: from mails.dpdk.org (localhost [127.0.0.1]) by mails.dpdk.org (Postfix) with ESMTP id 33F9340A87; Fri, 21 Feb 2025 04:53:51 +0100 (CET) Received: from mail-pj1-f98.google.com (mail-pj1-f98.google.com [209.85.216.98]) by mails.dpdk.org (Postfix) with ESMTP id E7FFF4029A for ; Fri, 21 Feb 2025 04:53:48 +0100 (CET) Received: by mail-pj1-f98.google.com with SMTP id 98e67ed59e1d1-2fc3db58932so2530350a91.2 for ; Thu, 20 Feb 2025 19:53:48 -0800 (PST) DKIM-Signature: v=1; a=rsa-sha256; c=relaxed/relaxed; d=iol.unh.edu; s=unh-iol; t=1740110028; x=1740714828; darn=dpdk.org; h=references:in-reply-to:cc:to:from:subject:message-id:date:from:to :cc:subject:date:message-id:reply-to; bh=Hu3aBRpsJ67PeaY9lGTA8DY68nlzsbClczOC3Dj26qo=; b=Z+hTOEWUuWxxH1k/9d5u05GCeizMqeWKqrv5NXV/m5pJDryjh+rVieBMxHpTHJFZ5e mIk5O/pyvSoIYbVuaSJWN3vTj/ZK2f2FjHDF3egEZuOOy2GfkkSZf5lqpLBZxa5U6DsA 783xHMVbmKZOS4TwxFYVSSOLsH4kkuuq1TcmI= X-Google-DKIM-Signature: v=1; a=rsa-sha256; c=relaxed/relaxed; d=1e100.net; s=20230601; t=1740110028; x=1740714828; h=references:in-reply-to:cc:to:from:subject:message-id:date :x-gm-message-state:from:to:cc:subject:date:message-id:reply-to; bh=Hu3aBRpsJ67PeaY9lGTA8DY68nlzsbClczOC3Dj26qo=; b=WBQVK1lzq0HfmTArf/6KrIJPMIGvfMXUWOJbPaBROTa3YAMpdFyqXuC+q0hZVWqylC mKHc4sYinmbX3SNI+Hqv2RDZPr09umU5nOG7ikLuVVXztxEDZIPO8a/Dw7pZ5BrZgmfK 9bM8MvyhhRmQy16btjlPp3Fh4CRAefQzuAMR8hpr+5ttOul+dP1nMqisi/HLZp0/Vsqv nCKqtAa42dChsVIBnpGEzjf56vsvRA09w4YDRCKWN7xBFC3y4/afcjCo2V7YermpUIZn 9RNad/NrdwW9rS5wcPV3HYxVLFQgsqoCpA2BGvw89VqzG/bdRpvQJeJkVob27r/vYyt8 vQLQ== X-Gm-Message-State: AOJu0Yybxg2ZoZXO7g6g/qekG2JuvXr3MALNQFgnwekkCviNPr40R65K Uall8Bb2CBH3OYm9Ki2W3IR3wVk+BUiQz96HSoobFHfUb4GiYvYQy8RijEwEbqoRsR8kSh1/Htx 4M+bVCk934tmPmtyn95xITqPkDLjZHQdTpHVykTb/gPo2N1oLsLNurYZM X-Gm-Gg: ASbGncsDysXHnZvsYOKlv0Y2P8gGh3fUMEB0tM6a2xr5a0HDyF9/pEY98XQUAe+qVQx MbpnX281vHo6dMhczV+e9wFWLaLMf1WgWPX3Ig7EsCtCNjDOFKt+2eeM8wBaMj3RsYQh7xJnhU5 Alazhs2Jy1WcacxPGCHTSZsuutQmq3jk81khs5S3DCBMcodB74CqQYD62qyh58gEl3sBr7Wy8vb S1rM3df2FWYL4WDXm/a9LGg7OQRPmeMArU4up3mJh/nr9kn/j3b8nD7zMEzVg01dY4K1hygBdYI ao18pYi8ib52GkTQBrutSqtpg/o8WBd3LCTwqugknSfNf6JgFKAd X-Google-Smtp-Source: AGHT+IEk76NWIeRrmv0VqHZikT5b9pZxE1Ul1hyXqZN0k7qSbWIqNurbhCOwoWhFQSNsYVItx6tDT7y4UOVG X-Received: by 2002:a17:90b:1dc4:b0:2ef:33a4:ae6e with SMTP id 98e67ed59e1d1-2fce78a31bemr3382483a91.12.1740110028026; Thu, 20 Feb 2025 19:53:48 -0800 (PST) Received: from postal.iol.unh.edu (postal.iol.unh.edu. [2606:4100:3880:1234::84]) by smtp-relay.gmail.com with ESMTPS id 41be03b00d2f7-ade74cf542csm721702a12.7.2025.02.20.19.53.47 (version=TLS1_2 cipher=ECDHE-ECDSA-AES128-GCM-SHA256 bits=128/128); Thu, 20 Feb 2025 19:53:48 -0800 (PST) X-Relaying-Domain: iol.unh.edu Date: Thu, 20 Feb 2025 19:53:48 -0800 (PST) Message-ID: <67b7f8cc.630a0220.25b557.4bb9SMTPIN_ADDED_MISSING@mx.google.com> Received: from [172.21.0.5] (unknown [172.18.0.240]) by postal.iol.unh.edu (Postfix) with ESMTP id A66A96052471; Thu, 20 Feb 2025 22:53:44 -0500 (EST) Subject: |SUCCESS| pw151732-151734 [PATCH] [v4,10/10] app: enable app directo From: dpdklab@iol.unh.edu To: Test Report Cc: dpdk-test-reports@iol.unh.edu In-Reply-To: <1740087064-18680-11-git-send-email-andremue@linux.microsoft.com> References: <1740087064-18680-11-git-send-email-andremue@linux.microsoft.com> Content-Type: text/plain X-BeenThere: test-report@dpdk.org X-Mailman-Version: 2.1.29 Precedence: list List-Id: automatic DPDK test reports List-Unsubscribe: , List-Archive: List-Post: List-Help: List-Subscribe: , Errors-To: test-report-bounces@dpdk.org Test-Label: iol-unit-amd64-testing Test-Status: SUCCESS http://dpdk.org/patch/151734 _Testing PASS_ Submitter: Andre Muezerie Date: Thursday, February 20 2025 21:31:04 DPDK git baseline: Repo:dpdk Branch: master CommitID:fab31a03ba98e7457284df95dd9eef2223a4ccaa 151732-151734 --> testing pass Upstream job id: Generic-Unit-Test-DPDK#316853 Test environment and result as below: +---------------------+----------------+ | Environment | dpdk_unit_test | +=====================+================+ | CentOS Stream 9 | PASS | +---------------------+----------------+ | Debian Bullseye | PASS | +---------------------+----------------+ | CentOS Stream 10 | PASS | +---------------------+----------------+ | Fedora 40 | PASS | +---------------------+----------------+ | Debian 12 | PASS | +---------------------+----------------+ | Fedora 40 (Clang) | PASS | +---------------------+----------------+ | Fedora 41 (Clang) | PASS | +---------------------+----------------+ | Fedora 41 | PASS | +---------------------+----------------+ | Ubuntu 20.04 | PASS | +---------------------+----------------+ | RHEL8 | PASS | +---------------------+----------------+ | RHEL9 | PASS | +---------------------+----------------+ | Ubuntu 22.04 | PASS | +---------------------+----------------+ | Ubuntu 24.04 | PASS | +---------------------+----------------+ | Windows Server 2022 | PASS | +---------------------+----------------+ CentOS Stream 9 Kernel: Depends on container host Compiler: gcc 11.5.0 20240719 (Red Hat 11.5.0-2) Debian Bullseye Kernel: Depends on container host Compiler: gcc (Debian 10.2.1-6) 10.2.1 20210110 CentOS Stream 10 Kernel: Depends on container host Compiler: gcc 14.2.1 20241104 (Red Hat 14.2.1-6) Fedora 40 Kernel: Depends on container host Compiler: gcc 14.2.1 20240912 (Red Hat 14.2.1-3) Debian 12 Kernel: Depends on container host Compiler: gcc (Debian 12.2.0-14) 12.2.0 Fedora 40 (Clang) Kernel: Depends on container host Compiler: clang 18.1.8 (Fedora 18.1.8-1.fc40) Fedora 41 (Clang) Kernel: Depends on container host Compiler: clang 19.1.5 (Fedora 19.1.5-1.fc41) Fedora 41 Kernel: Depends on container host Compiler: gcc 14.2.1 20240912 (Red Hat 14.2.1-3) Ubuntu 20.04 Kernel: Depends on container host Compiler: gcc (Ubuntu 9.4.0-1ubuntu1~20.04.2) 9.4.0 RHEL8 Kernel: Depends on container host Compiler: gcc 8.5.0 20210514 (Red Hat 8.5.0-22) RHEL9 Kernel: Depends on container host Compiler: gcc 11.5.0 20240719 (Red Hat 11.5.0-2) Ubuntu 22.04 Kernel: Depends on container host Compiler: gcc (Ubuntu 11.4.0-1ubuntu1~22.04) 11.4.0 Ubuntu 24.04 Kernel: Depends on container host Compiler: gcc (Ubuntu 13.3.0-6ubuntu2~24.04) 13.3.0 Windows Server 2022 Kernel: 10.0.20348.2031 Compiler: clang 15.0.7, gcc 14.1.0 (MinGW), and MSVC VS 19.39.33521 To view detailed results, visit: https://lab.dpdk.org/results/dashboard/patchsets/32629/ UNH-IOL DPDK Community Lab To manage your email subscriptions, visit: https://lab.dpdk.org/results/dashboard/preferences/subscriptions/