From mboxrd@z Thu Jan 1 00:00:00 1970 Return-Path: Received: from mails.dpdk.org (mails.dpdk.org [217.70.189.124]) by inbox.dpdk.org (Postfix) with ESMTP id 6AF4E46284 for ; Fri, 21 Feb 2025 04:54:35 +0100 (CET) Received: from mails.dpdk.org (localhost [127.0.0.1]) by mails.dpdk.org (Postfix) with ESMTP id 648A340A87; Fri, 21 Feb 2025 04:54:35 +0100 (CET) Received: from mail-oa1-f100.google.com (mail-oa1-f100.google.com [209.85.160.100]) by mails.dpdk.org (Postfix) with ESMTP id B1AFD4029A for ; Fri, 21 Feb 2025 04:54:34 +0100 (CET) Received: by mail-oa1-f100.google.com with SMTP id 586e51a60fabf-2bcbfad2f8cso771315fac.1 for ; Thu, 20 Feb 2025 19:54:34 -0800 (PST) DKIM-Signature: v=1; a=rsa-sha256; c=relaxed/relaxed; d=iol.unh.edu; s=unh-iol; t=1740110074; x=1740714874; darn=dpdk.org; h=references:in-reply-to:cc:to:from:subject:message-id:date:from:to :cc:subject:date:message-id:reply-to; bh=jG7OeJQzNF7Fsuz46r3VH55qjO8tNaEkrDdVVgm0R6w=; b=abpLmrSEqG+ZYyAa9AgLopBXLOaU4ALYFeerhfQHtJjCZpVnLSYoHxGSKYKo6e1CYZ IQ8xAmTjFjjabj1uRrQS0XSZhhx6V4U6bNng3QWCA06uv+d8cUsTon3UylIOGvPSyN1Z Q43tZ76SO7eleSdEcvf1V2qGkNAqSOYZcJ1YE= X-Google-DKIM-Signature: v=1; a=rsa-sha256; c=relaxed/relaxed; d=1e100.net; s=20230601; t=1740110074; x=1740714874; h=references:in-reply-to:cc:to:from:subject:message-id:date :x-gm-message-state:from:to:cc:subject:date:message-id:reply-to; bh=jG7OeJQzNF7Fsuz46r3VH55qjO8tNaEkrDdVVgm0R6w=; b=Z1hklTWI27hEtqxqDCWiVYNXF/XyMwpttutGohsEL5gd0TCzXoBmdkeV5nUP4BnBTJ jpvBYQYZKvh3o+n4zCFHxlbTYzn1efmKtqGRCNvYa6G/H901JuzbARdUPVoXorp1ujrv K5rGhyc0xqklX9dVQ97Xn9GaLzW7CpXyBtbWzqs2dyBYD7kTMAUDmCZSjcAw8d4Ad7ZZ w2u5IdIyNC7DexbmF1uvBXPFEJ8LZQhxl/05eRCJVrnl/fZjXacr1WaaqvxrrbpjqnaO uWS/0vldC2E+8v+mNO/TL4NJe1wiCIo0AzvSfiTIkPx6A21gw8f5H3OPuk3Io0ag6irZ W+Dw== X-Gm-Message-State: AOJu0Yy6C37n/ozkG/2k3eru+3h6LCvhU9avZ9VcHHBXKbsjHmSzGNfG uZ7syt8Sld7pQvvgo8m3Z0tUp+kWoIRZFGBCWRulwWE7qMQz360bXYBk1iuM2XOpMaO1bbFAX7k S8O/BFwaytG8Q3gE6Q6JUO6r93kB7G2iRDJioCi6FM2iktAD8l4qKfqyh X-Gm-Gg: ASbGncsZ4UZ5d1sOkYTZazh1vByDsa2wRpVxuN5jzrEQOdI6L+d3AJJHI4RUNNWqqvq 0ln4Um58WCHPQ0Mv5CbzUjwp9swIFahGiMtK7Xh1IpJlD6anUsdWUZ3MKeknIPnGi3JR3/I1h4V XFxjnnJCxhUr+rC6O0MZeFqTZdN8w5kSRPHba4S0sAAPBPrQWnzCSo5F4USVdGSktfiKRYpmiEX +SjD3B2QaBIHea4KWuF9fa/YSEbjDxCMMTJBqBWHBKd2/m8OX3kSyngK8oqo3zAyJHhgKUXs1C3 KeOaoo/KqMcMt8SpU6o4XBVVMqnol/Dm20WncqRpOIj42JmyBpED X-Google-Smtp-Source: AGHT+IE4iPktuMyzf5t7Itgv+UKdClp6QcKQHUnPFeKHh8ZqxlMUQ4hOtEDs8gPXsPv639oxHA3i8gIi/pJZ X-Received: by 2002:a05:6870:470e:b0:2b8:3c87:f36 with SMTP id 586e51a60fabf-2bd50cfc737mr1295458fac.13.1740110073897; Thu, 20 Feb 2025 19:54:33 -0800 (PST) Received: from postal.iol.unh.edu (postal.iol.unh.edu. [2606:4100:3880:1234::84]) by smtp-relay.gmail.com with ESMTPS id 586e51a60fabf-2b95a7b5530sm1025924fac.32.2025.02.20.19.54.33 (version=TLS1_2 cipher=ECDHE-ECDSA-AES128-GCM-SHA256 bits=128/128); Thu, 20 Feb 2025 19:54:33 -0800 (PST) X-Relaying-Domain: iol.unh.edu Date: Thu, 20 Feb 2025 19:54:33 -0800 (PST) Message-ID: <67b7f8f9.050a0220.2b57be.3b7eSMTPIN_ADDED_MISSING@mx.google.com> Received: from [172.21.0.5] (unknown [172.18.0.240]) by postal.iol.unh.edu (Postfix) with ESMTP id ADD086052471; Thu, 20 Feb 2025 22:54:30 -0500 (EST) Subject: |SUCCESS| pw151706-151719 [PATCH] [v3,14/14] security: remove unnece From: dpdklab@iol.unh.edu To: Test Report Cc: dpdk-test-reports@iol.unh.edu In-Reply-To: <20250220165644.16421-15-stephen@networkplumber.org> References: <20250220165644.16421-15-stephen@networkplumber.org> Content-Type: text/plain X-BeenThere: test-report@dpdk.org X-Mailman-Version: 2.1.29 Precedence: list List-Id: automatic DPDK test reports List-Unsubscribe: , List-Archive: List-Post: List-Help: List-Subscribe: , Errors-To: test-report-bounces@dpdk.org Test-Label: iol-compile-amd64-testing Test-Status: SUCCESS http://dpdk.org/patch/151719 _Testing PASS_ Submitter: Stephen Hemminger Date: Thursday, February 20 2025 16:55:28 DPDK git baseline: Repo:dpdk Branch: master CommitID:fab31a03ba98e7457284df95dd9eef2223a4ccaa 151706-151719 --> testing pass Upstream job id: Windows-Compile-DPDK-VS#4993 Test environment and result as below: +---------------------+--------------------+-------------------+------------------+-------------------+ | Environment | dpdk_meson_compile | dpdk_compile_spdk | dpdk_compile_ovs | dpdk_msvc_compile | +=====================+====================+===================+==================+===================+ | CentOS Stream 9 | PASS | PASS | SKIPPED | SKIPPED | +---------------------+--------------------+-------------------+------------------+-------------------+ | CentOS Stream 10 | PASS | SKIPPED | SKIPPED | SKIPPED | +---------------------+--------------------+-------------------+------------------+-------------------+ | Debian Bullseye | PASS | PASS | SKIPPED | SKIPPED | +---------------------+--------------------+-------------------+------------------+-------------------+ | Fedora 40 | PASS | PASS | SKIPPED | SKIPPED | +---------------------+--------------------+-------------------+------------------+-------------------+ | openSUSE Leap 15 | PASS | SKIPPED | SKIPPED | SKIPPED | +---------------------+--------------------+-------------------+------------------+-------------------+ | RHEL8 | PASS | SKIPPED | SKIPPED | SKIPPED | +---------------------+--------------------+-------------------+------------------+-------------------+ | Fedora 41 | PASS | PASS | PASS | SKIPPED | +---------------------+--------------------+-------------------+------------------+-------------------+ | Fedora 41 (Clang) | PASS | PASS | PASS | SKIPPED | +---------------------+--------------------+-------------------+------------------+-------------------+ | Ubuntu 22.04 | PASS | PASS | SKIPPED | SKIPPED | +---------------------+--------------------+-------------------+------------------+-------------------+ | Ubuntu 24.04 | PASS | PASS | PASS | SKIPPED | +---------------------+--------------------+-------------------+------------------+-------------------+ | Ubuntu 20.04 | PASS | SKIPPED | SKIPPED | SKIPPED | +---------------------+--------------------+-------------------+------------------+-------------------+ | RHEL9 | PASS | SKIPPED | SKIPPED | SKIPPED | +---------------------+--------------------+-------------------+------------------+-------------------+ | Alpine | PASS | SKIPPED | SKIPPED | SKIPPED | +---------------------+--------------------+-------------------+------------------+-------------------+ | FreeBSD 13.4 | PASS | SKIPPED | SKIPPED | SKIPPED | +---------------------+--------------------+-------------------+------------------+-------------------+ | FreeBSD 14.2 | PASS | SKIPPED | SKIPPED | SKIPPED | +---------------------+--------------------+-------------------+------------------+-------------------+ | Fedora 40 (Clang) | PASS | PASS | SKIPPED | SKIPPED | +---------------------+--------------------+-------------------+------------------+-------------------+ | Debian 12 | PASS | PASS | SKIPPED | SKIPPED | +---------------------+--------------------+-------------------+------------------+-------------------+ | Windows Server 2022 | SKIPPED | SKIPPED | SKIPPED | PASS | +---------------------+--------------------+-------------------+------------------+-------------------+ CentOS Stream 9 Kernel: Depends on container host Compiler: gcc 11.5.0 20240719 (Red Hat 11.5.0-2) CentOS Stream 10 Kernel: Depends on container host Compiler: gcc 14.2.1 20241104 (Red Hat 14.2.1-6) Debian Bullseye Kernel: Depends on container host Compiler: gcc (Debian 10.2.1-6) 10.2.1 20210110 Fedora 40 Kernel: Depends on container host Compiler: gcc 14.2.1 20240912 (Red Hat 14.2.1-3) openSUSE Leap 15 Kernel: Depends on container host Compiler: gcc (SUSE Linux) 7.5.0 RHEL8 Kernel: Depends on container host Compiler: gcc 8.5.0 20210514 (Red Hat 8.5.0-22) Fedora 41 Kernel: Depends on container host Compiler: gcc 14.2.1 20240912 (Red Hat 14.2.1-3) Fedora 41 (Clang) Kernel: Depends on container host Compiler: clang 19.1.5 (Fedora 19.1.5-1.fc41) Ubuntu 22.04 Kernel: Depends on container host Compiler: gcc (Ubuntu 11.4.0-1ubuntu1~22.04) 11.4.0 Ubuntu 24.04 Kernel: Depends on container host Compiler: gcc (Ubuntu 13.3.0-6ubuntu2~24.04) 13.3.0 Ubuntu 20.04 Kernel: Depends on container host Compiler: gcc (Ubuntu 9.4.0-1ubuntu1~20.04.2) 9.4.0 RHEL9 Kernel: Depends on container host Compiler: gcc 11.5.0 20240719 (Red Hat 11.5.0-2) Alpine Kernel: Depends on container host Compiler: gcc (Alpine 14.2.0) 14.2.0 FreeBSD 13.4 Kernel: 13.4-RELEASE-p1 Compiler: clang 18.1.6 FreeBSD 14.2 Kernel: 14.2-RELEASE Compiler: clang 18.1.6 Fedora 40 (Clang) Kernel: Depends on container host Compiler: clang 18.1.8 (Fedora 18.1.8-1.fc40) Debian 12 Kernel: Depends on container host Compiler: gcc (Debian 12.2.0-14) 12.2.0 Windows Server 2022 Kernel: 10.0.20348.2031 Compiler: clang 15.0.7, gcc 14.1.0 (MinGW), and MSVC VS 19.39.33521 To view detailed results, visit: https://lab.dpdk.org/results/dashboard/patchsets/32625/ UNH-IOL DPDK Community Lab To manage your email subscriptions, visit: https://lab.dpdk.org/results/dashboard/preferences/subscriptions/