From mboxrd@z Thu Jan 1 00:00:00 1970 Return-Path: Received: from mails.dpdk.org (mails.dpdk.org [217.70.189.124]) by inbox.dpdk.org (Postfix) with ESMTP id 8632E46284 for ; Fri, 21 Feb 2025 04:54:42 +0100 (CET) Received: from mails.dpdk.org (localhost [127.0.0.1]) by mails.dpdk.org (Postfix) with ESMTP id 7E76340A87; Fri, 21 Feb 2025 04:54:42 +0100 (CET) Received: from mail-il1-f226.google.com (mail-il1-f226.google.com [209.85.166.226]) by mails.dpdk.org (Postfix) with ESMTP id 4DB394029A for ; Fri, 21 Feb 2025 04:54:41 +0100 (CET) Received: by mail-il1-f226.google.com with SMTP id e9e14a558f8ab-3d03d2bd7d2so15514465ab.0 for ; Thu, 20 Feb 2025 19:54:41 -0800 (PST) DKIM-Signature: v=1; a=rsa-sha256; c=relaxed/relaxed; d=iol.unh.edu; s=unh-iol; t=1740110080; x=1740714880; darn=dpdk.org; h=references:in-reply-to:cc:to:from:subject:message-id:date:from:to :cc:subject:date:message-id:reply-to; bh=fsxiHLVNFwu1zKuHeYh+0jiv03y6Ms56leshJAY0A8Y=; b=Qpqde4Otqfb8mhdV15KRhIhkzWRXg7BOmJeWT3LpwkS/Am5rbPgawx9b9p2AR23Exf ETdLS3FGWmNesYGXAPuZ1shFRHsZU1xqVda4rDUGnIIrPqLXxyHoKYfUkpWgAsDk/9KC 5la4JC+N2VDiglCpUMOUX9OvPgxs/NZ5b6YSw= X-Google-DKIM-Signature: v=1; a=rsa-sha256; c=relaxed/relaxed; d=1e100.net; s=20230601; t=1740110080; x=1740714880; h=references:in-reply-to:cc:to:from:subject:message-id:date :x-gm-message-state:from:to:cc:subject:date:message-id:reply-to; bh=fsxiHLVNFwu1zKuHeYh+0jiv03y6Ms56leshJAY0A8Y=; b=OSkH4TSsxdRjPYjTFEC50UCSyMJrhrRcJ9kopd3rZ2wkHJCdE6LEY7qE7rE750Sgso oCJYFJccxM0AQt4AnQ7PLZytQezCOHHBM2fi/KTtacZyBuZC9VdPlF1UhPos08RfqtUL p/l4Y8nI/AH6hcBBVbN4Et0QLt+WxfWy0AZDOZfGu/7aCWeoJlfN6FYkYIEE2VF39hqW Gaz9eVwZti1twNS94UG4ct91hs414XB/ESgfcPmt74ha2d5QIqbvx1rr3bttuJbO7n0V KsgUuLHdwr4nmuCOu3N4NQ8c+Ov172wpas3T9cFnWHCaFOGFCZQFBrO1lX0bOlC09es8 lDcA== X-Gm-Message-State: AOJu0Yx9PjgIjBI1B8KT21lLFF1wNAlvLpsZ4+YRP+EuXP+m9vrSHi8O MyGCN2Ut+R0ieC0lT31X63E0ErXuUWSmAdt8+QphaFISMntJbbYO8Ue3gdhyCr+pFu+zFMOgySC llbip5K6t2cmMLpbo9+ECFeJunAld+xk+avAPS7qL X-Gm-Gg: ASbGncv7kfWvYsdYheL87+jiIvHNh73Cu2grhWj+qD31Pfgh7wLXmcuoIe5lnhIm0fB PrJnIKJjVTU6h46c3d10pplX6iBy9ObPzDPiIlhtpshv59eAtz0QgQZk54jWCm+hUIpj0p2DDhn /6oxFS6rRQVIu4KKbHXpFSiCdLBVjCePSeZj4E2FHpFFix7xmvNp4zxnjwaWSv9wKndVaUAdy3A fwAO0yT5QHWY2iXOpT2q62WC/C+TClIIlHUhFhiUIXJT3QiL0TPX75WBLlffHusKmnlGKaa8hD2 4d+ONzeaaxluNl+0mlrQFmmWAe7FBgAsCc1mqyLk X-Google-Smtp-Source: AGHT+IE3rF9FQiV3XM4lcZiqFNG2Gui8X5i6+nWZRsczLw5ktOg+u+738AODunpECusL4MlAacuGROKvvezX X-Received: by 2002:a05:6e02:13a4:b0:3cf:c9ad:46a1 with SMTP id e9e14a558f8ab-3d2cae8b19bmr13233225ab.13.1740110078257; Thu, 20 Feb 2025 19:54:38 -0800 (PST) Received: from postal.iol.unh.edu (postal.iol.unh.edu. [132.177.123.84]) by smtp-relay.gmail.com with ESMTPS id e9e14a558f8ab-3d18fb88108sm10649285ab.62.2025.02.20.19.54.38 (version=TLS1_2 cipher=ECDHE-ECDSA-AES128-GCM-SHA256 bits=128/128); Thu, 20 Feb 2025 19:54:38 -0800 (PST) X-Relaying-Domain: iol.unh.edu Date: Thu, 20 Feb 2025 19:54:38 -0800 (PST) Message-ID: <67b7f8fe.050a0220.261efe.51b9SMTPIN_ADDED_MISSING@mx.google.com> Received: from [172.21.0.7] (unknown [172.18.0.240]) by postal.iol.unh.edu (Postfix) with ESMTP id DF0946052471; Thu, 20 Feb 2025 22:54:34 -0500 (EST) Subject: |SUCCESS| pw151706-151719 [PATCH] [v3,14/14] security: remove unnece From: dpdklab@iol.unh.edu To: Test Report Cc: dpdk-test-reports@iol.unh.edu In-Reply-To: <20250220165644.16421-15-stephen@networkplumber.org> References: <20250220165644.16421-15-stephen@networkplumber.org> Content-Type: text/plain X-BeenThere: test-report@dpdk.org X-Mailman-Version: 2.1.29 Precedence: list List-Id: automatic DPDK test reports List-Unsubscribe: , List-Archive: List-Post: List-Help: List-Subscribe: , Errors-To: test-report-bounces@dpdk.org Test-Label: iol-compile-arm64-testing Test-Status: SUCCESS http://dpdk.org/patch/151719 _Testing PASS_ Submitter: Stephen Hemminger Date: Thursday, February 20 2025 16:55:28 DPDK git baseline: Repo:dpdk Branch: master CommitID:fab31a03ba98e7457284df95dd9eef2223a4ccaa 151706-151719 --> testing pass Upstream job id: Generic-DPDK-Compile-Meson#363698 Test environment and result as below: +----------------------------------------+--------------------+ | Environment | dpdk_meson_compile | +========================================+====================+ | Debian 12 with MUSDK | PASS | +----------------------------------------+--------------------+ | Ubuntu 20.04 ARM SVE | PASS | +----------------------------------------+--------------------+ | Fedora 40 (ARM Clang) | PASS | +----------------------------------------+--------------------+ | Fedora 41 (ARM) | PASS | +----------------------------------------+--------------------+ | Fedora 41 (ARM Clang) | PASS | +----------------------------------------+--------------------+ | Fedora 40 (ARM) | PASS | +----------------------------------------+--------------------+ | Ubuntu 24.04 (ARM) | PASS | +----------------------------------------+--------------------+ | Ubuntu 22.04 (ARM) | PASS | +----------------------------------------+--------------------+ | CentOS Stream 9 (ARM) | PASS | +----------------------------------------+--------------------+ | CentOS Stream 10 (ARM) | PASS | +----------------------------------------+--------------------+ | Debian 11 (Buster) (ARM) | PASS | +----------------------------------------+--------------------+ | Debian 12 (arm) | PASS | +----------------------------------------+--------------------+ | Ubuntu 20.04 aarch32 GCC Cross Compile | PASS | +----------------------------------------+--------------------+ | Ubuntu 20.04 ARM Clang Cross Compile | PASS | +----------------------------------------+--------------------+ | Ubuntu 20.04 ARM GCC Cross Compile | PASS | +----------------------------------------+--------------------+ | RHEL9 (ARM) | PASS | +----------------------------------------+--------------------+ | Ubuntu 20.04 (ARM) | PASS | +----------------------------------------+--------------------+ Debian 12 with MUSDK Kernel: Depends on container host Compiler: gcc (Debian 12.2.0-14) 12.2.0 Ubuntu 20.04 ARM SVE Kernel: Depends on container host Compiler: gcc (Ubuntu 10.5.0-1ubuntu1~20.04) 10.5.0 Fedora 40 (ARM Clang) Kernel: Depends on container host Compiler: clang 18.1.8 (Fedora 18.1.8-1.fc40) Fedora 41 (ARM) Kernel: Depends on container host Compiler: gcc 14.2.1 20240912 (Red Hat 14.2.1-3) Fedora 41 (ARM Clang) Kernel: Depends on container host Compiler: clang 19.1.5 (Fedora 19.1.5-1.fc41) Fedora 40 (ARM) Kernel: Depends on container host Compiler: gcc 14.2.1 20240912 (Red Hat 14.2.1-3) Ubuntu 24.04 (ARM) Kernel: Depends on container host Compiler: gcc (Ubuntu 13.3.0-6ubuntu2~24.04) 13.3.0 Ubuntu 22.04 (ARM) Kernel: Depends on container host Compiler: gcc (Ubuntu 11.4.0-1ubuntu1~22.04) 11.4.0 CentOS Stream 9 (ARM) Kernel: Depends on container host Compiler: gcc 11.5.0 20240719 (Red Hat 11.5.0-2) CentOS Stream 10 (ARM) Kernel: Depends on container host Compiler: gcc 14.2.1 20241104 (Red Hat 14.2.1-6) Debian 11 (Buster) (ARM) Kernel: Depends on container host Compiler: gcc (Debian 10.2.1-6) 10.2.1 20210110 Debian 12 (arm) Kernel: Depends on container host Compiler: gcc (Debian 12.2.0-14) 12.2.0 Ubuntu 20.04 aarch32 GCC Cross Compile Kernel: Depends on container host Compiler: gcc 9.4.0 Ubuntu 20.04 ARM Clang Cross Compile Kernel: Depends on container host Compiler: clang 10.0.0-4ubuntu1 Ubuntu 20.04 ARM GCC Cross Compile Kernel: Depends on container host Compiler: aarch64-linux-gnu-gcc (Ubuntu 9.4.0-1ubuntu1~20.04.2) 9.4.0 RHEL9 (ARM) Kernel: Depends on container host Compiler: gcc 11.5.0 20240719 (Red Hat 11.5.0-2) Ubuntu 20.04 (ARM) Kernel: Depends on container host Compiler: gcc (Ubuntu 9.4.0-1ubuntu1~20.04.2) 9.4.0 To view detailed results, visit: https://lab.dpdk.org/results/dashboard/patchsets/32625/ UNH-IOL DPDK Community Lab To manage your email subscriptions, visit: https://lab.dpdk.org/results/dashboard/preferences/subscriptions/