From mboxrd@z Thu Jan 1 00:00:00 1970 Return-Path: Received: from mails.dpdk.org (mails.dpdk.org [217.70.189.124]) by inbox.dpdk.org (Postfix) with ESMTP id B1E9146284 for ; Fri, 21 Feb 2025 05:20:46 +0100 (CET) Received: from mails.dpdk.org (localhost [127.0.0.1]) by mails.dpdk.org (Postfix) with ESMTP id 8E83D40A87; Fri, 21 Feb 2025 05:20:46 +0100 (CET) Received: from mail-il1-f228.google.com (mail-il1-f228.google.com [209.85.166.228]) by mails.dpdk.org (Postfix) with ESMTP id D43334029A for ; Fri, 21 Feb 2025 05:20:44 +0100 (CET) Received: by mail-il1-f228.google.com with SMTP id e9e14a558f8ab-3d1a428471fso13139415ab.2 for ; Thu, 20 Feb 2025 20:20:44 -0800 (PST) DKIM-Signature: v=1; a=rsa-sha256; c=relaxed/relaxed; d=iol.unh.edu; s=unh-iol; t=1740111644; x=1740716444; darn=dpdk.org; h=references:in-reply-to:cc:to:from:subject:message-id:date:from:to :cc:subject:date:message-id:reply-to; bh=DMr57Z1z0GV0wWCu8SxBqo77v5WdnDZfz5EBAUUYFBk=; b=UF4pf0OuWuGOquzko9Sc4cDBkMQjMVEz1PHBKDnEI+ZmymBUk+sk1JBy7Lb1hppN5c osNrzgi3AHeW60vc5cmeqCaVuSZIS0FoNHStEIOa4he2C21gs7YhAZ148b1V9t9zckiE QAnMGbdNfA9dXOra5gNUEbqb2v1/2UqMbPpTw= X-Google-DKIM-Signature: v=1; a=rsa-sha256; c=relaxed/relaxed; d=1e100.net; s=20230601; t=1740111644; x=1740716444; h=references:in-reply-to:cc:to:from:subject:message-id:date :x-gm-message-state:from:to:cc:subject:date:message-id:reply-to; bh=DMr57Z1z0GV0wWCu8SxBqo77v5WdnDZfz5EBAUUYFBk=; b=mViKrlFcbXl+7e1EVAaQRwwruhqEKjDf8oTtBiyl1Ar7rRgHDTDrJ2+oNTErsl9QQH pnnbmONRrmITEcCEHdFaxgJ9+FctcYI+qpbisQtuCNoiKCcUAjT6Iij8Xjdxraia/UaN aNY68J9i1+6uayw0PklkqvDJbqUt972BZH38fzePqrYqvf7rNeyMbGjg4RiNSGl6rKEg RRkS0rrTJNJRKgJAj9yoFAJCxLnWfdVctKG6n1vS3j9NxV0LwlnQXOHEFr6T/om/NPYG +RroZ9zVKKtUjuaZCUE1kupObkiJNJeiwEa5frcwNrbTn1T9I0dPAjEv5CDlKBNsPalJ UpDA== X-Gm-Message-State: AOJu0Yyqyy7KvKz6dJypbviJy092zGvuFZZkUGU3oGpCdXoRjsfXLDJ1 F9rm60UIjQrdwhsKfY1yBOi/hIHthJ9STpUsdJFZn52AET3jcpfYzKMT9FdjgToV9LvSBCGxWLC bkI5fOrgbl/y61sgXdR60Lmt8nqZdjSmkVETv9sr6 X-Gm-Gg: ASbGnctS5a2kELJSJJ2sY1B36kQDL1oCnJIhoDnZuZIdMS7ng087VGxsDnesldbz0YB ZINQyaOwjJ4gPpKN8TXVETYbxyqhqb2tVXt6K09VpV5l+Y3tASll1yTOLEeNZvHzo+YSfBbgb2K 0//+4FoeebpblGisiveSDu92+GJrpxxM0hCRKvuQkDLGkk0LyHLmDhb1Q28AbCLsooKABzERwh7 5N2oOJEX2qmVlqgv8RWW1YTzgLh3ji6fkT3zhSJF+GIIhBlfISZby0aq0QeUkEERiQn1t/JtPiW ghFhpBNB3sKHlLbU9TzI4oEC2TyDr4Fhs6I8NmaB X-Google-Smtp-Source: AGHT+IG1Fw37SGUrnNj6xGArYLwJIOECaDiTom8w195639nSBh/ktSDDZe6YXIpZtv6d4XpWL7abU8p604oW X-Received: by 2002:a05:6e02:174a:b0:3d0:164e:958 with SMTP id e9e14a558f8ab-3d2caf184femr14270325ab.17.1740111643975; Thu, 20 Feb 2025 20:20:43 -0800 (PST) Received: from postal.iol.unh.edu (postal.iol.unh.edu. [132.177.123.84]) by smtp-relay.gmail.com with ESMTPS id e9e14a558f8ab-3d1a520fc54sm8908095ab.4.2025.02.20.20.20.43 (version=TLS1_2 cipher=ECDHE-ECDSA-AES128-GCM-SHA256 bits=128/128); Thu, 20 Feb 2025 20:20:43 -0800 (PST) X-Relaying-Domain: iol.unh.edu Date: Thu, 20 Feb 2025 20:20:43 -0800 (PST) Message-ID: <67b7ff1b.050a0220.1d61ef.c1c3SMTPIN_ADDED_MISSING@mx.google.com> Received: from [172.21.0.7] (unknown [172.18.0.240]) by postal.iol.unh.edu (Postfix) with ESMTP id 892AA6052471; Thu, 20 Feb 2025 23:20:40 -0500 (EST) Subject: |SUCCESS| pw151640-151647 [PATCH] [v7,8/8] devtools: add script to g From: dpdklab@iol.unh.edu To: Test Report Cc: dpdk-test-reports@iol.unh.edu In-Reply-To: <169e9b696f26a856ad59012590191c7ce799b175.1739962646.git.anatoly.burakov@intel.com> References: <169e9b696f26a856ad59012590191c7ce799b175.1739962646.git.anatoly.burakov@intel.com> Content-Type: text/plain X-BeenThere: test-report@dpdk.org X-Mailman-Version: 2.1.29 Precedence: list List-Id: automatic DPDK test reports List-Unsubscribe: , List-Archive: List-Post: List-Help: List-Subscribe: , Errors-To: test-report-bounces@dpdk.org Test-Label: iol-compile-amd64-testing Test-Status: SUCCESS http://dpdk.org/patch/151647 _Testing PASS_ Submitter: Anatoly Burakov Date: Wednesday, February 19 2025 10:57:54 DPDK git baseline: Repo:dpdk Branch: master CommitID:fd233ad17e5ffa42d50f1625165a7fce3f1cbc5f 151640-151647 --> testing pass Upstream job id: Windows-Compile-DPDK-Native#26805 Test environment and result as below: +---------------------+--------------------+-------------------+------------------+-------------------+-------------------------+ | Environment | dpdk_meson_compile | dpdk_compile_spdk | dpdk_compile_ovs | dpdk_msvc_compile | dpdk_llvm_clang_compile | +=====================+====================+===================+==================+===================+=========================+ | CentOS Stream 9 | PASS | PASS | SKIPPED | SKIPPED | SKIPPED | +---------------------+--------------------+-------------------+------------------+-------------------+-------------------------+ | CentOS Stream 10 | PASS | SKIPPED | SKIPPED | SKIPPED | SKIPPED | +---------------------+--------------------+-------------------+------------------+-------------------+-------------------------+ | Debian Bullseye | PASS | PASS | SKIPPED | SKIPPED | SKIPPED | +---------------------+--------------------+-------------------+------------------+-------------------+-------------------------+ | Fedora 40 (Clang) | PASS | PASS | SKIPPED | SKIPPED | SKIPPED | +---------------------+--------------------+-------------------+------------------+-------------------+-------------------------+ | Fedora 40 | PASS | PASS | SKIPPED | SKIPPED | SKIPPED | +---------------------+--------------------+-------------------+------------------+-------------------+-------------------------+ | Fedora 41 (Clang) | PASS | PASS | PASS | SKIPPED | SKIPPED | +---------------------+--------------------+-------------------+------------------+-------------------+-------------------------+ | Fedora 41 | PASS | PASS | PASS | SKIPPED | SKIPPED | +---------------------+--------------------+-------------------+------------------+-------------------+-------------------------+ | openSUSE Leap 15 | PASS | SKIPPED | SKIPPED | SKIPPED | SKIPPED | +---------------------+--------------------+-------------------+------------------+-------------------+-------------------------+ | RHEL8 | PASS | SKIPPED | SKIPPED | SKIPPED | SKIPPED | +---------------------+--------------------+-------------------+------------------+-------------------+-------------------------+ | RHEL9 | PASS | SKIPPED | SKIPPED | SKIPPED | SKIPPED | +---------------------+--------------------+-------------------+------------------+-------------------+-------------------------+ | Ubuntu 20.04 | PASS | SKIPPED | SKIPPED | SKIPPED | SKIPPED | +---------------------+--------------------+-------------------+------------------+-------------------+-------------------------+ | Ubuntu 22.04 | PASS | PASS | SKIPPED | SKIPPED | SKIPPED | +---------------------+--------------------+-------------------+------------------+-------------------+-------------------------+ | Ubuntu 24.04 | PASS | PASS | PASS | SKIPPED | SKIPPED | +---------------------+--------------------+-------------------+------------------+-------------------+-------------------------+ | Alpine | PASS | SKIPPED | SKIPPED | SKIPPED | SKIPPED | +---------------------+--------------------+-------------------+------------------+-------------------+-------------------------+ | FreeBSD 13.4 | PASS | SKIPPED | SKIPPED | SKIPPED | SKIPPED | +---------------------+--------------------+-------------------+------------------+-------------------+-------------------------+ | FreeBSD 14.2 | PASS | SKIPPED | SKIPPED | SKIPPED | SKIPPED | +---------------------+--------------------+-------------------+------------------+-------------------+-------------------------+ | Debian 12 | PASS | PASS | SKIPPED | SKIPPED | SKIPPED | +---------------------+--------------------+-------------------+------------------+-------------------+-------------------------+ | Windows Server 2022 | SKIPPED | SKIPPED | SKIPPED | PASS | PASS | +---------------------+--------------------+-------------------+------------------+-------------------+-------------------------+ CentOS Stream 9 Kernel: Depends on container host Compiler: gcc 11.5.0 20240719 (Red Hat 11.5.0-2) CentOS Stream 10 Kernel: Depends on container host Compiler: gcc 14.2.1 20241104 (Red Hat 14.2.1-6) Debian Bullseye Kernel: Depends on container host Compiler: gcc (Debian 10.2.1-6) 10.2.1 20210110 Fedora 40 (Clang) Kernel: Depends on container host Compiler: clang 18.1.8 (Fedora 18.1.8-1.fc40) Fedora 40 Kernel: Depends on container host Compiler: gcc 14.2.1 20240912 (Red Hat 14.2.1-3) Fedora 41 (Clang) Kernel: Depends on container host Compiler: clang 19.1.5 (Fedora 19.1.5-1.fc41) Fedora 41 Kernel: Depends on container host Compiler: gcc 14.2.1 20240912 (Red Hat 14.2.1-3) openSUSE Leap 15 Kernel: Depends on container host Compiler: gcc (SUSE Linux) 7.5.0 RHEL8 Kernel: Depends on container host Compiler: gcc 8.5.0 20210514 (Red Hat 8.5.0-22) RHEL9 Kernel: Depends on container host Compiler: gcc 11.5.0 20240719 (Red Hat 11.5.0-2) Ubuntu 20.04 Kernel: Depends on container host Compiler: gcc (Ubuntu 9.4.0-1ubuntu1~20.04.2) 9.4.0 Ubuntu 22.04 Kernel: Depends on container host Compiler: gcc (Ubuntu 11.4.0-1ubuntu1~22.04) 11.4.0 Ubuntu 24.04 Kernel: Depends on container host Compiler: gcc (Ubuntu 13.3.0-6ubuntu2~24.04) 13.3.0 Alpine Kernel: Depends on container host Compiler: gcc (Alpine 14.2.0) 14.2.0 FreeBSD 13.4 Kernel: 13.4-RELEASE-p1 Compiler: clang 18.1.6 FreeBSD 14.2 Kernel: 14.2-RELEASE Compiler: clang 18.1.6 Debian 12 Kernel: Depends on container host Compiler: gcc (Debian 12.2.0-14) 12.2.0 Windows Server 2022 Kernel: 10.0.20348.2031 Compiler: clang 15.0.7, gcc 14.1.0 (MinGW), and MSVC VS 19.39.33521 To view detailed results, visit: https://lab.dpdk.org/results/dashboard/patchsets/32610/ UNH-IOL DPDK Community Lab To manage your email subscriptions, visit: https://lab.dpdk.org/results/dashboard/preferences/subscriptions/