From mboxrd@z Thu Jan 1 00:00:00 1970 Return-Path: Received: from mails.dpdk.org (mails.dpdk.org [217.70.189.124]) by inbox.dpdk.org (Postfix) with ESMTP id C8A8146284 for ; Fri, 21 Feb 2025 05:20:53 +0100 (CET) Received: from mails.dpdk.org (localhost [127.0.0.1]) by mails.dpdk.org (Postfix) with ESMTP id BF1F140A87; Fri, 21 Feb 2025 05:20:53 +0100 (CET) Received: from mail-yw1-f228.google.com (mail-yw1-f228.google.com [209.85.128.228]) by mails.dpdk.org (Postfix) with ESMTP id 77B264029A for ; Fri, 21 Feb 2025 05:20:52 +0100 (CET) Received: by mail-yw1-f228.google.com with SMTP id 00721157ae682-6f8c58229f1so15398797b3.0 for ; Thu, 20 Feb 2025 20:20:52 -0800 (PST) DKIM-Signature: v=1; a=rsa-sha256; c=relaxed/relaxed; d=iol.unh.edu; s=unh-iol; t=1740111652; x=1740716452; darn=dpdk.org; h=references:in-reply-to:cc:to:from:subject:message-id:date:from:to :cc:subject:date:message-id:reply-to; bh=JFY9mIqpFj3xqAC2TbaxXQ3joxF1pYlKSPcVi7okiUE=; b=DzCd7GY5Y0APE15DtxNFOBoyJaFj+O7uuFKXd5St71TrgLF7uRkjGJ7XA43Sk874Jj fphRQLK7kr+LNU6btQMKQ9xMA0iRSqPfxYA5tYJbZ60ZS4pVCf6GAMyje6ai1BYHnW23 kDaZZj5F02YqstqSAk2H17FszpVwmL7ciVBDA= X-Google-DKIM-Signature: v=1; a=rsa-sha256; c=relaxed/relaxed; d=1e100.net; s=20230601; t=1740111652; x=1740716452; h=references:in-reply-to:cc:to:from:subject:message-id:date :x-gm-message-state:from:to:cc:subject:date:message-id:reply-to; bh=JFY9mIqpFj3xqAC2TbaxXQ3joxF1pYlKSPcVi7okiUE=; b=QBYhZCoxiNzUHU7GhtKyHxw4Yk/xpUHgM6tapdQ3a7rvlSav/yws0x/wcR1gKEkyq+ ZYMa0eH3XMFfBFgcV7zdWOw1lsiqYMNTgDbfTnOxtoZpwLZBmUeCMWZmim95nY2jRJ6Y GAnk4zPwQPUeva7KaBRIGJgW8nPGSXTXJQHF5RKRFoAQEfJe4S6UKvoMWd7IMoq5evja /HfVwokRwXh2GE4rvSV4CsIClTs6z93ai6rEO7Ecx/M3B9cM6EBhvvTnKLTpDnkVp3xA NQndtqa+uRX/rPt/yRB86kThqO+F60JeuiNStoI3QRpeGbc0msvoC1MEilRdfRDfRaaa Fc1w== X-Gm-Message-State: AOJu0YycQxiiQ8CeLQsMiVBZXa18WzCMccyWsSYLKz2keNOz4dJOb8Mu g5dUzqDeEF+MxjWKDsqzcCSVAPxfA18gozfwOzaCyQgGotbKAX987uwaG2Zi5kvx8Wa4AbzmsdZ j4QgftxFphIIy3IvJGHnoRdbuWAs8vIWOznvwJaajfGtxYIPJBZxTHG1v X-Gm-Gg: ASbGncuLldGWzvxLfKMkGvKmm2qm1PWztD0wvvmwAcZvkSuTtJheDKgIXmbk2bUJhaf xcFXfacdcvJD5p/D8vUM4oB+o0DMxocnFFuwm4L8T3qaMRbggENKsrO5ymI0bH+EWpH6m1zrcgd 0Y9ylHgGacHG1lGofv9NjzQP3Si34+zVNJC5hA1KWU5mDq9Z49DsHyqo4l8+/sug6aKhRHad/dd BDjD0iA1KQc1r4wIltI7+H9PNFTcUAeppArey+3xutqqU+v30WTPoQUlBrTkZXoA2QQZFgo+uHS ueqDzszNRljbIBxX7MbvuasxENZAobQMWzzQIpVZhqIdCVf5BWb3 X-Google-Smtp-Source: AGHT+IFbHG/u63mgrrQjVhrvfQB9m7m1vpqVXES+ExCsxjnPJMz5qtV2hFZMJjiNWvi1pxI4pk9VwgfTDkY8 X-Received: by 2002:a05:690c:2c01:b0:6f9:b144:34e6 with SMTP id 00721157ae682-6fbb798bcbamr43554307b3.13.1740111651849; Thu, 20 Feb 2025 20:20:51 -0800 (PST) Received: from postal.iol.unh.edu (postal.iol.unh.edu. [2606:4100:3880:1234::84]) by smtp-relay.gmail.com with ESMTPS id 00721157ae682-6fba467d12csm2184667b3.1.2025.02.20.20.20.51 (version=TLS1_2 cipher=ECDHE-ECDSA-AES128-GCM-SHA256 bits=128/128); Thu, 20 Feb 2025 20:20:51 -0800 (PST) X-Relaying-Domain: iol.unh.edu Date: Thu, 20 Feb 2025 20:20:51 -0800 (PST) Message-ID: <67b7ff23.050a0220.3b504a.aea8SMTPIN_ADDED_MISSING@mx.google.com> Received: from [172.21.0.9] (unknown [172.18.0.240]) by postal.iol.unh.edu (Postfix) with ESMTP id CCE946052472; Thu, 20 Feb 2025 23:20:42 -0500 (EST) Subject: |SUCCESS| pw151691-151705 [PATCH] [v9,15/15] devtools/cocci: add scr From: dpdklab@iol.unh.edu To: Test Report Cc: dpdk-test-reports@iol.unh.edu In-Reply-To: <20250220164151.9606-16-stephen@networkplumber.org> References: <20250220164151.9606-16-stephen@networkplumber.org> Content-Type: text/plain X-BeenThere: test-report@dpdk.org X-Mailman-Version: 2.1.29 Precedence: list List-Id: automatic DPDK test reports List-Unsubscribe: , List-Archive: List-Post: List-Help: List-Subscribe: , Errors-To: test-report-bounces@dpdk.org Test-Label: iol-sample-apps-testing Test-Status: SUCCESS http://dpdk.org/patch/151705 _Testing PASS_ Submitter: Stephen Hemminger Date: Thursday, February 20 2025 16:27:21 DPDK git baseline: Repo:dpdk Branch: master CommitID:fab31a03ba98e7457284df95dd9eef2223a4ccaa 151691-151705 --> testing pass Upstream job id: ACVP-FIPS-testing#8978 Test environment and result as below: +--------------------+----------------------+----------------------+ | Environment | compressdev_zlib_pmd | dpdk_fips_validation | +====================+======================+======================+ | Ubuntu 22.04 (ARM) | PASS | SKIPPED | +--------------------+----------------------+----------------------+ | Ubuntu 22.04 | PASS | SKIPPED | +--------------------+----------------------+----------------------+ | Ubuntu 20.04 | SKIPPED | PASS | +--------------------+----------------------+----------------------+ Ubuntu 22.04 (ARM) Kernel: 5.15.0-97-generic Compiler: gcc gcc (Ubuntu 11.4.0-1ubuntu1~22.04) 11.4.0 Ubuntu 22.04 Kernel: 5.15.0-100-generic Compiler: gcc gcc (Ubuntu 11.4.0-1ubuntu1~22.04) 11.4.0 Ubuntu 20.04 Kernel: Depends on container host Compiler: gcc (Ubuntu 9.4.0-1ubuntu1~20.04.2) 9.4.0 To view detailed results, visit: https://lab.dpdk.org/results/dashboard/patchsets/32624/ UNH-IOL DPDK Community Lab To manage your email subscriptions, visit: https://lab.dpdk.org/results/dashboard/preferences/subscriptions/