From mboxrd@z Thu Jan  1 00:00:00 1970
Return-Path: <test-report-bounces@dpdk.org>
Received: from mails.dpdk.org (mails.dpdk.org [217.70.189.124])
	by inbox.dpdk.org (Postfix) with ESMTP id 1890546284
	for <public@inbox.dpdk.org>; Fri, 21 Feb 2025 05:40:44 +0100 (CET)
Received: from mails.dpdk.org (localhost [127.0.0.1])
	by mails.dpdk.org (Postfix) with ESMTP id 1451540678;
	Fri, 21 Feb 2025 05:40:44 +0100 (CET)
Received: from mail-il1-f228.google.com (mail-il1-f228.google.com
 [209.85.166.228])
 by mails.dpdk.org (Postfix) with ESMTP id 1A2D14029A
 for <test-report@dpdk.org>; Fri, 21 Feb 2025 05:40:43 +0100 (CET)
Received: by mail-il1-f228.google.com with SMTP id
 e9e14a558f8ab-3cfe17f75dfso15216875ab.2
 for <test-report@dpdk.org>; Thu, 20 Feb 2025 20:40:43 -0800 (PST)
DKIM-Signature: v=1; a=rsa-sha256; c=relaxed/relaxed;
 d=iol.unh.edu; s=unh-iol; t=1740112842; x=1740717642; darn=dpdk.org;
 h=references:in-reply-to:cc:to:from:subject:message-id:date:from:to
 :cc:subject:date:message-id:reply-to;
 bh=FZ8i0Ps8dT/dvHyIXFebtMOiDVR5v3ieU28wX/XcrxM=;
 b=Urn3SXa+PaoIfp/1VH53vb4Y/EJF/Vx/PUs3TdmuFyv6B2IL4vVeBoX4F/jT+h4CZb
 VHkt89GHXmfYC7nvxstalGFkoHVL1hOaNzxlIlgdxJqRA1YSdR1YwCMjwMdJKVEdfKPE
 hcuMp+U8Z5IO+6wJO0TdoC08bgQEBodF6YmtU=
X-Google-DKIM-Signature: v=1; a=rsa-sha256; c=relaxed/relaxed;
 d=1e100.net; s=20230601; t=1740112842; x=1740717642;
 h=references:in-reply-to:cc:to:from:subject:message-id:date
 :x-gm-message-state:from:to:cc:subject:date:message-id:reply-to;
 bh=FZ8i0Ps8dT/dvHyIXFebtMOiDVR5v3ieU28wX/XcrxM=;
 b=ljqnQrTXWGZEEf10jRU74Sv1/rktI+V8QAS94T783AHM/t3e3FD2eNRe12MiTWachM
 sesZgasTfe6rUQzodm/YMItZKze/hGkiuyplGipgk8Z573LNrDAoL/5B2g3a/UNwfDGl
 Ds7hG6UkqR3cQDa+/akbmBgfrxDWpLqI2boYSHsiudA8PEO3S9QNu39dDv96VbqCAjiD
 ykTk5WrLjaLakLlonYFqeB1ZTEfRbmFMWXZCDqNBbj5OMsPmTFjXnGTb2iutICMcXkNt
 m5u4POIQE3WyVnZz5ttPZKxSTLHGRsD6gB+70Sc8YqFedXys7ZHz8xULvTKuE6SdJJGR
 yqdw==
X-Gm-Message-State: AOJu0Yz1JG3rn5+Z/B7sOKZVBwXDKbgLhjdBZSaCCN7xLgJkPZMeE2hG
 DFvsa2uJV4azUJR+zkbOINc6lK9lmpiNsWPoarXYGpRVedmHtodH9WN4UI+k7+iPef4lFhRR7Rf
 nUjNBFGX15xF00Ezb/XEK4iVKS9TzARq/NEqsb49tLrDwhCp9iADgASr5
X-Gm-Gg: ASbGncsrq7QbUy2ww6pvIKa3l4SQmtMqhAffLsNFsjSUzseN0uIEoxuayrcsgcnor+E
 icg+/5V898da1CgMxDgOFXjPxzxXbdOtIS9wp5yUe21XKpSkMLFnXAciL9G8hZto2eLICJUfb2B
 MEH1ZmHRcI06DAWPaQJzWCWU9IYt2clDfZZ5/fLFWpxEQRObpcDh7JI6szTaoo26OA+LgUC8aJJ
 74PNupjgu5IWLBaP/j35t7Gc+nmLMbt8v8fVHr8YIPIbrB/HFIPws/ecNqL6X9HMEeFvq83E43o
 e0oeXk8BUTCb9BqMUXy6KsPOiCIC7G7p/50vW5eyBfYobtk+NaWr
X-Google-Smtp-Source: AGHT+IFsiDlKpRjAxeqwBsd2c6McnuNJKX+d1767O2vomXa3OdCgab37nTHuEUUob0FZ0y9ncErOrvyhuZKj
X-Received: by 2002:a05:6e02:12e5:b0:3d0:fe8:607e with SMTP id
 e9e14a558f8ab-3d2cb51e0c4mr11916195ab.14.1740112842402; 
 Thu, 20 Feb 2025 20:40:42 -0800 (PST)
Received: from postal.iol.unh.edu (postal.iol.unh.edu.
 [2606:4100:3880:1234::84]) by smtp-relay.gmail.com with ESMTPS id
 8926c6da1cb9f-4eec28908fcsm268750173.0.2025.02.20.20.40.42
 (version=TLS1_2 cipher=ECDHE-ECDSA-AES128-GCM-SHA256 bits=128/128);
 Thu, 20 Feb 2025 20:40:42 -0800 (PST)
X-Relaying-Domain: iol.unh.edu
Date: Thu, 20 Feb 2025 20:40:42 -0800 (PST)
Message-ID: <67b803ca.050a0220.190857.e0c7SMTPIN_ADDED_MISSING@mx.google.com>
Received: from [172.21.0.5] (unknown [172.18.0.240])
 by postal.iol.unh.edu (Postfix) with ESMTP id DCA9A6052471;
 Thu, 20 Feb 2025 23:40:33 -0500 (EST)
Subject: |SUCCESS| pw151732-151734 [PATCH] [v4,10/10] app: enable app directo
From: dpdklab@iol.unh.edu
To: Test Report <test-report@dpdk.org>
Cc: dpdk-test-reports@iol.unh.edu
In-Reply-To: <1740087064-18680-11-git-send-email-andremue@linux.microsoft.com>
References: <1740087064-18680-11-git-send-email-andremue@linux.microsoft.com>
Content-Type: text/plain
X-BeenThere: test-report@dpdk.org
X-Mailman-Version: 2.1.29
Precedence: list
List-Id: automatic DPDK test reports <test-report.dpdk.org>
List-Unsubscribe: <https://mails.dpdk.org/options/test-report>,
 <mailto:test-report-request@dpdk.org?subject=unsubscribe>
List-Archive: <http://mails.dpdk.org/archives/test-report/>
List-Post: <mailto:test-report@dpdk.org>
List-Help: <mailto:test-report-request@dpdk.org?subject=help>
List-Subscribe: <https://mails.dpdk.org/listinfo/test-report>,
 <mailto:test-report-request@dpdk.org?subject=subscribe>
Errors-To: test-report-bounces@dpdk.org

Test-Label: iol-compile-amd64-testing
Test-Status: SUCCESS
http://dpdk.org/patch/151734

_Testing PASS_

Submitter: Andre Muezerie <andremue@linux.microsoft.com>
Date: Thursday, February 20 2025 21:31:04 
DPDK git baseline: Repo:dpdk
  Branch: master
  CommitID:fab31a03ba98e7457284df95dd9eef2223a4ccaa

151732-151734 --> testing pass

Upstream job id: Generic-DPDK-Compile-Meson#363720

Test environment and result as below:

+-------------------+--------------------+-------------------+------------------+
|    Environment    | dpdk_meson_compile | dpdk_compile_spdk | dpdk_compile_ovs |
+===================+====================+===================+==================+
| CentOS Stream 9   | PASS               | PASS              | SKIPPED          |
+-------------------+--------------------+-------------------+------------------+
| CentOS Stream 10  | PASS               | SKIPPED           | SKIPPED          |
+-------------------+--------------------+-------------------+------------------+
| Debian Bullseye   | PASS               | PASS              | SKIPPED          |
+-------------------+--------------------+-------------------+------------------+
| Fedora 40 (Clang) | PASS               | PASS              | SKIPPED          |
+-------------------+--------------------+-------------------+------------------+
| Fedora 41 (Clang) | PASS               | PASS              | PASS             |
+-------------------+--------------------+-------------------+------------------+
| Fedora 40         | PASS               | PASS              | SKIPPED          |
+-------------------+--------------------+-------------------+------------------+
| Debian 12         | PASS               | PASS              | SKIPPED          |
+-------------------+--------------------+-------------------+------------------+
| Fedora 41         | PASS               | PASS              | PASS             |
+-------------------+--------------------+-------------------+------------------+
| Ubuntu 22.04      | PASS               | PASS              | SKIPPED          |
+-------------------+--------------------+-------------------+------------------+
| openSUSE Leap 15  | PASS               | SKIPPED           | SKIPPED          |
+-------------------+--------------------+-------------------+------------------+
| RHEL8             | PASS               | SKIPPED           | SKIPPED          |
+-------------------+--------------------+-------------------+------------------+
| Ubuntu 20.04      | PASS               | SKIPPED           | SKIPPED          |
+-------------------+--------------------+-------------------+------------------+
| Ubuntu 24.04      | PASS               | PASS              | PASS             |
+-------------------+--------------------+-------------------+------------------+
| Alpine            | PASS               | SKIPPED           | SKIPPED          |
+-------------------+--------------------+-------------------+------------------+
| FreeBSD 13.4      | PASS               | SKIPPED           | SKIPPED          |
+-------------------+--------------------+-------------------+------------------+
| FreeBSD 14.2      | PASS               | SKIPPED           | SKIPPED          |
+-------------------+--------------------+-------------------+------------------+
| RHEL9             | PASS               | SKIPPED           | SKIPPED          |
+-------------------+--------------------+-------------------+------------------+


CentOS Stream 9
	Kernel: Depends on container host
	Compiler: gcc 11.5.0 20240719 (Red Hat 11.5.0-2)

CentOS Stream 10
	Kernel: Depends on container host
	Compiler: gcc 14.2.1 20241104 (Red Hat 14.2.1-6)

Debian Bullseye
	Kernel: Depends on container host
	Compiler: gcc (Debian 10.2.1-6) 10.2.1 20210110

Fedora 40 (Clang)
	Kernel: Depends on container host
	Compiler: clang 18.1.8 (Fedora 18.1.8-1.fc40)

Fedora 41 (Clang)
	Kernel: Depends on container host
	Compiler: clang 19.1.5 (Fedora 19.1.5-1.fc41)

Fedora 40
	Kernel: Depends on container host
	Compiler: gcc 14.2.1 20240912 (Red Hat 14.2.1-3)

Debian 12
	Kernel: Depends on container host
	Compiler: gcc (Debian 12.2.0-14) 12.2.0

Fedora 41
	Kernel: Depends on container host
	Compiler: gcc 14.2.1 20240912 (Red Hat 14.2.1-3)

Ubuntu 22.04
	Kernel: Depends on container host
	Compiler: gcc (Ubuntu 11.4.0-1ubuntu1~22.04) 11.4.0

openSUSE Leap 15
	Kernel: Depends on container host
	Compiler: gcc (SUSE Linux) 7.5.0

RHEL8
	Kernel: Depends on container host
	Compiler: gcc 8.5.0 20210514 (Red Hat 8.5.0-22)

Ubuntu 20.04
	Kernel: Depends on container host
	Compiler: gcc (Ubuntu 9.4.0-1ubuntu1~20.04.2) 9.4.0

Ubuntu 24.04
	Kernel: Depends on container host
	Compiler: gcc (Ubuntu 13.3.0-6ubuntu2~24.04) 13.3.0

Alpine
	Kernel: Depends on container host
	Compiler: gcc (Alpine 14.2.0) 14.2.0

FreeBSD 13.4
	Kernel: 13.4-RELEASE-p1
	Compiler: clang 18.1.6

FreeBSD 14.2
	Kernel: 14.2-RELEASE
	Compiler: clang 18.1.6

RHEL9
	Kernel: Depends on container host
	Compiler: gcc 11.5.0 20240719 (Red Hat 11.5.0-2)

To view detailed results, visit:
https://lab.dpdk.org/results/dashboard/patchsets/32629/

UNH-IOL DPDK Community Lab

To manage your email subscriptions, visit: 
https://lab.dpdk.org/results/dashboard/preferences/subscriptions/