From mboxrd@z Thu Jan  1 00:00:00 1970
Return-Path: <test-report-bounces@dpdk.org>
Received: from mails.dpdk.org (mails.dpdk.org [217.70.189.124])
	by inbox.dpdk.org (Postfix) with ESMTP id 3928F46284
	for <public@inbox.dpdk.org>; Fri, 21 Feb 2025 05:56:18 +0100 (CET)
Received: from mails.dpdk.org (localhost [127.0.0.1])
	by mails.dpdk.org (Postfix) with ESMTP id 0DE6540678;
	Fri, 21 Feb 2025 05:56:18 +0100 (CET)
Received: from mail-pl1-f225.google.com (mail-pl1-f225.google.com
 [209.85.214.225])
 by mails.dpdk.org (Postfix) with ESMTP id 1F4C94029A
 for <test-report@dpdk.org>; Fri, 21 Feb 2025 05:56:16 +0100 (CET)
Received: by mail-pl1-f225.google.com with SMTP id
 d9443c01a7336-220bff984a0so32562665ad.3
 for <test-report@dpdk.org>; Thu, 20 Feb 2025 20:56:16 -0800 (PST)
DKIM-Signature: v=1; a=rsa-sha256; c=relaxed/relaxed;
 d=iol.unh.edu; s=unh-iol; t=1740113775; x=1740718575; darn=dpdk.org;
 h=references:in-reply-to:cc:to:from:subject:message-id:date:from:to
 :cc:subject:date:message-id:reply-to;
 bh=5VuWKjYoS6uIAiWiaF8Kc9mhXlZlttoY9Tosv42sYZA=;
 b=ObGEu7Za5ntzztGTnQw0AUZSUWYWZChzDgu2HbAS6gGIoEIHnE92Jtwme9W8OWwvfs
 eE68r9mw8GkcMFF2ULbC7UQoLSNYAlPTURKmmRMZmIBujI7LipscXl20jTMQH25RvxL9
 uCaRSl5AafDRIInTodPkbSqv8mC7BHrRdPlTY=
X-Google-DKIM-Signature: v=1; a=rsa-sha256; c=relaxed/relaxed;
 d=1e100.net; s=20230601; t=1740113775; x=1740718575;
 h=references:in-reply-to:cc:to:from:subject:message-id:date
 :x-gm-message-state:from:to:cc:subject:date:message-id:reply-to;
 bh=5VuWKjYoS6uIAiWiaF8Kc9mhXlZlttoY9Tosv42sYZA=;
 b=rS+yenHmjQ5oQuBOMd31iP5jPw/lylKITHn0Fk36SheheX1O/04xIexVP46tWYKCcA
 beiroigFVMdg82WzQiJhxfV93TzcOFN3XWgjbwK/LbZyjl0vGuD8cYGTGMudvufKWTNM
 UWPLprZLBkKAeV5icaeOWZWL0zprZDqod17iUv8YzYwfkSsTcGrILmLQYY4LEOPyN3o1
 G8jBm11nv2vhgvgcZZFAwpyiR4GwhJRwWrtPYCfHGE3P3Libe8MO/Azwt4k84DF6MfLk
 i1tDPNaQh0yiB7mZqYiQsFK9z5jpxw1KImty9iNAgnoeJjGDUVBRmFwROtl6fx3I+7Kf
 CeWw==
X-Gm-Message-State: AOJu0YzkjDtqOco8bNltHnDJiaJq0akSCnfeuZR0hKd0TFlDed6idB4w
 3fULAxSZbbG/Gc/f7Is+hEGBCfz90HhCWJ+gITGpk8qTQ5RQu4Ox0LF5TGO7yP6kUPg4JvlrNRv
 QwT3wP14T8rEhjixbDQ+Ce19cw4xFRGdsljP9FUyU
X-Gm-Gg: ASbGncstqH6TzWSTAhsLvWlFCTSAFCUe/lKHdsLMQAYwo4sVUq2AB+XuNpFez+7FSPN
 3SA7d6Ty7ulfZgNgHNlrQL/b15uQiJLXOmKDVpYUC5ZrCg3bJJjov04Isi7y3AYb0eeN+pSUZUS
 FXagwjHtWhQVCn6YsrXJzYHUx1rYGuLY+onwmx7lsBfCE19PFx27E0dHkyHGIT2qb0EYQJo2wEW
 CytBzMFNXmo3F+jfu5IMybuYQqTVES2MIhZaE3Rzx9lTDgT57btrGW3SGFH1MqFu87XGanLSr9n
 qoq0TSEf/6Jg161x1TcooEtGhAb8GVMOx6pHoZSh
X-Google-Smtp-Source: AGHT+IHqwwp7tPotVqI5Ab90hErymv9NRF7QB012agPJhLSDGaOVSdiBjzLGw1QRiVAB0nITM1dScOnrPtjK
X-Received: by 2002:a05:6a21:730a:b0:1ee:e20f:f161 with SMTP id
 adf61e73a8af0-1eef3dc6819mr4190331637.34.1740113775238; 
 Thu, 20 Feb 2025 20:56:15 -0800 (PST)
Received: from postal.iol.unh.edu (postal.iol.unh.edu. [132.177.123.84])
 by smtp-relay.gmail.com with ESMTPS id
 d2e1a72fcca58-7325cafb940sm1013426b3a.9.2025.02.20.20.56.15
 (version=TLS1_2 cipher=ECDHE-ECDSA-AES128-GCM-SHA256 bits=128/128);
 Thu, 20 Feb 2025 20:56:15 -0800 (PST)
X-Relaying-Domain: iol.unh.edu
Date: Thu, 20 Feb 2025 20:56:15 -0800 (PST)
Message-ID: <67b8076f.050a0220.883d8.187cSMTPIN_ADDED_MISSING@mx.google.com>
Received: from [172.21.0.5] (unknown [172.18.0.240])
 by postal.iol.unh.edu (Postfix) with ESMTP id 6F37E6052471;
 Thu, 20 Feb 2025 23:56:05 -0500 (EST)
Subject: |SUCCESS| pw151772 [PATCH] [v3] net/mana: use mana_local_data for tr
From: dpdklab@iol.unh.edu
To: Test Report <test-report@dpdk.org>
Cc: dpdk-test-reports@iol.unh.edu
In-Reply-To: <1740094322-10919-1-git-send-email-longli@linuxonhyperv.com>
References: <1740094322-10919-1-git-send-email-longli@linuxonhyperv.com>
Content-Type: text/plain
X-BeenThere: test-report@dpdk.org
X-Mailman-Version: 2.1.29
Precedence: list
List-Id: automatic DPDK test reports <test-report.dpdk.org>
List-Unsubscribe: <https://mails.dpdk.org/options/test-report>,
 <mailto:test-report-request@dpdk.org?subject=unsubscribe>
List-Archive: <http://mails.dpdk.org/archives/test-report/>
List-Post: <mailto:test-report@dpdk.org>
List-Help: <mailto:test-report-request@dpdk.org?subject=help>
List-Subscribe: <https://mails.dpdk.org/listinfo/test-report>,
 <mailto:test-report-request@dpdk.org?subject=subscribe>
Errors-To: test-report-bounces@dpdk.org

Test-Label: iol-unit-amd64-testing
Test-Status: SUCCESS
http://dpdk.org/patch/151772

_Testing PASS_

Submitter: Long Li <longli@linuxonhyperv.com>
Date: Thursday, February 20 2025 23:32:02 
DPDK git baseline: Repo:dpdk
  Branch: master
  CommitID:3497d187f963e5fddca607637f6a42b8b944fa49

151772 --> testing pass

Upstream job id: Generic-VM-Unit-Test-DPDK#27302

Test environment and result as below:

+---------------------+----------------+
|     Environment     | dpdk_unit_test |
+=====================+================+
| Debian 12           | PASS           |
+---------------------+----------------+
| CentOS Stream 9     | PASS           |
+---------------------+----------------+
| CentOS Stream 10    | PASS           |
+---------------------+----------------+
| Fedora 40           | PASS           |
+---------------------+----------------+
| Fedora 41           | PASS           |
+---------------------+----------------+
| Fedora 40 (Clang)   | PASS           |
+---------------------+----------------+
| Debian Bullseye     | PASS           |
+---------------------+----------------+
| RHEL8               | PASS           |
+---------------------+----------------+
| RHEL9               | PASS           |
+---------------------+----------------+
| Fedora 41 (Clang)   | PASS           |
+---------------------+----------------+
| Ubuntu 20.04        | PASS           |
+---------------------+----------------+
| Ubuntu 22.04        | PASS           |
+---------------------+----------------+
| Ubuntu 24.04        | PASS           |
+---------------------+----------------+
| Windows Server 2022 | PASS           |
+---------------------+----------------+


Debian 12
	Kernel: Depends on container host
	Compiler: gcc (Debian 12.2.0-14) 12.2.0

CentOS Stream 9
	Kernel: Depends on container host
	Compiler: gcc 11.5.0 20240719 (Red Hat 11.5.0-2)

CentOS Stream 10
	Kernel: Depends on container host
	Compiler: gcc 14.2.1 20241104 (Red Hat 14.2.1-6)

Fedora 40
	Kernel: Depends on container host
	Compiler: gcc 14.2.1 20240912 (Red Hat 14.2.1-3)

Fedora 41
	Kernel: Depends on container host
	Compiler: gcc 14.2.1 20240912 (Red Hat 14.2.1-3)

Fedora 40 (Clang)
	Kernel: Depends on container host
	Compiler: clang 18.1.8 (Fedora 18.1.8-1.fc40)

Debian Bullseye
	Kernel: Depends on container host
	Compiler: gcc (Debian 10.2.1-6) 10.2.1 20210110

RHEL8
	Kernel: Depends on container host
	Compiler: gcc 8.5.0 20210514 (Red Hat 8.5.0-22)

RHEL9
	Kernel: Depends on container host
	Compiler: gcc 11.5.0 20240719 (Red Hat 11.5.0-2)

Fedora 41 (Clang)
	Kernel: Depends on container host
	Compiler: clang 19.1.5 (Fedora 19.1.5-1.fc41)

Ubuntu 20.04
	Kernel: Depends on container host
	Compiler: gcc (Ubuntu 9.4.0-1ubuntu1~20.04.2) 9.4.0

Ubuntu 22.04
	Kernel: Depends on container host
	Compiler: gcc (Ubuntu 11.4.0-1ubuntu1~22.04) 11.4.0

Ubuntu 24.04
	Kernel: Depends on container host
	Compiler: gcc (Ubuntu 13.3.0-6ubuntu2~24.04) 13.3.0

Windows Server 2022
	Kernel: 10.0.20348.2031
	Compiler: clang 15.0.7, gcc 14.1.0 (MinGW), and MSVC VS 19.39.33521

To view detailed results, visit:
https://lab.dpdk.org/results/dashboard/patchsets/32632/

UNH-IOL DPDK Community Lab

To manage your email subscriptions, visit: 
https://lab.dpdk.org/results/dashboard/preferences/subscriptions/