From mboxrd@z Thu Jan 1 00:00:00 1970 Return-Path: Received: from mails.dpdk.org (mails.dpdk.org [217.70.189.124]) by inbox.dpdk.org (Postfix) with ESMTP id 2F59346284 for ; Fri, 21 Feb 2025 05:56:22 +0100 (CET) Received: from mails.dpdk.org (localhost [127.0.0.1]) by mails.dpdk.org (Postfix) with ESMTP id 2BC2E40678; Fri, 21 Feb 2025 05:56:22 +0100 (CET) Received: from mail-yw1-f226.google.com (mail-yw1-f226.google.com [209.85.128.226]) by mails.dpdk.org (Postfix) with ESMTP id 2F9734029A for ; Fri, 21 Feb 2025 05:56:19 +0100 (CET) Received: by mail-yw1-f226.google.com with SMTP id 00721157ae682-6f4bc408e49so14761007b3.1 for ; Thu, 20 Feb 2025 20:56:19 -0800 (PST) DKIM-Signature: v=1; a=rsa-sha256; c=relaxed/relaxed; d=iol.unh.edu; s=unh-iol; t=1740113778; x=1740718578; darn=dpdk.org; h=references:in-reply-to:cc:to:from:subject:message-id:date:from:to :cc:subject:date:message-id:reply-to; bh=3Qqz4TFH8y4CSg80r07vLVagOS9crqTehSvXilivRp4=; b=iwJVadSre3KMOLeuA/bA+zTuVIVH9hj+sJrthNQQ9NZvX19/xtB0bcYNMkzrDO1Kb4 RjtujG/CW+TJuqcVYjI1bu91hQmuuEu1guUR80PgBy4tx/J8NMCVGJGxCrZ4kptgWo55 ArA2b5jkvIvpLbDBDTlS0vr/eg3vLYTZ//ANc= X-Google-DKIM-Signature: v=1; a=rsa-sha256; c=relaxed/relaxed; d=1e100.net; s=20230601; t=1740113778; x=1740718578; h=references:in-reply-to:cc:to:from:subject:message-id:date :x-gm-message-state:from:to:cc:subject:date:message-id:reply-to; bh=3Qqz4TFH8y4CSg80r07vLVagOS9crqTehSvXilivRp4=; b=J7COshVIuI9s3RuMZ2HHoGT7wZTF1DO3NVDgOLn/XAwNcjppNjRjb9CEC+8pFBQP8f BmLFGhv0nHLDk1VNLnvN7VRleuqZCAJbLZ1mSVNorAMO+jaZ903WcF39mNdDvWb5xL0r iHq3ouIR+a4afcBkTIxmHdqNy5E4X/1gQ6IiKhH3gL98rRr3zDjaRa322Ed7O/2YI1b2 E/Sfx0qbsx6UHhLWIM671sie8d7g4gOuD7+NCBHQ3jrb4zHPEGta4R1Tk4OjT4HlRwSN DX0XypjbtVDC29RNgKtU22dZ0EGrX6fM1qwMXgHEgad9mfApOrg4hS2FDXSEqEka+B5c IEPQ== X-Gm-Message-State: AOJu0YxTbXnuKDR4jdObBuFoiZaEjmcPUtdDOHxwuc9qhmXvDwH+kNB6 xB9hvCrQ7svKPWq3AlKfBcjJAx99KiZ+TIW+TEOLbHA8Zl++ydYfHIJWoXFudumntG42r/q2rhk nBficx+r2+KvV4HScKIgnae3IQwQT8WAnx9KjVd0+ X-Gm-Gg: ASbGncsOkvMFHwKWTrVbM7fYnJyYBZq4GPb/Hh0Vv/huVWx6DlX7e6TCsMGuXDR9hDw BVLmdMYBgM6JmSemGAyp5G5V8gwdvVId3UKf3GwMCL7n1r1Wji5C2MUBuMKzcSVZ94HHPObodIV 5qO+y/YFV+EtpDEGRlq8piNVdps3UYzETkMvcm48ymAmm8taiza7uUrSfQ0Y4LzIMGmxbEqxWLx ncWHp7QkNg/6VmJm48uBzAPR6Q0eJdw3ZgqLUc1kHtjSaBfYqyYGVWOR0QpMYA9G0Aav3iCVKLy psDSH3uyWBzcFlNBPWVY+GW7b+M2Q7gWXLIy5lHX X-Google-Smtp-Source: AGHT+IGX/ZinaLSF71FXWjf/9xO+ptUdAeujOvcw5Y5UKYJ7i37iGz98ifEEsRypf+kzC8/WSn5uUF0YsP5z X-Received: by 2002:a05:690c:d1d:b0:6fb:968b:d8f6 with SMTP id 00721157ae682-6fbcc3a4eccmr15670957b3.33.1740113778382; Thu, 20 Feb 2025 20:56:18 -0800 (PST) Received: from postal.iol.unh.edu (postal.iol.unh.edu. [132.177.123.84]) by smtp-relay.gmail.com with ESMTPS id 00721157ae682-6fb35f65d33sm5147457b3.41.2025.02.20.20.56.18 (version=TLS1_2 cipher=ECDHE-ECDSA-AES128-GCM-SHA256 bits=128/128); Thu, 20 Feb 2025 20:56:18 -0800 (PST) X-Relaying-Domain: iol.unh.edu Date: Thu, 20 Feb 2025 20:56:18 -0800 (PST) Message-ID: <67b80772.050a0220.2d9a34.9ef3SMTPIN_ADDED_MISSING@mx.google.com> Received: from [172.21.0.8] (unknown [172.18.0.240]) by postal.iol.unh.edu (Postfix) with ESMTP id 8BF5F6052472; Thu, 20 Feb 2025 23:56:14 -0500 (EST) Subject: |SUCCESS| pw151772 [PATCH] [v3] net/mana: use mana_local_data for tr From: dpdklab@iol.unh.edu To: Test Report Cc: dpdk-test-reports@iol.unh.edu In-Reply-To: <1740094322-10919-1-git-send-email-longli@linuxonhyperv.com> References: <1740094322-10919-1-git-send-email-longli@linuxonhyperv.com> Content-Type: text/plain X-BeenThere: test-report@dpdk.org X-Mailman-Version: 2.1.29 Precedence: list List-Id: automatic DPDK test reports List-Unsubscribe: , List-Archive: List-Post: List-Help: List-Subscribe: , Errors-To: test-report-bounces@dpdk.org Test-Label: iol-unit-arm64-testing Test-Status: SUCCESS http://dpdk.org/patch/151772 _Testing PASS_ Submitter: Long Li Date: Thursday, February 20 2025 23:32:02 DPDK git baseline: Repo:dpdk Branch: master CommitID:3497d187f963e5fddca607637f6a42b8b944fa49 151772 --> testing pass Upstream job id: Generic-Unit-Test-DPDK#316873 Test environment and result as below: +-----------------------------+----------------+---------------------------+--------------+------------------------------+ | Environment | dpdk_unit_test | cryptodev_sw_zuc_autotest | lpm_autotest | cryptodev_sw_snow3g_autotest | +=============================+================+===========================+==============+==============================+ | CentOS Stream 10 (ARM) | PASS | SKIPPED | SKIPPED | SKIPPED | +-----------------------------+----------------+---------------------------+--------------+------------------------------+ | 32-bit Ubuntu 22.04.4 (ARM) | PASS | SKIPPED | SKIPPED | SKIPPED | +-----------------------------+----------------+---------------------------+--------------+------------------------------+ | Fedora 40 (ARM Clang) | PASS | SKIPPED | SKIPPED | SKIPPED | +-----------------------------+----------------+---------------------------+--------------+------------------------------+ | Debian 12 (arm) | PASS | PASS | SKIPPED | PASS | +-----------------------------+----------------+---------------------------+--------------+------------------------------+ | CentOS Stream 9 (ARM) | PASS | SKIPPED | SKIPPED | SKIPPED | +-----------------------------+----------------+---------------------------+--------------+------------------------------+ | Debian 11 (Buster) (ARM) | PASS | SKIPPED | SKIPPED | SKIPPED | +-----------------------------+----------------+---------------------------+--------------+------------------------------+ | Fedora 40 (ARM) | PASS | SKIPPED | SKIPPED | SKIPPED | +-----------------------------+----------------+---------------------------+--------------+------------------------------+ | Fedora 41 (ARM Clang) | PASS | SKIPPED | SKIPPED | SKIPPED | +-----------------------------+----------------+---------------------------+--------------+------------------------------+ | RHEL9 (ARM) | PASS | SKIPPED | SKIPPED | SKIPPED | +-----------------------------+----------------+---------------------------+--------------+------------------------------+ | Fedora 41 (ARM) | PASS | SKIPPED | SKIPPED | SKIPPED | +-----------------------------+----------------+---------------------------+--------------+------------------------------+ | Ubuntu 20.04 (ARM) | PASS | SKIPPED | SKIPPED | SKIPPED | +-----------------------------+----------------+---------------------------+--------------+------------------------------+ | Ubuntu 22.04 (ARM) | PASS | SKIPPED | SKIPPED | SKIPPED | +-----------------------------+----------------+---------------------------+--------------+------------------------------+ | Ubuntu 24.04 (ARM) | PASS | SKIPPED | SKIPPED | SKIPPED | +-----------------------------+----------------+---------------------------+--------------+------------------------------+ | Ubuntu 20.04 ARM SVE | SKIPPED | SKIPPED | PASS | SKIPPED | +-----------------------------+----------------+---------------------------+--------------+------------------------------+ CentOS Stream 10 (ARM) Kernel: Depends on container host Compiler: gcc 14.2.1 20241104 (Red Hat 14.2.1-6) 32-bit Ubuntu 22.04.4 (ARM) Kernel: 5.15.83+ aarch64 Compiler: gcc (Ubuntu 11.4.0-1ubuntu1~22.04) 11.4.0 Fedora 40 (ARM Clang) Kernel: Depends on container host Compiler: clang 18.1.8 (Fedora 18.1.8-1.fc40) Debian 12 (arm) Kernel: Depends on container host Compiler: gcc (Debian 12.2.0-14) 12.2.0 CentOS Stream 9 (ARM) Kernel: Depends on container host Compiler: gcc 11.5.0 20240719 (Red Hat 11.5.0-2) Debian 11 (Buster) (ARM) Kernel: Depends on container host Compiler: gcc (Debian 10.2.1-6) 10.2.1 20210110 Fedora 40 (ARM) Kernel: Depends on container host Compiler: gcc 14.2.1 20240912 (Red Hat 14.2.1-3) Fedora 41 (ARM Clang) Kernel: Depends on container host Compiler: clang 19.1.5 (Fedora 19.1.5-1.fc41) RHEL9 (ARM) Kernel: Depends on container host Compiler: gcc 11.5.0 20240719 (Red Hat 11.5.0-2) Fedora 41 (ARM) Kernel: Depends on container host Compiler: gcc 14.2.1 20240912 (Red Hat 14.2.1-3) Ubuntu 20.04 (ARM) Kernel: Depends on container host Compiler: gcc (Ubuntu 9.4.0-1ubuntu1~20.04.2) 9.4.0 Ubuntu 22.04 (ARM) Kernel: Depends on container host Compiler: gcc (Ubuntu 11.4.0-1ubuntu1~22.04) 11.4.0 Ubuntu 24.04 (ARM) Kernel: Depends on container host Compiler: gcc (Ubuntu 13.3.0-6ubuntu2~24.04) 13.3.0 Ubuntu 20.04 ARM SVE Kernel: Depends on container host Compiler: gcc (Ubuntu 10.5.0-1ubuntu1~20.04) 10.5.0 To view detailed results, visit: https://lab.dpdk.org/results/dashboard/patchsets/32632/ UNH-IOL DPDK Community Lab To manage your email subscriptions, visit: https://lab.dpdk.org/results/dashboard/preferences/subscriptions/