From mboxrd@z Thu Jan 1 00:00:00 1970 Return-Path: Received: from mails.dpdk.org (mails.dpdk.org [217.70.189.124]) by inbox.dpdk.org (Postfix) with ESMTP id 6B93F46286 for ; Fri, 21 Feb 2025 06:10:09 +0100 (CET) Received: from mails.dpdk.org (localhost [127.0.0.1]) by mails.dpdk.org (Postfix) with ESMTP id 4FD9640678; Fri, 21 Feb 2025 06:10:09 +0100 (CET) Received: from mail-qv1-f99.google.com (mail-qv1-f99.google.com [209.85.219.99]) by mails.dpdk.org (Postfix) with ESMTP id A041A4029A for ; Fri, 21 Feb 2025 06:10:07 +0100 (CET) Received: by mail-qv1-f99.google.com with SMTP id 6a1803df08f44-6e65a00556aso14001556d6.3 for ; Thu, 20 Feb 2025 21:10:07 -0800 (PST) DKIM-Signature: v=1; a=rsa-sha256; c=relaxed/relaxed; d=iol.unh.edu; s=unh-iol; t=1740114607; x=1740719407; darn=dpdk.org; h=references:in-reply-to:cc:to:from:subject:message-id:date:from:to :cc:subject:date:message-id:reply-to; bh=SlnZWqC7QdhwbeR/fTi5qdK1zRlcnNv7akuaz8ZAvsg=; b=aSwDvqLKf6ShhxYOizmiVvVoqyThhp8KEmFMToQm8QisKt2HIh2CZALFJ2+31R+KqX zBcNm6uyHb96OW5WVbNgRL87WpDq1mgWu1dL+IFXo/TciL9bDOc0XBY0s1+G3h3U2urH LaHTvqWXZgHameRoemNKHnlpfVhnGnVKqZjzQ= X-Google-DKIM-Signature: v=1; a=rsa-sha256; c=relaxed/relaxed; d=1e100.net; s=20230601; t=1740114607; x=1740719407; h=references:in-reply-to:cc:to:from:subject:message-id:date :x-gm-message-state:from:to:cc:subject:date:message-id:reply-to; bh=SlnZWqC7QdhwbeR/fTi5qdK1zRlcnNv7akuaz8ZAvsg=; b=pcPzCyZbhOLmJcNClmJw6HimxrstOdK3gyaedEW1eoH1PoSKR4wPSIs9hra4tnkmkC pqhHDrqh55ZVuNhFtASUJBShYdhq32TR2dKolPIFuI23E9QT7zpeEtIJPZrmHrObsU2c Nx9soEh3mG4N2/ySiCpFggkYrKz3VjcqsX2qyFIB3M6HZK6CTrMKPFb1C94mSLVPKKfY 2i3PpwP15MJmoyWUKImkc4cAXa5/OsZuNZ05Wt3vb2lAyFSekSsExi9sOhvfWlWbbEMw of7A5VpnL/4rnVQbSB2uetsozLROQewSucWjOGEPcCc6M88dsCkA3Bwhnc/hvIoLTNOe uauA== X-Gm-Message-State: AOJu0YxA+SM2Z70JCjoPjUNf5YQ+YFLVKXmDUqNzZ/M12MChsAtY9s6P eleRxrNI7tj5GUcE2TPOH+aUng8TkkThHlhOJ1ENnWXCPR3ZwcJed2IFv24B3J6gvShFeUed416 kfw1t4E1kHgLRNd5W1dUYdAypw6R8Eun/Td7nv7eu2jYOeCvbtkIQsw/E X-Gm-Gg: ASbGncsWv/YKJk2UBX3xWIP8Jpcynsv33eN8Hm0ueBrLx0aPkLIEefG2n15wtVpo44i HyaSqjirWmK6G1VqlS4xdAW1r2eHEJbBUBzmdFSpUQQ9BhSq8uT8HedHDBN+RZzaXBWCVld/wL1 QTABCMjQKEO1NT5/nf548K09a2P9k+4ek0WJhEjHmEs33SOI6j35BaNpmjeaBum9HBJ3Sumiilq Kzvh2cQb6aZpRI5kKi093EU+dmRpoOYL2Wvryiw5plFpai6mHrqba1nQ77TVdwAmgV2lCkO5dON nDaTt8YHi+8zIgWAh+EEigW5H4wPnyacL/xg+JklTpu4ZHAZNMaA X-Google-Smtp-Source: AGHT+IERzeCPnbB5gwoqtpFm4sulBoIQ2WxA+ZnD3znyD7ws/igkGX5Ar7pt2x7W1unlwLlKJBQXwXJAVT0g X-Received: by 2002:ad4:5942:0:b0:6e6:5ec3:868e with SMTP id 6a1803df08f44-6e6ae9be0c2mr27416676d6.31.1740114606962; Thu, 20 Feb 2025 21:10:06 -0800 (PST) Received: from postal.iol.unh.edu (postal.iol.unh.edu. [2606:4100:3880:1234::84]) by smtp-relay.gmail.com with ESMTPS id 6a1803df08f44-6e697edb784sm1996236d6.53.2025.02.20.21.10.06 (version=TLS1_2 cipher=ECDHE-ECDSA-AES128-GCM-SHA256 bits=128/128); Thu, 20 Feb 2025 21:10:06 -0800 (PST) X-Relaying-Domain: iol.unh.edu Date: Thu, 20 Feb 2025 21:10:06 -0800 (PST) Message-ID: <67b80aae.050a0220.16e47d.a331SMTPIN_ADDED_MISSING@mx.google.com> Received: from [172.21.0.7] (unknown [172.18.0.240]) by postal.iol.unh.edu (Postfix) with ESMTP id AC1F56052471; Fri, 21 Feb 2025 00:10:03 -0500 (EST) Subject: |SUCCESS| pw151772 [PATCH] [v3] net/mana: use mana_local_data for tr From: dpdklab@iol.unh.edu To: Test Report Cc: dpdk-test-reports@iol.unh.edu In-Reply-To: <1740094322-10919-1-git-send-email-longli@linuxonhyperv.com> References: <1740094322-10919-1-git-send-email-longli@linuxonhyperv.com> Content-Type: text/plain X-BeenThere: test-report@dpdk.org X-Mailman-Version: 2.1.29 Precedence: list List-Id: automatic DPDK test reports List-Unsubscribe: , List-Archive: List-Post: List-Help: List-Subscribe: , Errors-To: test-report-bounces@dpdk.org Test-Label: iol-compile-amd64-testing Test-Status: SUCCESS http://dpdk.org/patch/151772 _Testing PASS_ Submitter: Long Li Date: Thursday, February 20 2025 23:32:02 DPDK git baseline: Repo:dpdk Branch: master CommitID:3497d187f963e5fddca607637f6a42b8b944fa49 151772 --> testing pass Upstream job id: Generic-DPDK-Compile-Meson#363746 Test environment and result as below: +-------------------+--------------------+-------------------+------------------+ | Environment | dpdk_meson_compile | dpdk_compile_spdk | dpdk_compile_ovs | +===================+====================+===================+==================+ | CentOS Stream 9 | PASS | PASS | SKIPPED | +-------------------+--------------------+-------------------+------------------+ | CentOS Stream 10 | PASS | SKIPPED | SKIPPED | +-------------------+--------------------+-------------------+------------------+ | Debian Bullseye | PASS | PASS | SKIPPED | +-------------------+--------------------+-------------------+------------------+ | Debian 12 | PASS | PASS | SKIPPED | +-------------------+--------------------+-------------------+------------------+ | Fedora 40 | PASS | PASS | SKIPPED | +-------------------+--------------------+-------------------+------------------+ | Fedora 41 (Clang) | PASS | PASS | PASS | +-------------------+--------------------+-------------------+------------------+ | openSUSE Leap 15 | PASS | SKIPPED | SKIPPED | +-------------------+--------------------+-------------------+------------------+ | Fedora 41 | PASS | PASS | PASS | +-------------------+--------------------+-------------------+------------------+ | Fedora 40 (Clang) | PASS | PASS | SKIPPED | +-------------------+--------------------+-------------------+------------------+ | RHEL8 | PASS | SKIPPED | SKIPPED | +-------------------+--------------------+-------------------+------------------+ | RHEL9 | PASS | SKIPPED | SKIPPED | +-------------------+--------------------+-------------------+------------------+ | Ubuntu 20.04 | PASS | SKIPPED | SKIPPED | +-------------------+--------------------+-------------------+------------------+ | Ubuntu 24.04 | PASS | PASS | PASS | +-------------------+--------------------+-------------------+------------------+ | Ubuntu 22.04 | PASS | PASS | SKIPPED | +-------------------+--------------------+-------------------+------------------+ | Alpine | PASS | SKIPPED | SKIPPED | +-------------------+--------------------+-------------------+------------------+ | FreeBSD 13.4 | PASS | SKIPPED | SKIPPED | +-------------------+--------------------+-------------------+------------------+ | FreeBSD 14.2 | PASS | SKIPPED | SKIPPED | +-------------------+--------------------+-------------------+------------------+ CentOS Stream 9 Kernel: Depends on container host Compiler: gcc 11.5.0 20240719 (Red Hat 11.5.0-2) CentOS Stream 10 Kernel: Depends on container host Compiler: gcc 14.2.1 20241104 (Red Hat 14.2.1-6) Debian Bullseye Kernel: Depends on container host Compiler: gcc (Debian 10.2.1-6) 10.2.1 20210110 Debian 12 Kernel: Depends on container host Compiler: gcc (Debian 12.2.0-14) 12.2.0 Fedora 40 Kernel: Depends on container host Compiler: gcc 14.2.1 20240912 (Red Hat 14.2.1-3) Fedora 41 (Clang) Kernel: Depends on container host Compiler: clang 19.1.5 (Fedora 19.1.5-1.fc41) openSUSE Leap 15 Kernel: Depends on container host Compiler: gcc (SUSE Linux) 7.5.0 Fedora 41 Kernel: Depends on container host Compiler: gcc 14.2.1 20240912 (Red Hat 14.2.1-3) Fedora 40 (Clang) Kernel: Depends on container host Compiler: clang 18.1.8 (Fedora 18.1.8-1.fc40) RHEL8 Kernel: Depends on container host Compiler: gcc 8.5.0 20210514 (Red Hat 8.5.0-22) RHEL9 Kernel: Depends on container host Compiler: gcc 11.5.0 20240719 (Red Hat 11.5.0-2) Ubuntu 20.04 Kernel: Depends on container host Compiler: gcc (Ubuntu 9.4.0-1ubuntu1~20.04.2) 9.4.0 Ubuntu 24.04 Kernel: Depends on container host Compiler: gcc (Ubuntu 13.3.0-6ubuntu2~24.04) 13.3.0 Ubuntu 22.04 Kernel: Depends on container host Compiler: gcc (Ubuntu 11.4.0-1ubuntu1~22.04) 11.4.0 Alpine Kernel: Depends on container host Compiler: gcc (Alpine 14.2.0) 14.2.0 FreeBSD 13.4 Kernel: 13.4-RELEASE-p1 Compiler: clang 18.1.6 FreeBSD 14.2 Kernel: 14.2-RELEASE Compiler: clang 18.1.6 To view detailed results, visit: https://lab.dpdk.org/results/dashboard/patchsets/32632/ UNH-IOL DPDK Community Lab To manage your email subscriptions, visit: https://lab.dpdk.org/results/dashboard/preferences/subscriptions/