From mboxrd@z Thu Jan 1 00:00:00 1970 Return-Path: Received: from mails.dpdk.org (mails.dpdk.org [217.70.189.124]) by inbox.dpdk.org (Postfix) with ESMTP id 0196346286 for ; Fri, 21 Feb 2025 06:13:17 +0100 (CET) Received: from mails.dpdk.org (localhost [127.0.0.1]) by mails.dpdk.org (Postfix) with ESMTP id F06B340A87; Fri, 21 Feb 2025 06:13:16 +0100 (CET) Received: from mail-io1-f100.google.com (mail-io1-f100.google.com [209.85.166.100]) by mails.dpdk.org (Postfix) with ESMTP id 49EC34029A for ; Fri, 21 Feb 2025 06:13:15 +0100 (CET) Received: by mail-io1-f100.google.com with SMTP id ca18e2360f4ac-855bb6041a6so43982539f.0 for ; Thu, 20 Feb 2025 21:13:15 -0800 (PST) DKIM-Signature: v=1; a=rsa-sha256; c=relaxed/relaxed; d=iol.unh.edu; s=unh-iol; t=1740114794; x=1740719594; darn=dpdk.org; h=references:in-reply-to:cc:to:from:subject:message-id:date:from:to :cc:subject:date:message-id:reply-to; bh=HWh3Al1K8HeIwfoCakE+CZqdyOsTVMfxwfu5Sx+FVR8=; b=Q4ZCDrvY2u9UP2AKP8lFIaUkyhar080ARd4CYCq+MTxCUmfUF+oX5e/h2aU9kb/D+H Yy0GYTSVXhS/cJ1FDtxUGJKVDVrdXHuyKf3qsQnupH9U71GAAAcYqSBGgpr8EEmXEOrA kE5T9L+E3pckV5+Jl5JIpsPMRrRUj1c31b0JQ= X-Google-DKIM-Signature: v=1; a=rsa-sha256; c=relaxed/relaxed; d=1e100.net; s=20230601; t=1740114794; x=1740719594; h=references:in-reply-to:cc:to:from:subject:message-id:date :x-gm-message-state:from:to:cc:subject:date:message-id:reply-to; bh=HWh3Al1K8HeIwfoCakE+CZqdyOsTVMfxwfu5Sx+FVR8=; b=c99yJ0v9j6HRZub8a9fj5MqkwP74TcrdYoHp6Iqi7dVfCPXEzxaaMXmlGpMEvugyJK 06bhdG4i/xkL6mMhGUYnQogkoRSUFp96VZ8L/FlDzVpaMgUYeUPhy937ITIUx1iV1ltk +WhdcPuxQcB5cjbPFU8MyjrZW/VBK49SMsDK5FH4UvnFbXS3d3kb8GNeNUArRh/vheP2 CKFh+UaWZenYVu28wMK+whrCB8EqULOI7E31gGJlIpJzW3+vbPXAq8HEe+Q/kgbb/TF6 t7xo6UJPbunRtIU1YeUMd+XHwDIl6UTMHusrK1Lr7ci0F2uzO1XjaOvVnMfPiggr17mn xejw== X-Gm-Message-State: AOJu0Yzw7OrRdMPLL1B9Nb0DXhg2J+9oS++PIh3XUcDEF7HpW0EQNGoO kyhmE8logd2jLdAMsmNzOeTVwtvAMJsEbHNBX5rRMyqzggka6PNQOA5jUBfg8l2lQ1ptmBA7OcT CyCvZSi+vegaO42yx5BbWtNTClUMKQnlK7JyFtE9o X-Gm-Gg: ASbGncvBZUjuwJQ0sn8kZck2ZW+DGlvXBG0dWPR+zLMu3O5jYfDhbFQn+0G2Zh+7Vgk qEl1udYmdl5oIoXV1ZJcVLJMw/OnWCqmmG8iZygnRaeSXbjT1aF081DUH/G5JNGcw751fo1uQDD nzTziLpwlWNcz/7tX3pc7E3Rw0CfwNWEcdJtqz3ktBUNF4N4SjX8jnhrCpRds0PC7tGU/1AvRdr oBWtdX/TkCamSIn72Mn2NIqsKl/VKRW74r4KuGwcSpkWefbM/4T1pDBqPsWLQ9f4X6XJG1CXPvL Cqb5toZ1u61RbVyHPkGdkvumwcMS0JObHH69AN2i X-Google-Smtp-Source: AGHT+IGljq1/D84YLd1/fm1j0kGO5l6LPI1SnLC2F+hfy4EByfMNFCosTsgfdJfcTnZxkZGAY6OPdmv7a1+R X-Received: by 2002:a05:6602:2c8e:b0:855:6d7a:1820 with SMTP id ca18e2360f4ac-855da9bdf59mr216785939f.4.1740114794562; Thu, 20 Feb 2025 21:13:14 -0800 (PST) Received: from postal.iol.unh.edu (postal.iol.unh.edu. [132.177.123.84]) by smtp-relay.gmail.com with ESMTPS id 8926c6da1cb9f-4eeb0aae2e5sm435092173.40.2025.02.20.21.13.14 (version=TLS1_2 cipher=ECDHE-ECDSA-AES128-GCM-SHA256 bits=128/128); Thu, 20 Feb 2025 21:13:14 -0800 (PST) X-Relaying-Domain: iol.unh.edu Date: Thu, 20 Feb 2025 21:13:14 -0800 (PST) Message-ID: <67b80b6a.050a0220.2f34c3.5f28SMTPIN_ADDED_MISSING@mx.google.com> Received: from [172.17.0.3] (unknown [172.18.0.217]) by postal.iol.unh.edu (Postfix) with ESMTP id 185486052471; Fri, 21 Feb 2025 00:13:11 -0500 (EST) Subject: |SUCCESS| pw151772 [PATCH] [v3] net/mana: use mana_local_data for tr From: dpdklab@iol.unh.edu To: Test Report Cc: dpdk-test-reports@iol.unh.edu In-Reply-To: <1740094322-10919-1-git-send-email-longli@linuxonhyperv.com> References: <1740094322-10919-1-git-send-email-longli@linuxonhyperv.com> Content-Type: text/plain X-BeenThere: test-report@dpdk.org X-Mailman-Version: 2.1.29 Precedence: list List-Id: automatic DPDK test reports List-Unsubscribe: , List-Archive: List-Post: List-Help: List-Subscribe: , Errors-To: test-report-bounces@dpdk.org Test-Label: iol-abi-testing Test-Status: SUCCESS http://dpdk.org/patch/151772 _Testing PASS_ Submitter: Long Li Date: Thursday, February 20 2025 23:32:02 DPDK git baseline: Repo:dpdk Branch: master CommitID:3497d187f963e5fddca607637f6a42b8b944fa49 151772 --> testing pass Upstream job id: Generic-DPDK-Compile-ABI#117027 Test environment and result as below: +-------------------+----------+ | Environment | abi_test | +===================+==========+ | CentOS Stream 9 | PASS | +-------------------+----------+ | CentOS Stream 10 | PASS | +-------------------+----------+ | Debian 12 | PASS | +-------------------+----------+ | Fedora 40 | PASS | +-------------------+----------+ | Fedora 40 (Clang) | PASS | +-------------------+----------+ | Debian Bullseye | PASS | +-------------------+----------+ | Fedora 41 | PASS | +-------------------+----------+ | Fedora 41 (Clang) | PASS | +-------------------+----------+ | openSUSE Leap 15 | PASS | +-------------------+----------+ | RHEL8 | PASS | +-------------------+----------+ | RHEL9 | PASS | +-------------------+----------+ | Ubuntu 22.04 | PASS | +-------------------+----------+ | Ubuntu 24.04 | PASS | +-------------------+----------+ CentOS Stream 9 Kernel: Depends on container host Compiler: gcc 11.5.0 20240719 (Red Hat 11.5.0-2) CentOS Stream 10 Kernel: Depends on container host Compiler: gcc 14.2.1 20241104 (Red Hat 14.2.1-6) Debian 12 Kernel: Depends on container host Compiler: gcc (Debian 12.2.0-14) 12.2.0 Fedora 40 Kernel: Depends on container host Compiler: gcc 14.2.1 20240912 (Red Hat 14.2.1-3) Fedora 40 (Clang) Kernel: Depends on container host Compiler: clang 18.1.8 (Fedora 18.1.8-1.fc40) Debian Bullseye Kernel: Depends on container host Compiler: gcc (Debian 10.2.1-6) 10.2.1 20210110 Fedora 41 Kernel: Depends on container host Compiler: gcc 14.2.1 20240912 (Red Hat 14.2.1-3) Fedora 41 (Clang) Kernel: Depends on container host Compiler: clang 19.1.5 (Fedora 19.1.5-1.fc41) openSUSE Leap 15 Kernel: Depends on container host Compiler: gcc (SUSE Linux) 7.5.0 RHEL8 Kernel: Depends on container host Compiler: gcc 8.5.0 20210514 (Red Hat 8.5.0-22) RHEL9 Kernel: Depends on container host Compiler: gcc 11.5.0 20240719 (Red Hat 11.5.0-2) Ubuntu 22.04 Kernel: Depends on container host Compiler: gcc (Ubuntu 11.4.0-1ubuntu1~22.04) 11.4.0 Ubuntu 24.04 Kernel: Depends on container host Compiler: gcc (Ubuntu 13.3.0-6ubuntu2~24.04) 13.3.0 To view detailed results, visit: https://lab.dpdk.org/results/dashboard/patchsets/32632/ UNH-IOL DPDK Community Lab To manage your email subscriptions, visit: https://lab.dpdk.org/results/dashboard/preferences/subscriptions/