From mboxrd@z Thu Jan  1 00:00:00 1970
Return-Path: <test-report-bounces@dpdk.org>
Received: from mails.dpdk.org (mails.dpdk.org [217.70.189.124])
	by inbox.dpdk.org (Postfix) with ESMTP id CFBE946286
	for <public@inbox.dpdk.org>; Fri, 21 Feb 2025 06:19:05 +0100 (CET)
Received: from mails.dpdk.org (localhost [127.0.0.1])
	by mails.dpdk.org (Postfix) with ESMTP id ACDE740678;
	Fri, 21 Feb 2025 06:19:05 +0100 (CET)
Received: from mail-il1-f227.google.com (mail-il1-f227.google.com
 [209.85.166.227])
 by mails.dpdk.org (Postfix) with ESMTP id DAA784029A
 for <test-report@dpdk.org>; Fri, 21 Feb 2025 06:19:04 +0100 (CET)
Received: by mail-il1-f227.google.com with SMTP id
 e9e14a558f8ab-3cfc79a8a95so5309175ab.2
 for <test-report@dpdk.org>; Thu, 20 Feb 2025 21:19:04 -0800 (PST)
DKIM-Signature: v=1; a=rsa-sha256; c=relaxed/relaxed;
 d=iol.unh.edu; s=unh-iol; t=1740115144; x=1740719944; darn=dpdk.org;
 h=references:in-reply-to:cc:to:from:subject:message-id:date:from:to
 :cc:subject:date:message-id:reply-to;
 bh=gK7l7r2puheb2ZEstp2rpiDKqRfXOp+6Tbcpyzpf6yo=;
 b=gP0oAt7zeBhrrLcc3aaPbPzQqUi4nVNyhW0BUrD9Q3TEm4E0jOFHP0HYy+aikf+WZ/
 Zt+gh/jNSF43N7m6ljxgp272y3pbpCVvGbd0Ea4smYvXwMU6pSMk2pb/Rb/Uu5zQb7/J
 7NbFFaQIxzgHkPICO5QDkUyTH/Boz0gFCO+eA=
X-Google-DKIM-Signature: v=1; a=rsa-sha256; c=relaxed/relaxed;
 d=1e100.net; s=20230601; t=1740115144; x=1740719944;
 h=references:in-reply-to:cc:to:from:subject:message-id:date
 :x-gm-message-state:from:to:cc:subject:date:message-id:reply-to;
 bh=gK7l7r2puheb2ZEstp2rpiDKqRfXOp+6Tbcpyzpf6yo=;
 b=OM4Jkv41Habq6/6HbuesBwwerbIJedDk5ptUFK6l+j4DjEg72ur9P7aQ64uJyrCdKu
 QEVY0uFMjlpDKVhIEeM8gWD+bMhwDE4mzfYm6i2xoIlWL3qRXDvNOPo9tF1OnNoTxnH+
 qNklB2tF06mToDS719jTIj8kcEo25+MpSwlKRsygO4eFUYrewffzFxzpu2Z03ZSZfs9A
 YaeirVPFqhiKUF5pvsn0wTQ2DDZTQZFaJIgoCdiHtLPd+FNTq2SGArUm4Tyx2+/PnYKT
 YpsxruHGFVtcIG42a6JIaf/ncjMYDncRHUpF1D9hLgOj+FMOx3KI95Q2hvCqygbLX4dN
 WPCg==
X-Gm-Message-State: AOJu0YylrUoWcU3Ewr+KvseNQP7pmW8HUQX8zhIB6KmZK/RWROVPRMAj
 SkAWWXycZPaJIsdDEvpYv3ypuU2et+WV4/IkQfp2kqEuJUEW/8PzrESL+/Ulf/g8b6rqyWluBDS
 +Sa3yP+C3FbrBKMTiyA7MEbMZIF+XhOKsUHV/ffuW
X-Gm-Gg: ASbGncsUif2RbqJxWrnWCQW81y2eADi/0e5omCqlOZgipzCHOcqMyipOkFInFbyDLR0
 QLpdzECnK0EaR0XUUc2KA9o0BoxaSYUu+cf44tC2kS51vlrqq/NlrbAIC5m3l8uh9SPxbAeUTMK
 by5inI+d1B79MltVWsDF+sYr9KS0OaWe6tYqDGOeVQQoJaE3oalhmvHg8WrQFncM2hGQHCv//7W
 m/9LYcox+kBQ134w7khcmEMqsJhjjEXLBJlhAGvWyTgbkFwC8ZM5dEiHQH+2HZ6IRwnDeO4IkIE
 ODnmCE8kqHnyZXIS5ZmMvrC6m/YXg5M3bzAnyL3d
X-Google-Smtp-Source: AGHT+IEOrkBXnNZNdPCuvu/qvI32byHMr2cPRaPsH0XrONcBu08NpQGYXYVJZaXfAwifwKxUgLMbuYZsAOWR
X-Received: by 2002:a05:6e02:1ca8:b0:3d1:79a1:5b85 with SMTP id
 e9e14a558f8ab-3d2caf1c9bcmr17150605ab.21.1740115144166; 
 Thu, 20 Feb 2025 21:19:04 -0800 (PST)
Received: from postal.iol.unh.edu (postal.iol.unh.edu. [132.177.123.84])
 by smtp-relay.gmail.com with ESMTPS id
 e9e14a558f8ab-3d2b306fe87sm3437535ab.53.2025.02.20.21.19.04
 (version=TLS1_2 cipher=ECDHE-ECDSA-AES128-GCM-SHA256 bits=128/128);
 Thu, 20 Feb 2025 21:19:04 -0800 (PST)
X-Relaying-Domain: iol.unh.edu
Date: Thu, 20 Feb 2025 21:19:04 -0800 (PST)
Message-ID: <67b80cc8.050a0220.1decb3.236bSMTPIN_ADDED_MISSING@mx.google.com>
Received: from [172.21.0.7] (unknown [172.18.0.240])
 by postal.iol.unh.edu (Postfix) with ESMTP id 6F8776052471;
 Fri, 21 Feb 2025 00:18:55 -0500 (EST)
Subject: |SUCCESS| pw151732-151734 [PATCH] [v4,10/10] app: enable app directo
From: dpdklab@iol.unh.edu
To: Test Report <test-report@dpdk.org>
Cc: dpdk-test-reports@iol.unh.edu
In-Reply-To: <1740087064-18680-11-git-send-email-andremue@linux.microsoft.com>
References: <1740087064-18680-11-git-send-email-andremue@linux.microsoft.com>
Content-Type: text/plain
X-BeenThere: test-report@dpdk.org
X-Mailman-Version: 2.1.29
Precedence: list
List-Id: automatic DPDK test reports <test-report.dpdk.org>
List-Unsubscribe: <https://mails.dpdk.org/options/test-report>,
 <mailto:test-report-request@dpdk.org?subject=unsubscribe>
List-Archive: <http://mails.dpdk.org/archives/test-report/>
List-Post: <mailto:test-report@dpdk.org>
List-Help: <mailto:test-report-request@dpdk.org?subject=help>
List-Subscribe: <https://mails.dpdk.org/listinfo/test-report>,
 <mailto:test-report-request@dpdk.org?subject=subscribe>
Errors-To: test-report-bounces@dpdk.org

Test-Label: iol-compile-amd64-testing
Test-Status: SUCCESS
http://dpdk.org/patch/151734

_Testing PASS_

Submitter: Andre Muezerie <andremue@linux.microsoft.com>
Date: Thursday, February 20 2025 21:31:04 
DPDK git baseline: Repo:dpdk
  Branch: master
  CommitID:fab31a03ba98e7457284df95dd9eef2223a4ccaa

151732-151734 --> testing pass

Upstream job id: Windows-Compile-DPDK-VS#4994

Test environment and result as below:

+---------------------+--------------------+-------------------+------------------+-------------------+
|     Environment     | dpdk_meson_compile | dpdk_compile_spdk | dpdk_compile_ovs | dpdk_msvc_compile |
+=====================+====================+===================+==================+===================+
| CentOS Stream 9     | PASS               | PASS              | SKIPPED          | SKIPPED           |
+---------------------+--------------------+-------------------+------------------+-------------------+
| CentOS Stream 10    | PASS               | SKIPPED           | SKIPPED          | SKIPPED           |
+---------------------+--------------------+-------------------+------------------+-------------------+
| Debian Bullseye     | PASS               | PASS              | SKIPPED          | SKIPPED           |
+---------------------+--------------------+-------------------+------------------+-------------------+
| Fedora 40 (Clang)   | PASS               | PASS              | SKIPPED          | SKIPPED           |
+---------------------+--------------------+-------------------+------------------+-------------------+
| Fedora 41 (Clang)   | PASS               | PASS              | PASS             | SKIPPED           |
+---------------------+--------------------+-------------------+------------------+-------------------+
| Fedora 40           | PASS               | PASS              | SKIPPED          | SKIPPED           |
+---------------------+--------------------+-------------------+------------------+-------------------+
| Debian 12           | PASS               | PASS              | SKIPPED          | SKIPPED           |
+---------------------+--------------------+-------------------+------------------+-------------------+
| Fedora 41           | PASS               | PASS              | PASS             | SKIPPED           |
+---------------------+--------------------+-------------------+------------------+-------------------+
| Ubuntu 22.04        | PASS               | PASS              | SKIPPED          | SKIPPED           |
+---------------------+--------------------+-------------------+------------------+-------------------+
| openSUSE Leap 15    | PASS               | SKIPPED           | SKIPPED          | SKIPPED           |
+---------------------+--------------------+-------------------+------------------+-------------------+
| RHEL8               | PASS               | SKIPPED           | SKIPPED          | SKIPPED           |
+---------------------+--------------------+-------------------+------------------+-------------------+
| Ubuntu 20.04        | PASS               | SKIPPED           | SKIPPED          | SKIPPED           |
+---------------------+--------------------+-------------------+------------------+-------------------+
| Ubuntu 24.04        | PASS               | PASS              | PASS             | SKIPPED           |
+---------------------+--------------------+-------------------+------------------+-------------------+
| Alpine              | PASS               | SKIPPED           | SKIPPED          | SKIPPED           |
+---------------------+--------------------+-------------------+------------------+-------------------+
| FreeBSD 13.4        | PASS               | SKIPPED           | SKIPPED          | SKIPPED           |
+---------------------+--------------------+-------------------+------------------+-------------------+
| FreeBSD 14.2        | PASS               | SKIPPED           | SKIPPED          | SKIPPED           |
+---------------------+--------------------+-------------------+------------------+-------------------+
| RHEL9               | PASS               | SKIPPED           | SKIPPED          | SKIPPED           |
+---------------------+--------------------+-------------------+------------------+-------------------+
| Windows Server 2022 | SKIPPED            | SKIPPED           | SKIPPED          | PASS              |
+---------------------+--------------------+-------------------+------------------+-------------------+


CentOS Stream 9
	Kernel: Depends on container host
	Compiler: gcc 11.5.0 20240719 (Red Hat 11.5.0-2)

CentOS Stream 10
	Kernel: Depends on container host
	Compiler: gcc 14.2.1 20241104 (Red Hat 14.2.1-6)

Debian Bullseye
	Kernel: Depends on container host
	Compiler: gcc (Debian 10.2.1-6) 10.2.1 20210110

Fedora 40 (Clang)
	Kernel: Depends on container host
	Compiler: clang 18.1.8 (Fedora 18.1.8-1.fc40)

Fedora 41 (Clang)
	Kernel: Depends on container host
	Compiler: clang 19.1.5 (Fedora 19.1.5-1.fc41)

Fedora 40
	Kernel: Depends on container host
	Compiler: gcc 14.2.1 20240912 (Red Hat 14.2.1-3)

Debian 12
	Kernel: Depends on container host
	Compiler: gcc (Debian 12.2.0-14) 12.2.0

Fedora 41
	Kernel: Depends on container host
	Compiler: gcc 14.2.1 20240912 (Red Hat 14.2.1-3)

Ubuntu 22.04
	Kernel: Depends on container host
	Compiler: gcc (Ubuntu 11.4.0-1ubuntu1~22.04) 11.4.0

openSUSE Leap 15
	Kernel: Depends on container host
	Compiler: gcc (SUSE Linux) 7.5.0

RHEL8
	Kernel: Depends on container host
	Compiler: gcc 8.5.0 20210514 (Red Hat 8.5.0-22)

Ubuntu 20.04
	Kernel: Depends on container host
	Compiler: gcc (Ubuntu 9.4.0-1ubuntu1~20.04.2) 9.4.0

Ubuntu 24.04
	Kernel: Depends on container host
	Compiler: gcc (Ubuntu 13.3.0-6ubuntu2~24.04) 13.3.0

Alpine
	Kernel: Depends on container host
	Compiler: gcc (Alpine 14.2.0) 14.2.0

FreeBSD 13.4
	Kernel: 13.4-RELEASE-p1
	Compiler: clang 18.1.6

FreeBSD 14.2
	Kernel: 14.2-RELEASE
	Compiler: clang 18.1.6

RHEL9
	Kernel: Depends on container host
	Compiler: gcc 11.5.0 20240719 (Red Hat 11.5.0-2)

Windows Server 2022
	Kernel: 10.0.20348.2031
	Compiler: clang 15.0.7, gcc 14.1.0 (MinGW), and MSVC VS 19.39.33521

To view detailed results, visit:
https://lab.dpdk.org/results/dashboard/patchsets/32629/

UNH-IOL DPDK Community Lab

To manage your email subscriptions, visit: 
https://lab.dpdk.org/results/dashboard/preferences/subscriptions/