From mboxrd@z Thu Jan  1 00:00:00 1970
Return-Path: <test-report-bounces@dpdk.org>
Received: from mails.dpdk.org (mails.dpdk.org [217.70.189.124])
	by inbox.dpdk.org (Postfix) with ESMTP id 9D04046286
	for <public@inbox.dpdk.org>; Fri, 21 Feb 2025 06:27:23 +0100 (CET)
Received: from mails.dpdk.org (localhost [127.0.0.1])
	by mails.dpdk.org (Postfix) with ESMTP id 7714440678;
	Fri, 21 Feb 2025 06:27:23 +0100 (CET)
Received: from mail-il1-f228.google.com (mail-il1-f228.google.com
 [209.85.166.228])
 by mails.dpdk.org (Postfix) with ESMTP id CD02F4029A
 for <test-report@dpdk.org>; Fri, 21 Feb 2025 06:27:22 +0100 (CET)
Received: by mail-il1-f228.google.com with SMTP id
 e9e14a558f8ab-3d2b3c0b3fbso13361535ab.3
 for <test-report@dpdk.org>; Thu, 20 Feb 2025 21:27:22 -0800 (PST)
DKIM-Signature: v=1; a=rsa-sha256; c=relaxed/relaxed;
 d=iol.unh.edu; s=unh-iol; t=1740115642; x=1740720442; darn=dpdk.org;
 h=references:in-reply-to:cc:to:from:subject:message-id:date:from:to
 :cc:subject:date:message-id:reply-to;
 bh=U5NYrk+dLLoLi1kF8awqzJi+KnqemWC2gQjjsQfOShk=;
 b=NblI1bspgRUfg4RgttH3OCkXFBELtBZ+4Asl1daq/LuqGvehGo21J4pOnTYN5+muse
 pA3fmjbnAvJH84MGUcVLZfB5PmP45u2cBVqaGU7gTJha8kWvBql2DXwLbyXcyDa8N0Ym
 zRBwCJkMp7xrvK8r8KrLaKlctO8l7XBdzHn9I=
X-Google-DKIM-Signature: v=1; a=rsa-sha256; c=relaxed/relaxed;
 d=1e100.net; s=20230601; t=1740115642; x=1740720442;
 h=references:in-reply-to:cc:to:from:subject:message-id:date
 :x-gm-message-state:from:to:cc:subject:date:message-id:reply-to;
 bh=U5NYrk+dLLoLi1kF8awqzJi+KnqemWC2gQjjsQfOShk=;
 b=vYYgbqbhRZUG2t7noVS7H2Qtj1sJ+/GienzFGxcelusLrt5ZXlyNd+Tr6MGmI5x+Le
 nDVrIL4gizTm6/lKDlcb2hEDpQhhsqhPrrSnf0PrhHzVPT/1dKTeqpBX347xuVtFZfTs
 nGgKdtkM0JONY0ih2xakRrq/Lqjlkwv09RJdlmzWrGNmV5MEUT4EZQZtS5X8/XPw1dz/
 PVjhAsdYFrCTs2eczvaR8ETGVoSy3Fghm0a8oCJqzDdNxCn6XqbWUCc0iGtGRqYjfwO9
 EsZq3dT13mbNT8UBe03aJHz4AtJL/6nAhFeiGLaWmg0rFODgjDfcZnskQR6gbzAOytny
 BF+g==
X-Gm-Message-State: AOJu0YwxdqL0iX+MJnY137hFYyEYmWJk1TOjFrWvYs9LjmjTasKsEYVZ
 93Eswe/K2dM2aLWLJBVdwUcXXol/EivxQ9sq0saAtSZa2a560SGaHcvQ8Yyl+DJPSbM+V/GAULv
 Ap4PTd/tVa3l2+GoFRaDttyeczFWf3SSf3acNss6l
X-Gm-Gg: ASbGncuPdOhifL4Lo0tHRuhUWVBIfH7RSeIrlv+qJWWsURDRlUyyHeZUYz9unjOYy9k
 1QccstQDgDTggUPV7AM5fvgzZjKHSS3hGAvfHL9DvVAVRgn9ebRDDD2vZJqjQXv7ejd8weP9AL4
 cQc5mN562ZkGYGmsjPEYvFTiCsnWnPhRHug496uboSXzfk4BArzJN333BOjoarvaM5fmoM++evU
 EMk1OT88uf7bApJUrzUkW16YOVb0TVxKQ3deeLIsmw5cPpV+TI5HxMR2CzWu73zW5WqDfkFE+aW
 IHQinKVthVnMpsLwFH8z2u/b9DPN/zqYHj/idvx9
X-Google-Smtp-Source: AGHT+IGsV8+PBEBG7k5dPMTABz0ojr0uOWqHQPwrER8xr70YDk5JH9+OkKBEOAIpxGuLk2vBPJCqNINnRbCY
X-Received: by 2002:a05:6e02:12e8:b0:3d0:1ba7:853 with SMTP id
 e9e14a558f8ab-3d2cae6c945mr19628235ab.8.1740115642130; 
 Thu, 20 Feb 2025 21:27:22 -0800 (PST)
Received: from postal.iol.unh.edu (postal.iol.unh.edu. [132.177.123.84])
 by smtp-relay.gmail.com with ESMTPS id
 8926c6da1cb9f-4eea1c3f357sm611532173.6.2025.02.20.21.27.22
 (version=TLS1_2 cipher=ECDHE-ECDSA-AES128-GCM-SHA256 bits=128/128);
 Thu, 20 Feb 2025 21:27:22 -0800 (PST)
X-Relaying-Domain: iol.unh.edu
Date: Thu, 20 Feb 2025 21:27:22 -0800 (PST)
Message-ID: <67b80eba.050a0220.23b1cb.ee6dSMTPIN_ADDED_MISSING@mx.google.com>
Received: from [172.21.0.5] (unknown [172.18.0.240])
 by postal.iol.unh.edu (Postfix) with ESMTP id 6DBEA6052471;
 Fri, 21 Feb 2025 00:27:13 -0500 (EST)
Subject: |SUCCESS| pw151772 [PATCH] [v3] net/mana: use mana_local_data for tr
From: dpdklab@iol.unh.edu
To: Test Report <test-report@dpdk.org>
Cc: dpdk-test-reports@iol.unh.edu
In-Reply-To: <1740094322-10919-1-git-send-email-longli@linuxonhyperv.com>
References: <1740094322-10919-1-git-send-email-longli@linuxonhyperv.com>
Content-Type: text/plain
X-BeenThere: test-report@dpdk.org
X-Mailman-Version: 2.1.29
Precedence: list
List-Id: automatic DPDK test reports <test-report.dpdk.org>
List-Unsubscribe: <https://mails.dpdk.org/options/test-report>,
 <mailto:test-report-request@dpdk.org?subject=unsubscribe>
List-Archive: <http://mails.dpdk.org/archives/test-report/>
List-Post: <mailto:test-report@dpdk.org>
List-Help: <mailto:test-report-request@dpdk.org?subject=help>
List-Subscribe: <https://mails.dpdk.org/listinfo/test-report>,
 <mailto:test-report-request@dpdk.org?subject=subscribe>
Errors-To: test-report-bounces@dpdk.org

Test-Label: iol-unit-amd64-testing
Test-Status: SUCCESS
http://dpdk.org/patch/151772

_Testing PASS_

Submitter: Long Li <longli@linuxonhyperv.com>
Date: Thursday, February 20 2025 23:32:02 
DPDK git baseline: Repo:dpdk
  Branch: master
  CommitID:3497d187f963e5fddca607637f6a42b8b944fa49

151772 --> testing pass

Upstream job id: Generic-Unit-Test-DPDK#316909

Test environment and result as below:

+-------------------+----------------+
|    Environment    | dpdk_unit_test |
+===================+================+
| Debian 12         | PASS           |
+-------------------+----------------+
| Debian Bullseye   | PASS           |
+-------------------+----------------+
| CentOS Stream 9   | PASS           |
+-------------------+----------------+
| Fedora 40         | PASS           |
+-------------------+----------------+
| Fedora 40 (Clang) | PASS           |
+-------------------+----------------+
| CentOS Stream 10  | PASS           |
+-------------------+----------------+
| Fedora 41         | PASS           |
+-------------------+----------------+
| Fedora 41 (Clang) | PASS           |
+-------------------+----------------+
| RHEL9             | PASS           |
+-------------------+----------------+
| Ubuntu 22.04      | PASS           |
+-------------------+----------------+
| RHEL8             | PASS           |
+-------------------+----------------+
| Ubuntu 20.04      | PASS           |
+-------------------+----------------+
| Ubuntu 24.04      | PASS           |
+-------------------+----------------+


Debian 12
	Kernel: Depends on container host
	Compiler: gcc (Debian 12.2.0-14) 12.2.0

Debian Bullseye
	Kernel: Depends on container host
	Compiler: gcc (Debian 10.2.1-6) 10.2.1 20210110

CentOS Stream 9
	Kernel: Depends on container host
	Compiler: gcc 11.5.0 20240719 (Red Hat 11.5.0-2)

Fedora 40
	Kernel: Depends on container host
	Compiler: gcc 14.2.1 20240912 (Red Hat 14.2.1-3)

Fedora 40 (Clang)
	Kernel: Depends on container host
	Compiler: clang 18.1.8 (Fedora 18.1.8-1.fc40)

CentOS Stream 10
	Kernel: Depends on container host
	Compiler: gcc 14.2.1 20241104 (Red Hat 14.2.1-6)

Fedora 41
	Kernel: Depends on container host
	Compiler: gcc 14.2.1 20240912 (Red Hat 14.2.1-3)

Fedora 41 (Clang)
	Kernel: Depends on container host
	Compiler: clang 19.1.5 (Fedora 19.1.5-1.fc41)

RHEL9
	Kernel: Depends on container host
	Compiler: gcc 11.5.0 20240719 (Red Hat 11.5.0-2)

Ubuntu 22.04
	Kernel: Depends on container host
	Compiler: gcc (Ubuntu 11.4.0-1ubuntu1~22.04) 11.4.0

RHEL8
	Kernel: Depends on container host
	Compiler: gcc 8.5.0 20210514 (Red Hat 8.5.0-22)

Ubuntu 20.04
	Kernel: Depends on container host
	Compiler: gcc (Ubuntu 9.4.0-1ubuntu1~20.04.2) 9.4.0

Ubuntu 24.04
	Kernel: Depends on container host
	Compiler: gcc (Ubuntu 13.3.0-6ubuntu2~24.04) 13.3.0

To view detailed results, visit:
https://lab.dpdk.org/results/dashboard/patchsets/32632/

UNH-IOL DPDK Community Lab

To manage your email subscriptions, visit: 
https://lab.dpdk.org/results/dashboard/preferences/subscriptions/