From mboxrd@z Thu Jan 1 00:00:00 1970 Return-Path: Received: from mails.dpdk.org (mails.dpdk.org [217.70.189.124]) by inbox.dpdk.org (Postfix) with ESMTP id F2FD746286 for ; Fri, 21 Feb 2025 06:39:27 +0100 (CET) Received: from mails.dpdk.org (localhost [127.0.0.1]) by mails.dpdk.org (Postfix) with ESMTP id CAF6940678; Fri, 21 Feb 2025 06:39:27 +0100 (CET) Received: from mail-io1-f99.google.com (mail-io1-f99.google.com [209.85.166.99]) by mails.dpdk.org (Postfix) with ESMTP id 62F284029A for ; Fri, 21 Feb 2025 06:39:26 +0100 (CET) Received: by mail-io1-f99.google.com with SMTP id ca18e2360f4ac-855a8c1ffe9so52770239f.1 for ; Thu, 20 Feb 2025 21:39:26 -0800 (PST) DKIM-Signature: v=1; a=rsa-sha256; c=relaxed/relaxed; d=iol.unh.edu; s=unh-iol; t=1740116365; x=1740721165; darn=dpdk.org; h=references:in-reply-to:cc:to:from:subject:message-id:date:from:to :cc:subject:date:message-id:reply-to; bh=9tF9klXaVzTPhoVwG4q543kQuK7JEn039nvZk02ao4Q=; b=WJe/lr9gaPejBKpaSHC4Q+Nt0h46io2Oq1W19sblMc/jPiGhIIDLbFpR1YnnHbN77N 0Tmah2e04YcSbqPf5cVLuwSoYkiPHvd0KZrEdryX6mCBFFIZWh9fyNPdWZjhu8gGa7n3 lGyOqyJfUAM6lp7tm378KTUDoi3KnPfwKlSPE= X-Google-DKIM-Signature: v=1; a=rsa-sha256; c=relaxed/relaxed; d=1e100.net; s=20230601; t=1740116365; x=1740721165; h=references:in-reply-to:cc:to:from:subject:message-id:date :x-gm-message-state:from:to:cc:subject:date:message-id:reply-to; bh=9tF9klXaVzTPhoVwG4q543kQuK7JEn039nvZk02ao4Q=; b=TW86Qq/ShC58/n7yzL7iXZZ92PrjLZrxkI02PfMsN5Ujm+5EPvP9Yf3WOh7a5svOnP +bYuGumk1z6CoSFkyymmmOI9wFQzcBT6tLAU3uyNghtCm87Hr6zw3upr6DiLWHJwDg+H A0ocwO+Xcr2O+p0ioTgzKaz6mobdNBMHcDyt+pfnUMcCC036qUnCimWigffoSY5DK7A2 iLg05619m/lchp4ePEHIsxRk+LJDCHbGXTDKuDhtjq9Ang607W26xRVwXHqv2iS3La51 79Rzx0t0fPeOABHqB34Welf5jo+08e3kfolN4oW8KcnguhO3YZdm8xG/KHOn6dNrLtFp 6yng== X-Gm-Message-State: AOJu0YwmpY4QlAaaOh4vaCAC6Yltjp2OCmao0JZbD39y+4foQGuBlmmt STktOAyjQTl8KC7V+yUlSkP/aioUxr7p13YXc6MOWOZ6b4E+1EiBxfNvPF14plH49i6FwtPh5Tb Jo0ZXvTrntxVDnJDgVgduWw0kIkm4IneQ2Q0T/IAo X-Gm-Gg: ASbGncsF7tRO5+RlcWiEE0wxqFLvywn7nUpyasNKqqW843v/WtUrOzOFelI4+emA9y7 jnRHWP31zjRWnQerQEKsmusIQQrwO2ZNnTiaTihG/RvRJBN/wawr/GwsvfXPZ/ZlDgruEfCdtHy sASHb7yDcOBjjXuslV5LznmYa58W2XWUEuF+p/JuD62/J1BxIfCMsoLrVwbdMUYgqJhEHSK+5Ly O2i76cEFZQSU3Xz3SjrZ6K3ItkW3s5+r7p9LOE29H+kygPXL7yUXZcDW7itSCEKMUvqmYGVwBFU 3OH84D/QVBpavWMbI1rbHkvva2zJs6yn5G2siea+ X-Google-Smtp-Source: AGHT+IHRV4qn5Ldn3EwX7WNPKB7ztQAie2hElrYaaWeYBWzOIZSDSz/fyK484aXEe0LJjjvA4QrcLwzE1eRQ X-Received: by 2002:a05:6e02:3891:b0:3d0:10ec:cc36 with SMTP id e9e14a558f8ab-3d2cae86884mr16204595ab.11.1740116365659; Thu, 20 Feb 2025 21:39:25 -0800 (PST) Received: from postal.iol.unh.edu (postal.iol.unh.edu. [132.177.123.84]) by smtp-relay.gmail.com with ESMTPS id 8926c6da1cb9f-4eebc8646d3sm331107173.38.2025.02.20.21.39.25 (version=TLS1_2 cipher=ECDHE-ECDSA-AES128-GCM-SHA256 bits=128/128); Thu, 20 Feb 2025 21:39:25 -0800 (PST) X-Relaying-Domain: iol.unh.edu Date: Thu, 20 Feb 2025 21:39:25 -0800 (PST) Message-ID: <67b8118d.050a0220.186539.15d7SMTPIN_ADDED_MISSING@mx.google.com> Received: from [172.21.0.7] (unknown [172.18.0.240]) by postal.iol.unh.edu (Postfix) with ESMTP id 92B926052471; Fri, 21 Feb 2025 00:39:22 -0500 (EST) Subject: |SUCCESS| pw151772 [PATCH] [v3] net/mana: use mana_local_data for tr From: dpdklab@iol.unh.edu To: Test Report Cc: dpdk-test-reports@iol.unh.edu In-Reply-To: <1740094322-10919-1-git-send-email-longli@linuxonhyperv.com> References: <1740094322-10919-1-git-send-email-longli@linuxonhyperv.com> Content-Type: text/plain X-BeenThere: test-report@dpdk.org X-Mailman-Version: 2.1.29 Precedence: list List-Id: automatic DPDK test reports List-Unsubscribe: , List-Archive: List-Post: List-Help: List-Subscribe: , Errors-To: test-report-bounces@dpdk.org Test-Label: iol-unit-arm64-testing Test-Status: SUCCESS http://dpdk.org/patch/151772 _Testing PASS_ Submitter: Long Li Date: Thursday, February 20 2025 23:32:02 DPDK git baseline: Repo:dpdk Branch: master CommitID:3497d187f963e5fddca607637f6a42b8b944fa49 151772 --> testing pass Upstream job id: Generic-Unit-Test-DPDK#316901 Test environment and result as below: +-----------------------------+----------------+------------------------------+---------------------------+--------------+ | Environment | dpdk_unit_test | cryptodev_sw_snow3g_autotest | cryptodev_sw_zuc_autotest | lpm_autotest | +=============================+================+==============================+===========================+==============+ | 32-bit Ubuntu 22.04.4 (ARM) | PASS | SKIPPED | SKIPPED | SKIPPED | +-----------------------------+----------------+------------------------------+---------------------------+--------------+ | Debian 11 (Buster) (ARM) | PASS | SKIPPED | SKIPPED | SKIPPED | +-----------------------------+----------------+------------------------------+---------------------------+--------------+ | CentOS Stream 10 (ARM) | PASS | SKIPPED | SKIPPED | SKIPPED | +-----------------------------+----------------+------------------------------+---------------------------+--------------+ | Fedora 40 (ARM) | PASS | SKIPPED | SKIPPED | SKIPPED | +-----------------------------+----------------+------------------------------+---------------------------+--------------+ | CentOS Stream 9 (ARM) | PASS | SKIPPED | SKIPPED | SKIPPED | +-----------------------------+----------------+------------------------------+---------------------------+--------------+ | Fedora 40 (ARM Clang) | PASS | SKIPPED | SKIPPED | SKIPPED | +-----------------------------+----------------+------------------------------+---------------------------+--------------+ | Debian 12 (arm) | PASS | PASS | PASS | SKIPPED | +-----------------------------+----------------+------------------------------+---------------------------+--------------+ | Fedora 41 (ARM) | PASS | SKIPPED | SKIPPED | SKIPPED | +-----------------------------+----------------+------------------------------+---------------------------+--------------+ | RHEL9 (ARM) | PASS | SKIPPED | SKIPPED | SKIPPED | +-----------------------------+----------------+------------------------------+---------------------------+--------------+ | Fedora 41 (ARM Clang) | PASS | SKIPPED | SKIPPED | SKIPPED | +-----------------------------+----------------+------------------------------+---------------------------+--------------+ | Ubuntu 22.04 (ARM) | PASS | SKIPPED | SKIPPED | SKIPPED | +-----------------------------+----------------+------------------------------+---------------------------+--------------+ | Ubuntu 20.04 (ARM) | PASS | SKIPPED | SKIPPED | SKIPPED | +-----------------------------+----------------+------------------------------+---------------------------+--------------+ | Ubuntu 24.04 (ARM) | PASS | SKIPPED | SKIPPED | SKIPPED | +-----------------------------+----------------+------------------------------+---------------------------+--------------+ | Ubuntu 20.04 ARM SVE | SKIPPED | SKIPPED | SKIPPED | PASS | +-----------------------------+----------------+------------------------------+---------------------------+--------------+ 32-bit Ubuntu 22.04.4 (ARM) Kernel: 5.15.83+ aarch64 Compiler: gcc (Ubuntu 11.4.0-1ubuntu1~22.04) 11.4.0 Debian 11 (Buster) (ARM) Kernel: Depends on container host Compiler: gcc (Debian 10.2.1-6) 10.2.1 20210110 CentOS Stream 10 (ARM) Kernel: Depends on container host Compiler: gcc 14.2.1 20241104 (Red Hat 14.2.1-6) Fedora 40 (ARM) Kernel: Depends on container host Compiler: gcc 14.2.1 20240912 (Red Hat 14.2.1-3) CentOS Stream 9 (ARM) Kernel: Depends on container host Compiler: gcc 11.5.0 20240719 (Red Hat 11.5.0-2) Fedora 40 (ARM Clang) Kernel: Depends on container host Compiler: clang 18.1.8 (Fedora 18.1.8-1.fc40) Debian 12 (arm) Kernel: Depends on container host Compiler: gcc (Debian 12.2.0-14) 12.2.0 Fedora 41 (ARM) Kernel: Depends on container host Compiler: gcc 14.2.1 20240912 (Red Hat 14.2.1-3) RHEL9 (ARM) Kernel: Depends on container host Compiler: gcc 11.5.0 20240719 (Red Hat 11.5.0-2) Fedora 41 (ARM Clang) Kernel: Depends on container host Compiler: clang 19.1.5 (Fedora 19.1.5-1.fc41) Ubuntu 22.04 (ARM) Kernel: Depends on container host Compiler: gcc (Ubuntu 11.4.0-1ubuntu1~22.04) 11.4.0 Ubuntu 20.04 (ARM) Kernel: Depends on container host Compiler: gcc (Ubuntu 9.4.0-1ubuntu1~20.04.2) 9.4.0 Ubuntu 24.04 (ARM) Kernel: Depends on container host Compiler: gcc (Ubuntu 13.3.0-6ubuntu2~24.04) 13.3.0 Ubuntu 20.04 ARM SVE Kernel: Depends on container host Compiler: gcc (Ubuntu 10.5.0-1ubuntu1~20.04) 10.5.0 To view detailed results, visit: https://lab.dpdk.org/results/dashboard/patchsets/32632/ UNH-IOL DPDK Community Lab To manage your email subscriptions, visit: https://lab.dpdk.org/results/dashboard/preferences/subscriptions/