From mboxrd@z Thu Jan 1 00:00:00 1970 Return-Path: Received: from mails.dpdk.org (mails.dpdk.org [217.70.189.124]) by inbox.dpdk.org (Postfix) with ESMTP id D2C8846286 for ; Fri, 21 Feb 2025 07:07:12 +0100 (CET) Received: from mails.dpdk.org (localhost [127.0.0.1]) by mails.dpdk.org (Postfix) with ESMTP id CCAAA40647; Fri, 21 Feb 2025 07:07:12 +0100 (CET) Received: from mail-io1-f97.google.com (mail-io1-f97.google.com [209.85.166.97]) by mails.dpdk.org (Postfix) with ESMTP id E950B4029A for ; Fri, 21 Feb 2025 07:07:10 +0100 (CET) Received: by mail-io1-f97.google.com with SMTP id ca18e2360f4ac-855c122b3e7so144548739f.2 for ; Thu, 20 Feb 2025 22:07:10 -0800 (PST) DKIM-Signature: v=1; a=rsa-sha256; c=relaxed/relaxed; d=iol.unh.edu; s=unh-iol; t=1740118030; x=1740722830; darn=dpdk.org; h=references:in-reply-to:cc:to:from:subject:message-id:date:from:to :cc:subject:date:message-id:reply-to; bh=qCkyPBsLn0OB8wS5hKdO/aHLG51NKWutia9an++o2Mk=; b=AQlPkUiClb3EauZiBKCmMJ4iB32p9hFljZcow59T743khql7W229bCMCP9Covc/Ehc RM+bpZMxCh3NbCQO9dXm+U9556qzwfP82+eL/KAhmIqffYd35umQ+FQvrPsBaglkYXYz 9xdtueZh9o6exsAsZcE5oRk6dNDJI/KGGvzXU= X-Google-DKIM-Signature: v=1; a=rsa-sha256; c=relaxed/relaxed; d=1e100.net; s=20230601; t=1740118030; x=1740722830; h=references:in-reply-to:cc:to:from:subject:message-id:date :x-gm-message-state:from:to:cc:subject:date:message-id:reply-to; bh=qCkyPBsLn0OB8wS5hKdO/aHLG51NKWutia9an++o2Mk=; b=X/LUWNAfENa7k8dVp4/hn5kFrhCA7jt1SzfWCBkSAitGIQVZV07QVtps/cJvbxyWpG yLeAsa4Vaq6DOSKxdck5ac+vala38vjAfZbbvghuAIsqc/5AGi6m5Cbs46ZrdEYkqFIw UvJWRMCU3j0RFeMxKfb87qPYo/Y/aF/bjxfDso9QFGYYZwELqrs0keDf2LpGyGKqs2wG tw5yxFVxahBN3FK1NvDn8XkwSmJxjToIPWpZ12LyjvoE+cT7aNU/dFcs0V/fRkPPMfZn o0voN+NxqL3BSUq9ZfAXlZLtVs5LG2Z64KiOMlwlvriyAnFP1itpxhqMVDtvzzWW4WPI stKg== X-Gm-Message-State: AOJu0Ywjd6wIw91wS41NeiQ2i90fcPFrEXmi2ImYOqs1xxKDvbqwNhJU EQki1XyBqsWCcmZbUGbrIJnyaXyexA0ODhrv60hCSfohqwek1TTRnVvJXXGjs5HbytQ2gRastjL IhDPbevan5zhwHmIAC4dX3Cd5z6uagXR1Jjpzt6Kx X-Gm-Gg: ASbGnct/VqiAEwS7wvsEQFusdtdTc4KbTLD0sxrp6TcVdgglTnW4eVsJ3/aLqg32kkM VvIIOyLbcH7Du++RfjoNxDTMNyxwcwOA1MsKdGRCg+gieDroVPnLffO6OgImZMbioh0CtoCA4hG TK+V7feYI5XWCSq0k/UCK70cL9WqriL8DnZkbFRz81Xx1sdGvyxFmGPpdEHev+13xcrqYipHL0G FEyqh6uHID9ljy/TgW7U7YNHTH17M8DxmQDpSSW6yVjDFYHgHY1SIomir5NAvIajzO3pqeuOR2I L37e9P18lmBCP1G4aWiJOQIukEKbBj5hA/I+XBoW X-Google-Smtp-Source: AGHT+IFbBynK9+IFgSVcsYmmrWwxipTnzu5cf7AKKkw8KfpC9vJIM1RMuVzUPJ6nVtc3Pkghr2AYVmmzqRql X-Received: by 2002:a05:6e02:3dc4:b0:3d0:4c9c:965f with SMTP id e9e14a558f8ab-3d2cb543cf0mr17701465ab.20.1740118029984; Thu, 20 Feb 2025 22:07:09 -0800 (PST) Received: from postal.iol.unh.edu (postal.iol.unh.edu. [132.177.123.84]) by smtp-relay.gmail.com with ESMTPS id e9e14a558f8ab-3d291c5a265sm7117615ab.24.2025.02.20.22.07.09 (version=TLS1_2 cipher=ECDHE-ECDSA-AES128-GCM-SHA256 bits=128/128); Thu, 20 Feb 2025 22:07:09 -0800 (PST) X-Relaying-Domain: iol.unh.edu Date: Thu, 20 Feb 2025 22:07:09 -0800 (PST) Message-ID: <67b8180d.050a0220.247840.3a90SMTPIN_ADDED_MISSING@mx.google.com> Received: from [172.17.0.6] (unknown [172.18.0.217]) by postal.iol.unh.edu (Postfix) with ESMTP id 6A83A6052471; Fri, 21 Feb 2025 01:07:07 -0500 (EST) Subject: |SUCCESS| pw151772 [PATCH] [v3] net/mana: use mana_local_data for tr From: dpdklab@iol.unh.edu To: Test Report Cc: dpdk-test-reports@iol.unh.edu In-Reply-To: <1740094322-10919-1-git-send-email-longli@linuxonhyperv.com> References: <1740094322-10919-1-git-send-email-longli@linuxonhyperv.com> Content-Type: text/plain X-BeenThere: test-report@dpdk.org X-Mailman-Version: 2.1.29 Precedence: list List-Id: automatic DPDK test reports List-Unsubscribe: , List-Archive: List-Post: List-Help: List-Subscribe: , Errors-To: test-report-bounces@dpdk.org Test-Label: iol-unit-amd64-testing Test-Status: SUCCESS http://dpdk.org/patch/151772 _Testing PASS_ Submitter: Long Li Date: Thursday, February 20 2025 23:32:02 DPDK git baseline: Repo:dpdk Branch: master CommitID:3497d187f963e5fddca607637f6a42b8b944fa49 151772 --> testing pass Upstream job id: Generic-VM-Unit-Test-DPDK#27303 Test environment and result as below: +---------------------+----------------+ | Environment | dpdk_unit_test | +=====================+================+ | Debian 12 | PASS | +---------------------+----------------+ | Debian Bullseye | PASS | +---------------------+----------------+ | CentOS Stream 9 | PASS | +---------------------+----------------+ | Fedora 40 | PASS | +---------------------+----------------+ | Fedora 40 (Clang) | PASS | +---------------------+----------------+ | CentOS Stream 10 | PASS | +---------------------+----------------+ | Fedora 41 | PASS | +---------------------+----------------+ | Fedora 41 (Clang) | PASS | +---------------------+----------------+ | RHEL9 | PASS | +---------------------+----------------+ | Ubuntu 22.04 | PASS | +---------------------+----------------+ | RHEL8 | PASS | +---------------------+----------------+ | Ubuntu 20.04 | PASS | +---------------------+----------------+ | Ubuntu 24.04 | PASS | +---------------------+----------------+ | Windows Server 2022 | PASS | +---------------------+----------------+ Debian 12 Kernel: Depends on container host Compiler: gcc (Debian 12.2.0-14) 12.2.0 Debian Bullseye Kernel: Depends on container host Compiler: gcc (Debian 10.2.1-6) 10.2.1 20210110 CentOS Stream 9 Kernel: Depends on container host Compiler: gcc 11.5.0 20240719 (Red Hat 11.5.0-2) Fedora 40 Kernel: Depends on container host Compiler: gcc 14.2.1 20240912 (Red Hat 14.2.1-3) Fedora 40 (Clang) Kernel: Depends on container host Compiler: clang 18.1.8 (Fedora 18.1.8-1.fc40) CentOS Stream 10 Kernel: Depends on container host Compiler: gcc 14.2.1 20241104 (Red Hat 14.2.1-6) Fedora 41 Kernel: Depends on container host Compiler: gcc 14.2.1 20240912 (Red Hat 14.2.1-3) Fedora 41 (Clang) Kernel: Depends on container host Compiler: clang 19.1.5 (Fedora 19.1.5-1.fc41) RHEL9 Kernel: Depends on container host Compiler: gcc 11.5.0 20240719 (Red Hat 11.5.0-2) Ubuntu 22.04 Kernel: Depends on container host Compiler: gcc (Ubuntu 11.4.0-1ubuntu1~22.04) 11.4.0 RHEL8 Kernel: Depends on container host Compiler: gcc 8.5.0 20210514 (Red Hat 8.5.0-22) Ubuntu 20.04 Kernel: Depends on container host Compiler: gcc (Ubuntu 9.4.0-1ubuntu1~20.04.2) 9.4.0 Ubuntu 24.04 Kernel: Depends on container host Compiler: gcc (Ubuntu 13.3.0-6ubuntu2~24.04) 13.3.0 Windows Server 2022 Kernel: 10.0.20348.2031 Compiler: clang 15.0.7, gcc 14.1.0 (MinGW), and MSVC VS 19.39.33521 To view detailed results, visit: https://lab.dpdk.org/results/dashboard/patchsets/32632/ UNH-IOL DPDK Community Lab To manage your email subscriptions, visit: https://lab.dpdk.org/results/dashboard/preferences/subscriptions/