From mboxrd@z Thu Jan 1 00:00:00 1970 Return-Path: Received: from mails.dpdk.org (mails.dpdk.org [217.70.189.124]) by inbox.dpdk.org (Postfix) with ESMTP id EAA1946286 for ; Fri, 21 Feb 2025 07:07:40 +0100 (CET) Received: from mails.dpdk.org (localhost [127.0.0.1]) by mails.dpdk.org (Postfix) with ESMTP id E190C40647; Fri, 21 Feb 2025 07:07:40 +0100 (CET) Received: from mail-io1-f98.google.com (mail-io1-f98.google.com [209.85.166.98]) by mails.dpdk.org (Postfix) with ESMTP id 776CF4029A for ; Fri, 21 Feb 2025 07:07:38 +0100 (CET) Received: by mail-io1-f98.google.com with SMTP id ca18e2360f4ac-855d73856f3so65397439f.1 for ; Thu, 20 Feb 2025 22:07:38 -0800 (PST) DKIM-Signature: v=1; a=rsa-sha256; c=relaxed/relaxed; d=iol.unh.edu; s=unh-iol; t=1740118058; x=1740722858; darn=dpdk.org; h=references:in-reply-to:cc:to:from:subject:message-id:date:from:to :cc:subject:date:message-id:reply-to; bh=qPrmEWxPGA7YsSjLaBvoy+Nk3Zz/TBv7tJv3/oM6++E=; b=RREC5KyPRqT3MkkmJJeyxkjRd70vwGCvH5I4u4t/BVm5TBOmaqGbWzLWeMeQDAK4dS fGCASOi/4lRw6gCBH9VEo1rx6Dmdo7HyXiRmEW7Zm1M0LafvGnsLBjs1qITDo98nJSkO GUvBIAMx8JJ9RhKhc4OWzNFXfuCo0HinjI0GE= X-Google-DKIM-Signature: v=1; a=rsa-sha256; c=relaxed/relaxed; d=1e100.net; s=20230601; t=1740118058; x=1740722858; h=references:in-reply-to:cc:to:from:subject:message-id:date :x-gm-message-state:from:to:cc:subject:date:message-id:reply-to; bh=qPrmEWxPGA7YsSjLaBvoy+Nk3Zz/TBv7tJv3/oM6++E=; b=l8803P5fh/uNFEcZPnpIbmRYCkSyS7EvqLhypRsQAi7yzue6Sa5T0ayGCNAHrdvKVu ZnTCMCcdfETzr7E+UCyvkpfRcjw0C0MYuW4PMk0G5azCbmiGcZHdW55O69U+dBG7a6Te CtpNOjiZ8M/ApQdcpFSkSaNZNmFHfvlTlQw9GrPZQf0kyvkqEpRlJh+KDdZvyI31BT+8 pfrv1uEdrvEeFnbpqSeJq7t1/zr4tJLdc/k5DUmvESbkEJ8Nqr71AKUv9LR+MkxtMbbT aFvy6DC5mE1GzghYpQYv3kRAtBsPB2jp8fb/ZUyI4ZPCPzBKiyXtWEMTZS6uZyDoE5Je gkxg== X-Gm-Message-State: AOJu0Yw/NKJKcamF//FJ7cZ6+jUqTQTg1Gcy6GgzZVGXNICywFfMKW0Q gl9cNvVeFEgL8lJmX9qfPWLYsVaybXZPUwFl/G9S8dDSPRxpPsaUJ+l9XKGIQLNSNbILqbTVrZq 5Su7Oko31JgNiccez75v7x5DQXdM+3kfgtXrjWspkoo+cCaBaTy5eymsO X-Gm-Gg: ASbGncua7sgYpnDNbZ7eJqkeB8F/kcC6NkP/G8B9xMuwSxQZ6RiZWPff8+cx6ZalopK /vlgmmEf71y/ef48cCouAA97Zk0O9c7T7K6eJgY4rNmx6BZ8vvq8KDc+/U3NKu1epq3o6c8PA+X jxK8TO8SaLnXWQ0tYM8TizqH9nMk9q3yS4M5PvXZbrO72I4e/p+bk8EvYQ3HABX2TNZj1xGjqx0 QLlLcOdAhQl2/3CntrNar5QK+Kom953ZD3SHsCQE9a4O9l7CH+ucqmXOKPuQSVUKp/K8INXsG5v DW8DCkbUdH9M4cHrC0io6cogYIC9HuHIG3guKEWPLUWjQvW0CZL2 X-Google-Smtp-Source: AGHT+IEPYGMZ5lI8TJqrV4uYnUlTPhC3B3KeRXOLu3vgMAV7e40bxNGdn7fntnvH7uqBsEtbQZol+J1cZkyH X-Received: by 2002:a05:6e02:1a67:b0:3d0:3851:c3cc with SMTP id e9e14a558f8ab-3d2caf19e17mr18952885ab.16.1740118057902; Thu, 20 Feb 2025 22:07:37 -0800 (PST) Received: from postal.iol.unh.edu (postal.iol.unh.edu. [2606:4100:3880:1234::84]) by smtp-relay.gmail.com with ESMTPS id e9e14a558f8ab-3d29793a78fsm6475425ab.50.2025.02.20.22.07.37 (version=TLS1_2 cipher=ECDHE-ECDSA-AES128-GCM-SHA256 bits=128/128); Thu, 20 Feb 2025 22:07:37 -0800 (PST) X-Relaying-Domain: iol.unh.edu Date: Thu, 20 Feb 2025 22:07:37 -0800 (PST) Message-ID: <67b81829.050a0220.338bf9.0241SMTPIN_ADDED_MISSING@mx.google.com> Received: from [172.17.0.5] (unknown [172.18.0.217]) by postal.iol.unh.edu (Postfix) with ESMTP id 22C686052471; Fri, 21 Feb 2025 01:07:35 -0500 (EST) Subject: |SUCCESS| pw151772 [PATCH] [v3] net/mana: use mana_local_data for tr From: dpdklab@iol.unh.edu To: Test Report Cc: dpdk-test-reports@iol.unh.edu In-Reply-To: <1740094322-10919-1-git-send-email-longli@linuxonhyperv.com> References: <1740094322-10919-1-git-send-email-longli@linuxonhyperv.com> Content-Type: text/plain X-BeenThere: test-report@dpdk.org X-Mailman-Version: 2.1.29 Precedence: list List-Id: automatic DPDK test reports List-Unsubscribe: , List-Archive: List-Post: List-Help: List-Subscribe: , Errors-To: test-report-bounces@dpdk.org Test-Label: iol-abi-testing Test-Status: SUCCESS http://dpdk.org/patch/151772 _Testing PASS_ Submitter: Long Li Date: Thursday, February 20 2025 23:32:02 DPDK git baseline: Repo:dpdk Branch: master CommitID:3497d187f963e5fddca607637f6a42b8b944fa49 151772 --> testing pass Upstream job id: Generic-DPDK-Compile-ABI#117031 Test environment and result as below: +-------------------+----------+ | Environment | abi_test | +===================+==========+ | CentOS Stream 9 | PASS | +-------------------+----------+ | CentOS Stream 10 | PASS | +-------------------+----------+ | Debian Bullseye | PASS | +-------------------+----------+ | Fedora 40 (Clang) | PASS | +-------------------+----------+ | Fedora 40 | PASS | +-------------------+----------+ | Fedora 41 (Clang) | PASS | +-------------------+----------+ | RHEL8 | PASS | +-------------------+----------+ | openSUSE Leap 15 | PASS | +-------------------+----------+ | Fedora 41 | PASS | +-------------------+----------+ | RHEL9 | PASS | +-------------------+----------+ | Ubuntu 22.04 | PASS | +-------------------+----------+ | Ubuntu 24.04 | PASS | +-------------------+----------+ | Debian 12 | PASS | +-------------------+----------+ CentOS Stream 9 Kernel: Depends on container host Compiler: gcc 11.5.0 20240719 (Red Hat 11.5.0-2) CentOS Stream 10 Kernel: Depends on container host Compiler: gcc 14.2.1 20241104 (Red Hat 14.2.1-6) Debian Bullseye Kernel: Depends on container host Compiler: gcc (Debian 10.2.1-6) 10.2.1 20210110 Fedora 40 (Clang) Kernel: Depends on container host Compiler: clang 18.1.8 (Fedora 18.1.8-1.fc40) Fedora 40 Kernel: Depends on container host Compiler: gcc 14.2.1 20240912 (Red Hat 14.2.1-3) Fedora 41 (Clang) Kernel: Depends on container host Compiler: clang 19.1.5 (Fedora 19.1.5-1.fc41) RHEL8 Kernel: Depends on container host Compiler: gcc 8.5.0 20210514 (Red Hat 8.5.0-22) openSUSE Leap 15 Kernel: Depends on container host Compiler: gcc (SUSE Linux) 7.5.0 Fedora 41 Kernel: Depends on container host Compiler: gcc 14.2.1 20240912 (Red Hat 14.2.1-3) RHEL9 Kernel: Depends on container host Compiler: gcc 11.5.0 20240719 (Red Hat 11.5.0-2) Ubuntu 22.04 Kernel: Depends on container host Compiler: gcc (Ubuntu 11.4.0-1ubuntu1~22.04) 11.4.0 Ubuntu 24.04 Kernel: Depends on container host Compiler: gcc (Ubuntu 13.3.0-6ubuntu2~24.04) 13.3.0 Debian 12 Kernel: Depends on container host Compiler: gcc (Debian 12.2.0-14) 12.2.0 To view detailed results, visit: https://lab.dpdk.org/results/dashboard/patchsets/32632/ UNH-IOL DPDK Community Lab To manage your email subscriptions, visit: https://lab.dpdk.org/results/dashboard/preferences/subscriptions/