From mboxrd@z Thu Jan 1 00:00:00 1970 Return-Path: Received: from mails.dpdk.org (mails.dpdk.org [217.70.189.124]) by inbox.dpdk.org (Postfix) with ESMTP id 7279E46286 for ; Fri, 21 Feb 2025 07:11:11 +0100 (CET) Received: from mails.dpdk.org (localhost [127.0.0.1]) by mails.dpdk.org (Postfix) with ESMTP id 42F9D40647; Fri, 21 Feb 2025 07:11:11 +0100 (CET) Received: from mail-pl1-f228.google.com (mail-pl1-f228.google.com [209.85.214.228]) by mails.dpdk.org (Postfix) with ESMTP id AE3434029A for ; Fri, 21 Feb 2025 07:11:09 +0100 (CET) Received: by mail-pl1-f228.google.com with SMTP id d9443c01a7336-220dc3831e3so44140575ad.0 for ; Thu, 20 Feb 2025 22:11:09 -0800 (PST) DKIM-Signature: v=1; a=rsa-sha256; c=relaxed/relaxed; d=iol.unh.edu; s=unh-iol; t=1740118269; x=1740723069; darn=dpdk.org; h=references:in-reply-to:cc:to:from:subject:message-id:date:from:to :cc:subject:date:message-id:reply-to; bh=1tiDJ6q7q0Z/OKToYWw24TgTGktDvn+WJmh3+DgMThQ=; b=QzSa6KheTwNuZk8MJKLvZfJKvAkis1n7UpFv5ZrezYN6tdImpnz4ggzBaGCdHI/F/c NKFngjA0m5grrKRQKczyicVjSJmIVyRyFe86R5xGM+fQbZ5QVusPofcW1gtQ7iuCxvqV g1CTiotxk+E3b1b4WlfjDFowG/5+ln/TXvwdg= X-Google-DKIM-Signature: v=1; a=rsa-sha256; c=relaxed/relaxed; d=1e100.net; s=20230601; t=1740118269; x=1740723069; h=references:in-reply-to:cc:to:from:subject:message-id:date :x-gm-message-state:from:to:cc:subject:date:message-id:reply-to; bh=1tiDJ6q7q0Z/OKToYWw24TgTGktDvn+WJmh3+DgMThQ=; b=GuoXNFvRkYtTVCRdzJ+ZJbpyDRbdqQy0z3t0KdrUWyAF9CfgR4IbR9bCa1PI49k0ul K1Si1yA4W0RIRa84bI9fxkSEgDl8oA81WF2ibIwpRmTkDL/3SoaMnElplw21ez7itrBl bGzWSFeqNnLhR8PkPfLiOjQqbiQyva61K/LfCUKOcsIQWV3aK2/2pTVAlybvzoJW6khu fBnRx7tvFfFtrNPg1DawRqE3LhkHM6fdwmhnIJunpFuv2ok/b4tOY21NfF/HL1uw+Wks eBw/UOA1bH2IIX5zqafKnNipCBHa4O4JkJNIcYWClBKb/amgzSfYFNL9XrnjYDKooY+h uVGQ== X-Gm-Message-State: AOJu0YxkNuFBtfWuD+q8GmIsTD4BS+L4Vo8yYSr827f02DWZOvUUlCh3 /5K+h8adni34wG78gQLXQRxMMaQBHvxAmQ7G7m4GEy4uJBgMHg36uX4WHMKmtXODKENDtJpOyVo 5bkinTWUeW8tBzjyxIdLPbzHPpQ6vjRMqTCOUtVYW5cmnUql6aOmdPe35 X-Gm-Gg: ASbGnctiZIIOaLdP7t8ArSE44dQ3FnOlaHN79TWbVtZVQNdj3XZsq3xo/zrwR/WLl9M 5GyIiSO6NPvzKTsP7EiNgq1G+uecTdakYG3F3acSg+8kCSN4Jf2yFXZ4pp8ZqHRpEPq7LFv4yb3 kpqcBGhzvImqjpovgsDX3qM5m/fgN+oqduxiQj4a0WeSvp8mguNS02kmpGsVMK3p8+BbYpCa6a2 5v3aJRLcWu0kMuw+it0hOUsNOMaPSNVhPw+9CJqwjFwk72t15E4h4IjpEIaMa98PX+7cORdPO6a d1jXhcOWTOrt3u1ndsi7VjaNrvnlNK4rgqeKWC2tJgGI5Akc86hP X-Google-Smtp-Source: AGHT+IFPgtS9OM6Id/yH8r6mOb1go19Fnkav5y1yO6n8r1NyiVdgO8u+FbIX0+OWYAWdAWNg8Nvinc4q1gyU X-Received: by 2002:a17:903:187:b0:215:742e:5cff with SMTP id d9443c01a7336-2219fff8a77mr33451145ad.16.1740118268796; Thu, 20 Feb 2025 22:11:08 -0800 (PST) Received: from postal.iol.unh.edu (postal.iol.unh.edu. [2606:4100:3880:1234::84]) by smtp-relay.gmail.com with ESMTPS id d9443c01a7336-220d53f9f5bsm7614845ad.76.2025.02.20.22.11.08 (version=TLS1_2 cipher=ECDHE-ECDSA-AES128-GCM-SHA256 bits=128/128); Thu, 20 Feb 2025 22:11:08 -0800 (PST) X-Relaying-Domain: iol.unh.edu Date: Thu, 20 Feb 2025 22:11:08 -0800 (PST) Message-ID: <67b818fc.170a0220.198f54.4c7dSMTPIN_ADDED_MISSING@mx.google.com> Received: from [172.17.0.3] (unknown [172.18.0.217]) by postal.iol.unh.edu (Postfix) with ESMTP id 814A16052471; Fri, 21 Feb 2025 01:10:59 -0500 (EST) Subject: |SUCCESS| pw151732-151734 [PATCH] [v4,10/10] app: enable app directo From: dpdklab@iol.unh.edu To: Test Report Cc: dpdk-test-reports@iol.unh.edu In-Reply-To: <1740087064-18680-11-git-send-email-andremue@linux.microsoft.com> References: <1740087064-18680-11-git-send-email-andremue@linux.microsoft.com> Content-Type: text/plain X-BeenThere: test-report@dpdk.org X-Mailman-Version: 2.1.29 Precedence: list List-Id: automatic DPDK test reports List-Unsubscribe: , List-Archive: List-Post: List-Help: List-Subscribe: , Errors-To: test-report-bounces@dpdk.org Test-Label: iol-compile-arm64-testing Test-Status: SUCCESS http://dpdk.org/patch/151734 _Testing PASS_ Submitter: Andre Muezerie Date: Thursday, February 20 2025 21:31:04 DPDK git baseline: Repo:dpdk Branch: master CommitID:fab31a03ba98e7457284df95dd9eef2223a4ccaa 151732-151734 --> testing pass Upstream job id: Generic-DPDK-Compile-Meson#363735 Test environment and result as below: +----------------------------------------+--------------------+ | Environment | dpdk_meson_compile | +========================================+====================+ | RHEL9 (ARM) | PASS | +----------------------------------------+--------------------+ | Ubuntu 20.04 ARM GCC Cross Compile | PASS | +----------------------------------------+--------------------+ | Ubuntu 20.04 ARM SVE | PASS | +----------------------------------------+--------------------+ | Debian 12 with MUSDK | PASS | +----------------------------------------+--------------------+ | Fedora 40 (ARM) | PASS | +----------------------------------------+--------------------+ | Fedora 41 (ARM) | PASS | +----------------------------------------+--------------------+ | Fedora 40 (ARM Clang) | PASS | +----------------------------------------+--------------------+ | Fedora 41 (ARM Clang) | PASS | +----------------------------------------+--------------------+ | CentOS Stream 9 (ARM) | PASS | +----------------------------------------+--------------------+ | Ubuntu 24.04 (ARM) | PASS | +----------------------------------------+--------------------+ | Ubuntu 22.04 (ARM) | PASS | +----------------------------------------+--------------------+ | Ubuntu 20.04 (ARM) | PASS | +----------------------------------------+--------------------+ | CentOS Stream 10 (ARM) | PASS | +----------------------------------------+--------------------+ | Debian 12 (arm) | PASS | +----------------------------------------+--------------------+ | Ubuntu 20.04 aarch32 GCC Cross Compile | PASS | +----------------------------------------+--------------------+ | Ubuntu 20.04 ARM Clang Cross Compile | PASS | +----------------------------------------+--------------------+ | Debian 11 (Buster) (ARM) | PASS | +----------------------------------------+--------------------+ RHEL9 (ARM) Kernel: Depends on container host Compiler: gcc 11.5.0 20240719 (Red Hat 11.5.0-2) Ubuntu 20.04 ARM GCC Cross Compile Kernel: Depends on container host Compiler: aarch64-linux-gnu-gcc (Ubuntu 9.4.0-1ubuntu1~20.04.2) 9.4.0 Ubuntu 20.04 ARM SVE Kernel: Depends on container host Compiler: gcc (Ubuntu 10.5.0-1ubuntu1~20.04) 10.5.0 Debian 12 with MUSDK Kernel: Depends on container host Compiler: gcc (Debian 12.2.0-14) 12.2.0 Fedora 40 (ARM) Kernel: Depends on container host Compiler: gcc 14.2.1 20240912 (Red Hat 14.2.1-3) Fedora 41 (ARM) Kernel: Depends on container host Compiler: gcc 14.2.1 20240912 (Red Hat 14.2.1-3) Fedora 40 (ARM Clang) Kernel: Depends on container host Compiler: clang 18.1.8 (Fedora 18.1.8-1.fc40) Fedora 41 (ARM Clang) Kernel: Depends on container host Compiler: clang 19.1.5 (Fedora 19.1.5-1.fc41) CentOS Stream 9 (ARM) Kernel: Depends on container host Compiler: gcc 11.5.0 20240719 (Red Hat 11.5.0-2) Ubuntu 24.04 (ARM) Kernel: Depends on container host Compiler: gcc (Ubuntu 13.3.0-6ubuntu2~24.04) 13.3.0 Ubuntu 22.04 (ARM) Kernel: Depends on container host Compiler: gcc (Ubuntu 11.4.0-1ubuntu1~22.04) 11.4.0 Ubuntu 20.04 (ARM) Kernel: Depends on container host Compiler: gcc (Ubuntu 9.4.0-1ubuntu1~20.04.2) 9.4.0 CentOS Stream 10 (ARM) Kernel: Depends on container host Compiler: gcc 14.2.1 20241104 (Red Hat 14.2.1-6) Debian 12 (arm) Kernel: Depends on container host Compiler: gcc (Debian 12.2.0-14) 12.2.0 Ubuntu 20.04 aarch32 GCC Cross Compile Kernel: Depends on container host Compiler: gcc 9.4.0 Ubuntu 20.04 ARM Clang Cross Compile Kernel: Depends on container host Compiler: clang 10.0.0-4ubuntu1 Debian 11 (Buster) (ARM) Kernel: Depends on container host Compiler: gcc (Debian 10.2.1-6) 10.2.1 20210110 To view detailed results, visit: https://lab.dpdk.org/results/dashboard/patchsets/32629/ UNH-IOL DPDK Community Lab To manage your email subscriptions, visit: https://lab.dpdk.org/results/dashboard/preferences/subscriptions/