From: dpdklab@iol.unh.edu
To: Test Report <test-report@dpdk.org>
Cc: dpdk-test-reports@iol.unh.edu
Subject: |SUCCESS| pw151772 [PATCH] [v3] net/mana: use mana_local_data for tr
Date: Thu, 20 Feb 2025 22:23:35 -0800 (PST) [thread overview]
Message-ID: <67b81be7.170a0220.36f4d7.a3eaSMTPIN_ADDED_MISSING@mx.google.com> (raw)
In-Reply-To: <1740094322-10919-1-git-send-email-longli@linuxonhyperv.com>
Test-Label: iol-compile-amd64-testing
Test-Status: SUCCESS
http://dpdk.org/patch/151772
_Testing PASS_
Submitter: Long Li <longli@linuxonhyperv.com>
Date: Thursday, February 20 2025 23:32:02
DPDK git baseline: Repo:dpdk
Branch: master
CommitID:3497d187f963e5fddca607637f6a42b8b944fa49
151772 --> testing pass
Upstream job id: Windows-Compile-DPDK-VS#4995
Test environment and result as below:
+---------------------+--------------------+-------------------+------------------+-------------------+
| Environment | dpdk_meson_compile | dpdk_compile_spdk | dpdk_compile_ovs | dpdk_msvc_compile |
+=====================+====================+===================+==================+===================+
| CentOS Stream 9 | PASS | PASS | SKIPPED | SKIPPED |
+---------------------+--------------------+-------------------+------------------+-------------------+
| CentOS Stream 10 | PASS | SKIPPED | SKIPPED | SKIPPED |
+---------------------+--------------------+-------------------+------------------+-------------------+
| Debian Bullseye | PASS | PASS | SKIPPED | SKIPPED |
+---------------------+--------------------+-------------------+------------------+-------------------+
| Debian 12 | PASS | PASS | SKIPPED | SKIPPED |
+---------------------+--------------------+-------------------+------------------+-------------------+
| Fedora 40 | PASS | PASS | SKIPPED | SKIPPED |
+---------------------+--------------------+-------------------+------------------+-------------------+
| Fedora 41 (Clang) | PASS | PASS | PASS | SKIPPED |
+---------------------+--------------------+-------------------+------------------+-------------------+
| openSUSE Leap 15 | PASS | SKIPPED | SKIPPED | SKIPPED |
+---------------------+--------------------+-------------------+------------------+-------------------+
| Fedora 41 | PASS | PASS | PASS | SKIPPED |
+---------------------+--------------------+-------------------+------------------+-------------------+
| Fedora 40 (Clang) | PASS | PASS | SKIPPED | SKIPPED |
+---------------------+--------------------+-------------------+------------------+-------------------+
| RHEL8 | PASS | SKIPPED | SKIPPED | SKIPPED |
+---------------------+--------------------+-------------------+------------------+-------------------+
| RHEL9 | PASS | SKIPPED | SKIPPED | SKIPPED |
+---------------------+--------------------+-------------------+------------------+-------------------+
| Ubuntu 20.04 | PASS | SKIPPED | SKIPPED | SKIPPED |
+---------------------+--------------------+-------------------+------------------+-------------------+
| Ubuntu 24.04 | PASS | PASS | PASS | SKIPPED |
+---------------------+--------------------+-------------------+------------------+-------------------+
| Ubuntu 22.04 | PASS | PASS | SKIPPED | SKIPPED |
+---------------------+--------------------+-------------------+------------------+-------------------+
| Alpine | PASS | SKIPPED | SKIPPED | SKIPPED |
+---------------------+--------------------+-------------------+------------------+-------------------+
| FreeBSD 13.4 | PASS | SKIPPED | SKIPPED | SKIPPED |
+---------------------+--------------------+-------------------+------------------+-------------------+
| FreeBSD 14.2 | PASS | SKIPPED | SKIPPED | SKIPPED |
+---------------------+--------------------+-------------------+------------------+-------------------+
| Windows Server 2022 | SKIPPED | SKIPPED | SKIPPED | PASS |
+---------------------+--------------------+-------------------+------------------+-------------------+
CentOS Stream 9
Kernel: Depends on container host
Compiler: gcc 11.5.0 20240719 (Red Hat 11.5.0-2)
CentOS Stream 10
Kernel: Depends on container host
Compiler: gcc 14.2.1 20241104 (Red Hat 14.2.1-6)
Debian Bullseye
Kernel: Depends on container host
Compiler: gcc (Debian 10.2.1-6) 10.2.1 20210110
Debian 12
Kernel: Depends on container host
Compiler: gcc (Debian 12.2.0-14) 12.2.0
Fedora 40
Kernel: Depends on container host
Compiler: gcc 14.2.1 20240912 (Red Hat 14.2.1-3)
Fedora 41 (Clang)
Kernel: Depends on container host
Compiler: clang 19.1.5 (Fedora 19.1.5-1.fc41)
openSUSE Leap 15
Kernel: Depends on container host
Compiler: gcc (SUSE Linux) 7.5.0
Fedora 41
Kernel: Depends on container host
Compiler: gcc 14.2.1 20240912 (Red Hat 14.2.1-3)
Fedora 40 (Clang)
Kernel: Depends on container host
Compiler: clang 18.1.8 (Fedora 18.1.8-1.fc40)
RHEL8
Kernel: Depends on container host
Compiler: gcc 8.5.0 20210514 (Red Hat 8.5.0-22)
RHEL9
Kernel: Depends on container host
Compiler: gcc 11.5.0 20240719 (Red Hat 11.5.0-2)
Ubuntu 20.04
Kernel: Depends on container host
Compiler: gcc (Ubuntu 9.4.0-1ubuntu1~20.04.2) 9.4.0
Ubuntu 24.04
Kernel: Depends on container host
Compiler: gcc (Ubuntu 13.3.0-6ubuntu2~24.04) 13.3.0
Ubuntu 22.04
Kernel: Depends on container host
Compiler: gcc (Ubuntu 11.4.0-1ubuntu1~22.04) 11.4.0
Alpine
Kernel: Depends on container host
Compiler: gcc (Alpine 14.2.0) 14.2.0
FreeBSD 13.4
Kernel: 13.4-RELEASE-p1
Compiler: clang 18.1.6
FreeBSD 14.2
Kernel: 14.2-RELEASE
Compiler: clang 18.1.6
Windows Server 2022
Kernel: 10.0.20348.2031
Compiler: clang 15.0.7, gcc 14.1.0 (MinGW), and MSVC VS 19.39.33521
To view detailed results, visit:
https://lab.dpdk.org/results/dashboard/patchsets/32632/
UNH-IOL DPDK Community Lab
To manage your email subscriptions, visit:
https://lab.dpdk.org/results/dashboard/preferences/subscriptions/
next prev parent reply other threads:[~2025-02-21 6:23 UTC|newest]
Thread overview: 41+ messages / expand[flat|nested] mbox.gz Atom feed top
[not found] <1740094322-10919-1-git-send-email-longli@linuxonhyperv.com>
2025-02-20 23:03 ` |SUCCESS| pw151772 [Patch v3] net/mana: use mana_local_data for tracking usage data for primary process qemudev
2025-02-20 23:07 ` qemudev
2025-02-20 23:33 ` |WARNING| " checkpatch
2025-02-21 0:44 ` |SUCCESS| " 0-day Robot
2025-02-21 2:36 ` |SUCCESS| pw151772 [PATCH] [v3] net/mana: use mana_local_data for tr dpdklab
2025-02-21 2:37 ` dpdklab
2025-02-21 2:38 ` dpdklab
2025-02-21 2:41 ` dpdklab
2025-02-21 3:15 ` dpdklab
2025-02-21 3:21 ` dpdklab
2025-02-21 3:30 ` |PENDING| " dpdklab
2025-02-21 3:33 ` |SUCCESS| " dpdklab
2025-02-21 3:42 ` dpdklab
2025-02-21 3:44 ` dpdklab
2025-02-21 3:44 ` dpdklab
2025-02-21 3:56 ` |PENDING| " dpdklab
2025-02-21 4:10 ` dpdklab
2025-02-21 4:11 ` dpdklab
2025-02-21 4:28 ` |SUCCESS| " dpdklab
2025-02-21 4:46 ` |PENDING| " dpdklab
2025-02-21 4:48 ` dpdklab
2025-02-21 4:56 ` |SUCCESS| " dpdklab
2025-02-21 4:56 ` dpdklab
2025-02-21 5:10 ` dpdklab
2025-02-21 5:10 ` dpdklab
2025-02-21 5:11 ` dpdklab
2025-02-21 5:13 ` dpdklab
2025-02-21 5:27 ` dpdklab
2025-02-21 5:27 ` |PENDING| " dpdklab
2025-02-21 5:31 ` dpdklab
2025-02-21 5:39 ` |SUCCESS| " dpdklab
2025-02-21 6:07 ` dpdklab
2025-02-21 6:07 ` dpdklab
2025-02-21 6:23 ` dpdklab [this message]
2025-02-21 6:25 ` dpdklab
2025-02-21 6:55 ` dpdklab
2025-02-21 6:55 ` dpdklab
2025-02-21 6:56 ` dpdklab
2025-02-21 6:56 ` dpdklab
2025-02-21 7:32 ` dpdklab
2025-02-21 17:40 ` dpdklab
Reply instructions:
You may reply publicly to this message via plain-text email
using any one of the following methods:
* Save the following mbox file, import it into your mail client,
and reply-to-all from there: mbox
Avoid top-posting and favor interleaved quoting:
https://en.wikipedia.org/wiki/Posting_style#Interleaved_style
* Reply using the --to, --cc, and --in-reply-to
switches of git-send-email(1):
git send-email \
--in-reply-to=67b81be7.170a0220.36f4d7.a3eaSMTPIN_ADDED_MISSING@mx.google.com \
--to=dpdklab@iol.unh.edu \
--cc=dpdk-test-reports@iol.unh.edu \
--cc=test-report@dpdk.org \
/path/to/YOUR_REPLY
https://kernel.org/pub/software/scm/git/docs/git-send-email.html
* If your mail client supports setting the In-Reply-To header
via mailto: links, try the mailto: link
Be sure your reply has a Subject: header at the top and a blank line
before the message body.
This is a public inbox, see mirroring instructions
for how to clone and mirror all data and code used for this inbox;
as well as URLs for NNTP newsgroup(s).