From mboxrd@z Thu Jan 1 00:00:00 1970 Return-Path: Received: from mails.dpdk.org (mails.dpdk.org [217.70.189.124]) by inbox.dpdk.org (Postfix) with ESMTP id 11AB446286 for ; Fri, 21 Feb 2025 07:23:38 +0100 (CET) Received: from mails.dpdk.org (localhost [127.0.0.1]) by mails.dpdk.org (Postfix) with ESMTP id D2E2D40647; Fri, 21 Feb 2025 07:23:37 +0100 (CET) Received: from mail-pl1-f227.google.com (mail-pl1-f227.google.com [209.85.214.227]) by mails.dpdk.org (Postfix) with ESMTP id 44F804029A for ; Fri, 21 Feb 2025 07:23:36 +0100 (CET) Received: by mail-pl1-f227.google.com with SMTP id d9443c01a7336-22100006bc8so30803815ad.0 for ; Thu, 20 Feb 2025 22:23:36 -0800 (PST) DKIM-Signature: v=1; a=rsa-sha256; c=relaxed/relaxed; d=iol.unh.edu; s=unh-iol; t=1740119015; x=1740723815; darn=dpdk.org; h=references:in-reply-to:cc:to:from:subject:message-id:date:from:to :cc:subject:date:message-id:reply-to; bh=JjY/gNmeCax3Yb2M+g9l2FLKJYvN0zFa/qSTdzbO8nE=; b=YjBOl3DpsVI1Cs4xL6mtiRqGrsr211wBLXopc2msthyr+vc99MhWix2ajScDLZLdD1 oNk2ce6/xUz2MOfJq6xGVB3GEJ0tMEOzFStyDQnl6EAz1tBJKxrRg0/ZC1q9nkOfQlLv xRv8DXj7lZuCardBTNE0kto3gp8s4gSVOMBAc= X-Google-DKIM-Signature: v=1; a=rsa-sha256; c=relaxed/relaxed; d=1e100.net; s=20230601; t=1740119015; x=1740723815; h=references:in-reply-to:cc:to:from:subject:message-id:date :x-gm-message-state:from:to:cc:subject:date:message-id:reply-to; bh=JjY/gNmeCax3Yb2M+g9l2FLKJYvN0zFa/qSTdzbO8nE=; b=m4KVmKUdFZcKwqpvpDgLZR1Mt+rbOSQyF2jNDKk3bvbvQdB0cXmY3XyT0dkcq2T/Sq zKiS3ESzZHjjLTg6f2lZVjNPGp21xdC0zjCv4MvLemMAtehiSRsDvVGrjlBR0yDLcpP2 NBm3isFVNEJAG7lKRMZrM27FBBwMUHKCMI2cxQETW2GxeoT/TrHLU+1ELL0SSWhBU03h liA22yvS5AkwcHy3a8wOe1sWDi3RF8Xjji4GgTpizdQFChwgCo2q7MPleZ0mA45XdVf5 +sIf9OVlTlw0SlTjBlxGHFzVS4jU5M5mwsWCNBmQud0lfENWWMHAKSxPyDQRb2eK6ogI gLsQ== X-Gm-Message-State: AOJu0Yxb+jJ85marglSOW1oLVb0t0XX8G0WnJVXniRP0BD6kNYR0+5hx VzDEICXOAE/YDHOf3HMtban0eQJ3ZLX8s+lDFjZDmgJPPc7A62/Q0kMKCTCD0Pyyc/rWhV/Di7o 7QsfzL4MAL6+xa5WQdYqpzyE9TvqcQteKBAxkhVLK6O3GsFmqJACN4PPv X-Gm-Gg: ASbGncs8ninGQPFZfPg1tFsDskHBpAPjQXgxqERrblVd4dnAWHiBeJ/4vncXnd6rkyC cpEtQbYh+ELEZ2uaKap50tIbsKB8hyiS2c67CIg5fWtPR5pZ0C8fI9JkBF85QFJGdyPjny7m0bG X5xHzLSSrieWMwp4lHUtNPFBWvzulGImev1H4Y0FWmWVj4z1eb2i5ZaJkYDnYykd4OxNOkhX42T w+wgNOAGxUlJsdeU/MQDfIhTAeXMK7rFZ1FkbHvMpgUM/AZ/NN6dZ/LMhHUnkd5/C2S8Ql4ytjr TWGptS5aKrYpgRxupmX7tAfYJt5PzpOvu7XecOM5dEQHFmIKqx6X X-Google-Smtp-Source: AGHT+IHsMnWMZe9OeEpUdUD9kpS/nPvr45fKhQUARSuYvEisjqJaX0SLXNlWQSjKMdUgRPHLDSVq7abjswM6 X-Received: by 2002:a17:903:22c5:b0:21f:9c48:254b with SMTP id d9443c01a7336-2219ff61bdcmr29724155ad.24.1740119015251; Thu, 20 Feb 2025 22:23:35 -0800 (PST) Received: from postal.iol.unh.edu (postal.iol.unh.edu. [2606:4100:3880:1234::84]) by smtp-relay.gmail.com with ESMTPS id d9443c01a7336-220d53082a3sm8393775ad.30.2025.02.20.22.23.35 (version=TLS1_2 cipher=ECDHE-ECDSA-AES128-GCM-SHA256 bits=128/128); Thu, 20 Feb 2025 22:23:35 -0800 (PST) X-Relaying-Domain: iol.unh.edu Date: Thu, 20 Feb 2025 22:23:35 -0800 (PST) Message-ID: <67b81be7.170a0220.36f4d7.a3eaSMTPIN_ADDED_MISSING@mx.google.com> Received: from [172.17.0.3] (unknown [172.18.0.217]) by postal.iol.unh.edu (Postfix) with ESMTP id D4A046052471; Fri, 21 Feb 2025 01:23:25 -0500 (EST) Subject: |SUCCESS| pw151772 [PATCH] [v3] net/mana: use mana_local_data for tr From: dpdklab@iol.unh.edu To: Test Report Cc: dpdk-test-reports@iol.unh.edu In-Reply-To: <1740094322-10919-1-git-send-email-longli@linuxonhyperv.com> References: <1740094322-10919-1-git-send-email-longli@linuxonhyperv.com> Content-Type: text/plain X-BeenThere: test-report@dpdk.org X-Mailman-Version: 2.1.29 Precedence: list List-Id: automatic DPDK test reports List-Unsubscribe: , List-Archive: List-Post: List-Help: List-Subscribe: , Errors-To: test-report-bounces@dpdk.org Test-Label: iol-compile-amd64-testing Test-Status: SUCCESS http://dpdk.org/patch/151772 _Testing PASS_ Submitter: Long Li Date: Thursday, February 20 2025 23:32:02 DPDK git baseline: Repo:dpdk Branch: master CommitID:3497d187f963e5fddca607637f6a42b8b944fa49 151772 --> testing pass Upstream job id: Windows-Compile-DPDK-VS#4995 Test environment and result as below: +---------------------+--------------------+-------------------+------------------+-------------------+ | Environment | dpdk_meson_compile | dpdk_compile_spdk | dpdk_compile_ovs | dpdk_msvc_compile | +=====================+====================+===================+==================+===================+ | CentOS Stream 9 | PASS | PASS | SKIPPED | SKIPPED | +---------------------+--------------------+-------------------+------------------+-------------------+ | CentOS Stream 10 | PASS | SKIPPED | SKIPPED | SKIPPED | +---------------------+--------------------+-------------------+------------------+-------------------+ | Debian Bullseye | PASS | PASS | SKIPPED | SKIPPED | +---------------------+--------------------+-------------------+------------------+-------------------+ | Debian 12 | PASS | PASS | SKIPPED | SKIPPED | +---------------------+--------------------+-------------------+------------------+-------------------+ | Fedora 40 | PASS | PASS | SKIPPED | SKIPPED | +---------------------+--------------------+-------------------+------------------+-------------------+ | Fedora 41 (Clang) | PASS | PASS | PASS | SKIPPED | +---------------------+--------------------+-------------------+------------------+-------------------+ | openSUSE Leap 15 | PASS | SKIPPED | SKIPPED | SKIPPED | +---------------------+--------------------+-------------------+------------------+-------------------+ | Fedora 41 | PASS | PASS | PASS | SKIPPED | +---------------------+--------------------+-------------------+------------------+-------------------+ | Fedora 40 (Clang) | PASS | PASS | SKIPPED | SKIPPED | +---------------------+--------------------+-------------------+------------------+-------------------+ | RHEL8 | PASS | SKIPPED | SKIPPED | SKIPPED | +---------------------+--------------------+-------------------+------------------+-------------------+ | RHEL9 | PASS | SKIPPED | SKIPPED | SKIPPED | +---------------------+--------------------+-------------------+------------------+-------------------+ | Ubuntu 20.04 | PASS | SKIPPED | SKIPPED | SKIPPED | +---------------------+--------------------+-------------------+------------------+-------------------+ | Ubuntu 24.04 | PASS | PASS | PASS | SKIPPED | +---------------------+--------------------+-------------------+------------------+-------------------+ | Ubuntu 22.04 | PASS | PASS | SKIPPED | SKIPPED | +---------------------+--------------------+-------------------+------------------+-------------------+ | Alpine | PASS | SKIPPED | SKIPPED | SKIPPED | +---------------------+--------------------+-------------------+------------------+-------------------+ | FreeBSD 13.4 | PASS | SKIPPED | SKIPPED | SKIPPED | +---------------------+--------------------+-------------------+------------------+-------------------+ | FreeBSD 14.2 | PASS | SKIPPED | SKIPPED | SKIPPED | +---------------------+--------------------+-------------------+------------------+-------------------+ | Windows Server 2022 | SKIPPED | SKIPPED | SKIPPED | PASS | +---------------------+--------------------+-------------------+------------------+-------------------+ CentOS Stream 9 Kernel: Depends on container host Compiler: gcc 11.5.0 20240719 (Red Hat 11.5.0-2) CentOS Stream 10 Kernel: Depends on container host Compiler: gcc 14.2.1 20241104 (Red Hat 14.2.1-6) Debian Bullseye Kernel: Depends on container host Compiler: gcc (Debian 10.2.1-6) 10.2.1 20210110 Debian 12 Kernel: Depends on container host Compiler: gcc (Debian 12.2.0-14) 12.2.0 Fedora 40 Kernel: Depends on container host Compiler: gcc 14.2.1 20240912 (Red Hat 14.2.1-3) Fedora 41 (Clang) Kernel: Depends on container host Compiler: clang 19.1.5 (Fedora 19.1.5-1.fc41) openSUSE Leap 15 Kernel: Depends on container host Compiler: gcc (SUSE Linux) 7.5.0 Fedora 41 Kernel: Depends on container host Compiler: gcc 14.2.1 20240912 (Red Hat 14.2.1-3) Fedora 40 (Clang) Kernel: Depends on container host Compiler: clang 18.1.8 (Fedora 18.1.8-1.fc40) RHEL8 Kernel: Depends on container host Compiler: gcc 8.5.0 20210514 (Red Hat 8.5.0-22) RHEL9 Kernel: Depends on container host Compiler: gcc 11.5.0 20240719 (Red Hat 11.5.0-2) Ubuntu 20.04 Kernel: Depends on container host Compiler: gcc (Ubuntu 9.4.0-1ubuntu1~20.04.2) 9.4.0 Ubuntu 24.04 Kernel: Depends on container host Compiler: gcc (Ubuntu 13.3.0-6ubuntu2~24.04) 13.3.0 Ubuntu 22.04 Kernel: Depends on container host Compiler: gcc (Ubuntu 11.4.0-1ubuntu1~22.04) 11.4.0 Alpine Kernel: Depends on container host Compiler: gcc (Alpine 14.2.0) 14.2.0 FreeBSD 13.4 Kernel: 13.4-RELEASE-p1 Compiler: clang 18.1.6 FreeBSD 14.2 Kernel: 14.2-RELEASE Compiler: clang 18.1.6 Windows Server 2022 Kernel: 10.0.20348.2031 Compiler: clang 15.0.7, gcc 14.1.0 (MinGW), and MSVC VS 19.39.33521 To view detailed results, visit: https://lab.dpdk.org/results/dashboard/patchsets/32632/ UNH-IOL DPDK Community Lab To manage your email subscriptions, visit: https://lab.dpdk.org/results/dashboard/preferences/subscriptions/