From mboxrd@z Thu Jan  1 00:00:00 1970
Return-Path: <test-report-bounces@dpdk.org>
Received: from mails.dpdk.org (mails.dpdk.org [217.70.189.124])
	by inbox.dpdk.org (Postfix) with ESMTP id 53EDC46286
	for <public@inbox.dpdk.org>; Fri, 21 Feb 2025 07:25:24 +0100 (CET)
Received: from mails.dpdk.org (localhost [127.0.0.1])
	by mails.dpdk.org (Postfix) with ESMTP id 38A7D40647;
	Fri, 21 Feb 2025 07:25:24 +0100 (CET)
Received: from mail-io1-f98.google.com (mail-io1-f98.google.com
 [209.85.166.98]) by mails.dpdk.org (Postfix) with ESMTP id DE0764029A
 for <test-report@dpdk.org>; Fri, 21 Feb 2025 07:25:22 +0100 (CET)
Received: by mail-io1-f98.google.com with SMTP id
 ca18e2360f4ac-854a682d2b6so131712739f.0
 for <test-report@dpdk.org>; Thu, 20 Feb 2025 22:25:22 -0800 (PST)
DKIM-Signature: v=1; a=rsa-sha256; c=relaxed/relaxed;
 d=iol.unh.edu; s=unh-iol; t=1740119122; x=1740723922; darn=dpdk.org;
 h=references:in-reply-to:cc:to:from:subject:message-id:date:from:to
 :cc:subject:date:message-id:reply-to;
 bh=Y+1h1WnRMeyVXYLsYzVIOHoosnFXof5JnfbVmszvIu0=;
 b=Y+/gIaaKV2nI0Aw+eTJos9rIxSKwBrvRmEZOkkjw2RkqxDSqSXV4N7y7qJSdO4uxlv
 CHUYAhxeWFQvk9ugAjQP6hVn1Jo+MfrJF1+RO8f9BS3w1GbPZ7Q5uo/lRzgJaTN/Purk
 hS63gB7owAb9LMmmjI+xoQ2U5wC+YEjJFAHaY=
X-Google-DKIM-Signature: v=1; a=rsa-sha256; c=relaxed/relaxed;
 d=1e100.net; s=20230601; t=1740119122; x=1740723922;
 h=references:in-reply-to:cc:to:from:subject:message-id:date
 :x-gm-message-state:from:to:cc:subject:date:message-id:reply-to;
 bh=Y+1h1WnRMeyVXYLsYzVIOHoosnFXof5JnfbVmszvIu0=;
 b=XPj87DfK5GUi0P4W+Rw5+Ge81322aqpHzlVxkmCDmq+EYqc6lcpuuJDcnkyCtxlv/T
 yKRZCnCiriR4bwIalg+0okq8RBvQQS6zjF2pIYjI8dh4H5gVNst75MU9FzgWsH0pGTEq
 BwE++aVTfbVCLVUEQVrKzkqFoGgL8l6gFRjrshwfLZGXNWK41gD+Qos8KeLDOrzXG06V
 EAEgW5RKLP7pEfWS3u8mBUXqvhNydy2mIK+hk7LopN1oPV1NkqABqsyC1saRWnYRH5f0
 Qtxe6wAXQLWp1IavwzrqXOIvmcEHXEJZBllYdcFKsNFhdWG79+zvjXjJazszbZ+k/R23
 LQHA==
X-Gm-Message-State: AOJu0Yw9KgJMH5/1liUD+DVMFDH5OWj3xPLaca4ODEIHYlIURors099r
 JGl6lmTBW8kNtgTjSClVPj2H7OgD0XZK4t31r36esSDqCe4T/9fyPZmyqfovsdvOAYeZ+K+plu8
 PNsNIvBtbA+1mG6KRx0CWLvZ83PsbJUOZHMrecmnDHsOM2n0dQuZdcmot
X-Gm-Gg: ASbGncsCckCKAVoPY4fWRCfKXCjGGum2ZXwmVCTdmCCLAcFXymIaaqFePC/QmKU0hCY
 eCxE+OS6J0Q+ZdrIda69qdaz3xPQ7RjIleJrIaPXpczBibmcKlFbwQ/dzHUaquFxG8xoD2+wMEs
 PSEc5+WEebXyqbxX53Ti1fXHe+Q/GVpdZ+WczuUn4mE5tqxAqf/Rj0lmtNSitg6SPFeMNI7TWZE
 LtAUHFC8xnEyzK48hcmm23Jsm/pe96/3geUUBGayZnt5cwT+rdgMk6bSP5RYV9E085ZtAor1Nrj
 skx9wjIbSPk7YuogfRayyGgJu7cw8uaC3uTdtxIRejQoCi9x6sWy
X-Google-Smtp-Source: AGHT+IEZXzvz0AR44Rva/vZtktWfuxZdAWbhBQBOwIPDrRHIFfIM5B4Et251d43TPT8UyBfZD/2x/TLijLZ0
X-Received: by 2002:a05:6602:3411:b0:855:a047:5ef8 with SMTP id
 ca18e2360f4ac-855daa78fc9mr192538439f.11.1740119122137; 
 Thu, 20 Feb 2025 22:25:22 -0800 (PST)
Received: from postal.iol.unh.edu (postal.iol.unh.edu.
 [2606:4100:3880:1234::84]) by smtp-relay.gmail.com with ESMTPS id
 ca18e2360f4ac-8559cf05d8dsm39777239f.30.2025.02.20.22.25.22
 (version=TLS1_2 cipher=ECDHE-ECDSA-AES128-GCM-SHA256 bits=128/128);
 Thu, 20 Feb 2025 22:25:22 -0800 (PST)
X-Relaying-Domain: iol.unh.edu
Date: Thu, 20 Feb 2025 22:25:22 -0800 (PST)
Message-ID: <67b81c52.050a0220.faf20.3763SMTPIN_ADDED_MISSING@mx.google.com>
Received: from [172.17.0.6] (unknown [172.18.0.217])
 by postal.iol.unh.edu (Postfix) with ESMTP id 4C2A66052471;
 Fri, 21 Feb 2025 01:25:19 -0500 (EST)
Subject: |SUCCESS| pw151772 [PATCH] [v3] net/mana: use mana_local_data for tr
From: dpdklab@iol.unh.edu
To: Test Report <test-report@dpdk.org>
Cc: dpdk-test-reports@iol.unh.edu
In-Reply-To: <1740094322-10919-1-git-send-email-longli@linuxonhyperv.com>
References: <1740094322-10919-1-git-send-email-longli@linuxonhyperv.com>
Content-Type: text/plain
X-BeenThere: test-report@dpdk.org
X-Mailman-Version: 2.1.29
Precedence: list
List-Id: automatic DPDK test reports <test-report.dpdk.org>
List-Unsubscribe: <https://mails.dpdk.org/options/test-report>,
 <mailto:test-report-request@dpdk.org?subject=unsubscribe>
List-Archive: <http://mails.dpdk.org/archives/test-report/>
List-Post: <mailto:test-report@dpdk.org>
List-Help: <mailto:test-report-request@dpdk.org?subject=help>
List-Subscribe: <https://mails.dpdk.org/listinfo/test-report>,
 <mailto:test-report-request@dpdk.org?subject=subscribe>
Errors-To: test-report-bounces@dpdk.org

Test-Label: iol-compile-arm64-testing
Test-Status: SUCCESS
http://dpdk.org/patch/151772

_Testing PASS_

Submitter: Long Li <longli@linuxonhyperv.com>
Date: Thursday, February 20 2025 23:32:02 
DPDK git baseline: Repo:dpdk
  Branch: master
  CommitID:3497d187f963e5fddca607637f6a42b8b944fa49

151772 --> testing pass

Upstream job id: Generic-DPDK-Compile-Meson#363761

Test environment and result as below:

+----------------------------------------+--------------------+
|              Environment               | dpdk_meson_compile |
+========================================+====================+
| RHEL9 (ARM)                            | PASS               |
+----------------------------------------+--------------------+
| Ubuntu 20.04 ARM SVE                   | PASS               |
+----------------------------------------+--------------------+
| Debian 12 with MUSDK                   | PASS               |
+----------------------------------------+--------------------+
| Ubuntu 20.04 ARM GCC Cross Compile     | PASS               |
+----------------------------------------+--------------------+
| Fedora 40 (ARM Clang)                  | PASS               |
+----------------------------------------+--------------------+
| Ubuntu 22.04 (ARM)                     | PASS               |
+----------------------------------------+--------------------+
| Ubuntu 20.04 (ARM)                     | PASS               |
+----------------------------------------+--------------------+
| Fedora 41 (ARM)                        | PASS               |
+----------------------------------------+--------------------+
| Fedora 41 (ARM Clang)                  | PASS               |
+----------------------------------------+--------------------+
| Ubuntu 24.04 (ARM)                     | PASS               |
+----------------------------------------+--------------------+
| CentOS Stream 10 (ARM)                 | PASS               |
+----------------------------------------+--------------------+
| Debian 11 (Buster) (ARM)               | PASS               |
+----------------------------------------+--------------------+
| Ubuntu 20.04 aarch32 GCC Cross Compile | PASS               |
+----------------------------------------+--------------------+
| Ubuntu 20.04 ARM Clang Cross Compile   | PASS               |
+----------------------------------------+--------------------+
| Fedora 40 (ARM)                        | PASS               |
+----------------------------------------+--------------------+
| Debian 12 (arm)                        | PASS               |
+----------------------------------------+--------------------+
| CentOS Stream 9 (ARM)                  | PASS               |
+----------------------------------------+--------------------+


RHEL9 (ARM)
	Kernel: Depends on container host
	Compiler: gcc 11.5.0 20240719 (Red Hat 11.5.0-2)

Ubuntu 20.04 ARM SVE
	Kernel: Depends on container host
	Compiler: gcc (Ubuntu 10.5.0-1ubuntu1~20.04) 10.5.0

Debian 12 with MUSDK
	Kernel: Depends on container host
	Compiler: gcc (Debian 12.2.0-14) 12.2.0

Ubuntu 20.04 ARM GCC Cross Compile
	Kernel: Depends on container host
	Compiler: aarch64-linux-gnu-gcc (Ubuntu 9.4.0-1ubuntu1~20.04.2) 9.4.0

Fedora 40 (ARM Clang)
	Kernel: Depends on container host
	Compiler: clang 18.1.8 (Fedora 18.1.8-1.fc40)

Ubuntu 22.04 (ARM)
	Kernel: Depends on container host
	Compiler: gcc (Ubuntu 11.4.0-1ubuntu1~22.04) 11.4.0

Ubuntu 20.04 (ARM)
	Kernel: Depends on container host
	Compiler: gcc (Ubuntu 9.4.0-1ubuntu1~20.04.2) 9.4.0

Fedora 41 (ARM)
	Kernel: Depends on container host
	Compiler: gcc 14.2.1 20240912 (Red Hat 14.2.1-3)

Fedora 41 (ARM Clang)
	Kernel: Depends on container host
	Compiler: clang 19.1.5 (Fedora 19.1.5-1.fc41)

Ubuntu 24.04 (ARM)
	Kernel: Depends on container host
	Compiler: gcc (Ubuntu 13.3.0-6ubuntu2~24.04) 13.3.0

CentOS Stream 10 (ARM)
	Kernel: Depends on container host
	Compiler: gcc 14.2.1 20241104 (Red Hat 14.2.1-6)

Debian 11 (Buster) (ARM)
	Kernel: Depends on container host
	Compiler: gcc (Debian 10.2.1-6) 10.2.1 20210110

Ubuntu 20.04 aarch32 GCC Cross Compile
	Kernel: Depends on container host
	Compiler: gcc 9.4.0

Ubuntu 20.04 ARM Clang Cross Compile
	Kernel: Depends on container host
	Compiler: clang 10.0.0-4ubuntu1

Fedora 40 (ARM)
	Kernel: Depends on container host
	Compiler: gcc 14.2.1 20240912 (Red Hat 14.2.1-3)

Debian 12 (arm)
	Kernel: Depends on container host
	Compiler: gcc (Debian 12.2.0-14) 12.2.0

CentOS Stream 9 (ARM)
	Kernel: Depends on container host
	Compiler: gcc 11.5.0 20240719 (Red Hat 11.5.0-2)

To view detailed results, visit:
https://lab.dpdk.org/results/dashboard/patchsets/32632/

UNH-IOL DPDK Community Lab

To manage your email subscriptions, visit: 
https://lab.dpdk.org/results/dashboard/preferences/subscriptions/